{"text_format":"1","workbook":"xlsx","n_sheets":8,"sheets":["Данные для расчета","Работы","1ый этап","1+2 этапы","Узлы","Проект до 250м² ","Проект до 500 м²","Проект более 500 м²"],"not_rendered":{"charts":0,"images":5,"macros":1,"external_links":0,"defined_names":15,"comments":3,"pivot_tables":0},"unopened":[],"bounds":{"document_bytes":16777216,"sheet_cells":100000,"rows_first":2000,"rows_last":500,"rows_between":2000,"halvings":0,"cell_chars":16384,"cell_head_chars":4096},"cells_cut":0,"cells_raw":0,"read":"whole","date_system":"1900"}

{"sheet":"Данные для расчета","index":0,"n_rows":22,"n_cols":7,"rows_kept":22,"cut":false,"hidden":false,"merged":[]}
[]
[]
[null,"Исходные данные для расчета"]
[null,"Монтаж системы воздуховодов","Стоимость",null,"Кол-во"]
[null,"ВБИТЬ НАИМЕНОВАНИЕ УСТАНОВКИ",245000,"р.",550,"м3/ч","вбить производительность и модель выбранной установки в м3/ч из счета"]
[null,"Воздуховод D75 SCHIBERG (50 м)",60000,"р.",null,null,"вбить стоимость из счета"]
[null,"Комплект прокладок, муфт, заглушек для гофрированного воздуховода",20000,"р.",null,null,"вбить стоимость из счета"]
[null,"Коллекторы (воздухораспределительные коробки)",35000,"р.",2,"шт.","вбить стоимость и кол-во из счета"]
[null,"Магистральные воздуховоды и фасонные изделия",40000,"р.",null,null,"вбить стоимость из счета оцинкованных воздуховодов"]
[null,"Тепло/шумо изоляция",30000,"р.",67,"м.п.","вбить сумму стоимость из счет и п.м. оцинкованных воздуховодов"]
[null,"Установка и подключение приточного/вытяжного диффузора",45000,"р.",14,null,"вбить стоимость из счета и кол-во диффузоров и решеток "]
[]
[]
[]
[]
[null,"Монтаж и обвязка ПВУ","Стоимость",null,"Кол-во"]
[null,"ВБИТЬ МОДЕЛЬ ЗАСЛОНКИ",24000,null,2,null,"вбить модель, стоимость и кол-во"]
[null,"ВБИТЬ МОДЕЛЬ ПРИТОЧНОЙ/ПРИТОЧНО-ВЫТЯЖНОЙ РЕШЕТКИ, ЦВЕТ",11500,null,1,null,"вбить модель, стоимость и кол-во"]
[null,"Шумоглушители и эл приводы",2580,null,2,null,"вбить модель, стоимость и кол-во"]
[null,"Монтаж выносного пульта/датчиков",null,null,1,null,"вбить кол-во датчиков и пульта"]
[null,"Кол-во магистральных линий от ПВУ до КШ",null,null,2,null,"вбить кол-во"]
[null,"Монтаж кровельного аэратора",null,null,1,null,"вбить кол-во"]

{"sheet":"Работы","index":1,"n_rows":21,"n_cols":7,"rows_kept":21,"cut":false,"hidden":false,"merged":[]}
[1,"0,7 коэф для одноэтажных домов в 1 этап\n"]
[null,"1 коэф для всех остальных"]
[null,"ОПЛАТА РАБОТ ПО ВЕНТИЛЯЦИИ прораб и бригада","Количество","цена за единицу БРИГАДА","Стоимость БРИГАДА","цена за единицу ПРОРАБ","Стоимость ПРОРАБ"]
[null,"Этап 1"]
[null,"Прокладка воздуховодов до приточного/вытяжного диффузора (комплект на диффузор) с установкой муфты",{"$f":"'Данные для расчета'!E5/30","v":18.333333333333332},{"$f":"3850*$A$1","v":3850},{"$f":"C5*D5","v":70583.333333333328},{"$f":"D5*0.2","v":770},{"$f":"C5*F5","v":14116.666666666666}]
[null,"Установка распределительной коробки и подключение воздуховодов",{"$f":"'Данные для расчета'!E8","v":2},{"$f":"3300*$A$1","v":3300},{"$f":"C6*D6","v":6600},{"$f":"D6*0.2","v":660},{"$f":"C6*F6","v":1320}]
[null,"Обклейка тепло/шумо изоляцией",{"$f":"'Данные для расчета'!E10","v":67},{"$f":"300*$A$1","v":300},20100,{"$f":"D7*0.2","v":60},4020]
[null,"Установка и подключение приточного/вытяжного диффузора",{"$f":"'Данные для расчета'!E11","v":14},{"$f":"770*$A$1","v":770},{"$f":"C8*D8","v":10780},{"$f":"D8*0.2","v":154},2156]
[null,"Итого этап 1",null,null,{"$f":"SUM(E4:E8)","v":108063.33333333333},null,{"$f":"SUM(G4:G8)","v":21612.666666666664}]
[]
[null,"Этап 2"]
[null,"Монтаж вентиляционной установки (включая все подключения)+ пробный запуск с настройкой",1,{"$f":"22000*$A$1","v":22000},{"$f":"C12*D12","v":22000},{"$f":"D12*0.2","v":4400},{"$f":"C12*F12","v":4400}]
[null,"Установка шумоглушителя",{"$f":"'Данные для расчета'!E19","v":2},{"$f":"2750*$A$1","v":2750},5500,550,1100]
[null,"Установка стенового вентиля Out/in с проходными отверстиями",{"$f":"'Данные для расчета'!E18","v":1},{"$f":"11000*$A$1","v":11000},11000,2200,2200]
[null,"Монтаж датчикаов влажности (комплект)/пульта",{"$f":"'Данные для расчета'!E20","v":1},{"$f":"1750*$A$1","v":1750},1750,350,350]
[null,"Прокладка трассы от установки до распределительной коробки (комплект)",{"$f":"'Данные для расчета'!E21","v":2},{"$f":"7150*$A$1","v":7150},14300,1430,2860]
[null,"Аэратор D250 на кровле, цвет стандарт",1,8433,8433,1686.6000000000001,1686.6000000000001]
[null,"Итого этап 2",null,null,{"$f":"SUM(E12:E16)","v":54550},null,{"$f":"SUM(G12:G17)","v":12596.6}]
[]
[]
[null,"Итого этап 1 + этап 2",null,null,{"$f":"E9+E18","v":162613.33333333331},null,{"$f":"G9+G18","v":34209.266666666663}]

{"sheet":"1ый этап","index":2,"n_rows":33,"n_cols":14,"rows_kept":33,"cut":false,"hidden":false,"merged":[[33,9,34,10],[19,0,19,6],[29,9,30,10],[0,0,0,6],[2,1,2,6],[3,0,3,6],[4,0,4,6],[1,0,1,6],[10,0,16,0],[6,9,6,10],[6,4,6,5],[7,2,7,3],[8,0,8,6],[17,2,17,3],[26,0,26,5],[17,14,18,14],[18,2,18,3],[10,9,16,9],[10,10,16,10],[24,0,24,5]]}
[]
["Приложение №    к Договору подряда №    ______________от_____________"]
[{"$f":"TODAY()","v":"2024-07-19"},"Данный сметный расчёт действителен 7 календарных дней. По истечению срока, цены могут быть изменены."]
["Сметный расчет Вентиляция"]
["Проектирование"]
["Материалы/услуги","Описание","Кол-во","Ед.изм","Мат-ал, руб","Работа, руб ","Итого, руб",null,"Материал","Бригада","Прораб","Итого","Рента","Стоимость проекта"]
["Проектные работы","Разработка документов для монтажа системы вентиляции",1,"услуга",{"$f":"J7/H7","v":48692.307692307688},null,{"$f":"E7","v":48692.307692307688},0.65,null,{"$f":"C7*N7","v":31650},null,{"$f":"J7","v":31650},null,31650]
["Итого:",null,null,null,null,null,{"$f":"G7","v":48692.307692307688},null,null,null,null,{"$f":"L7","v":31650},{"$f":"IF(G8=0,\"\",(G8-L8)/G8)","v":0.34999999999999992}]
["Приточно-вытяжная вентиляция"]
["Материалы/услуги","Описание","Кол-во","Ед.изм","Мат-ал, руб","Работа, руб ","Итого, руб",null,"Материал","Бригада","Прораб","Итого","Рента"]
["Монтаж системы приточно-вытяжных воздуховодов","Воздуховод D75 SCHIBERG (50 м)",1,"компл.",{"$f":"I11/H11*$J$33","v":75000},null,{"$f":"E11+F11","v":75000},0.8,{"$f":"'Данные для расчета'!C6*C11","v":60000},{"$f":"Работы!E9","v":108063.33333333333},{"$f":"Работы!G9","v":21612.666666666664},{"$f":"SUM(I11:K11)","v":189675.99999999997},{"$f":"IF(G11=0,\"\",(G11-I11)/G11)","v":0.2}]
[null,"Комплект прокладок, муфт, заглушек для гофрированного воздуховода",1,"компл.",25000,null,25000,0.8,{"$f":"'Данные для расчета'!C7*C12","v":20000},null,null,{"$f":"SUM(I12:K12)","v":20000},{"$f":"IF(G12=0,\"\",(G12-I12)/G12)","v":0.2}]
[null,"Коллекторы (воздухораспределительные коробки)",1,"компл.",43750,null,43750,0.8,{"$f":"'Данные для расчета'!C8*C13","v":35000},null,null,35000,0.2]
[null,"Магистральные воздуховоды и фасонные изделия",1,"компл.",57142.857142857145,null,{"$f":"E14+F14","v":57142.857142857145},0.7,{"$f":"'Данные для расчета'!C9*C14","v":40000},null,null,{"$f":"SUM(I14:K14)","v":40000},{"$f":"IF(G14=0,\"\",(G14-I14)/G14)","v":0.30000000000000004}]
[null,"Тепло/шумо изоляция",1,"компл.",37500,null,37500,0.8,{"$f":"'Данные для расчета'!C10*C15","v":30000},null,null,30000,0.2]
[null,"Установка диффузора/решётки, адаптера",1,"компл.",56250,null,56250,0.8,{"$f":"'Данные для расчета'!C11*C16","v":45000},null,null,45000,0.2]
[null,"Расходные материалы, крепёж",1,"компл.",6206.8965517241377,null,6206.8965517241377,0.72499999999999998,{"$f":"C17*Узлы!D117","v":4500},null,null,{"$f":"SUM(I17:K17)","v":4500},0.27499999999999997]
["Итого материал:                                                                                                                                                                                                                                                            ",null,null,null,null,null,{"$f":"SUM(E11:E17)","v":300849.75369458128},null,null,null,null,{"$f":"SUM(I11:I17)","v":234500},{"$f":"IF(G18=0,\"\",(G18-L18)/G18)","v":0.22054116009660649},{"$f":"(SUM(G18:G19)-SUM(L18:L19))/SUM(G18:G19)","v":0.44056833840820719}]
["Работа:",null,null,null,null,null,{"$f":"L19*2.7*K33","v":350125.2},null,null,null,null,{"$f":"J11+K11","v":129676},0.62962962962962965]
["Дополнительно"]
["Материалы/услуги","Описание","Кол-во","Ед.изм","Мат-ал, руб","Работа, руб ","Итого, руб",null,"Материал","Бригада","Прораб","Итого","Рента"]
["Проходные отверстия в плите","Алмазное сверление",5,"шт.",null,{"$f":"IF($C$22=0,0,\nIF($C$22<4,9000,\nIF($C$22>3,9000+2300*($C$22-3))))","v":13600},{"$f":"F22+E22","v":13600},null,null,null,{"$f":"IF($C$22=0,0,\nIF($C$22<4,6000,\nIF($C$22>3,6000+1700*($C$22-3))))","v":9400}]
["Подготовительные и накладные расходы","Приемка этапа работ инженерами технического надзора, соблюдение стандарта компании",1,"Усл.",null,31000,{"$f":"F23*C23","v":31000},null,null,{"$f":"1500+1500+1500+4200","v":8700},{"$f":"2500+800","v":3300},{"$f":"5500+6500","v":12000}]
["Транспортные расходы ","Доставка оборудования и материалов на объект",1,"усл.",null,{"$f":"L24/0.8","v":18750},{"$f":"F24","v":18750},null,null,5000,5000,15000]
["Итого по смете:",null,null,null,null,null,{"$f":"G8+G18+G19+SUM(G22:G24)","v":763017.26138688903},null,{"$f":"L18","v":234500},{"$f":"J11+SUM(J22:J24)","v":121763.33333333333},{"$f":"K11+SUM(K22:K24)","v":39312.666666666664},{"$f":"SUM(L22:L24,I25:K25)+L7","v":454226},{"$f":"(G27-L25)/G27","v":0.40469760910207764}]
["Скидка:",null,null,null,null,null,{"$f":"G25*M26","v":0}]
["Итого по смете со скидкой:",null,null,null,null,{"$f":"F25-G26","v":0},{"$f":"G25-G26","v":763017.26138688903}]
["* При выполнении разводки под потолком необходимо добавить декоративный короб. При выполнении разводки в межэтажном перекрытии необходима дополнительная обрешётка."]
["** ПНР  выполняется по факту готовности объекта"]
[null,null,null,null,null,null,{"$f":"Узлы!D1","v":"2024-03-20"},null,null,"Коэффициент для ренты"]
[]
[null,null,null,null,null,null,null,null,null,"Мат","Раб"]
[null,null,null,null,null,null,null,null,null,1,1]

{"sheet":"1+2 этапы","index":3,"n_rows":48,"n_cols":14,"rows_kept":48,"cut":false,"hidden":false,"merged":[[0,0,0,6],[1,0,1,6],[2,1,2,6],[3,0,3,6],[4,0,4,6],[17,2,17,3],[17,14,18,14],[18,2,18,3],[6,9,6,10],[7,2,7,3],[8,0,8,6],[10,0,16,0],[10,9,16,9],[10,10,16,10],[6,4,6,5],[39,0,39,5],[48,9,49,10],[19,0,19,6],[32,2,32,3],[41,0,41,5],[34,0,34,6],[44,9,45,10],[32,14,33,14],[33,2,33,3],[21,0,31,0],[21,9,31,9],[21,10,31,10]]}
[]
["Приложение №    к Договору подряда №    ______________от_____________"]
[{"$f":"TODAY()","v":"2024-07-19"},"Данный сметный расчёт действителен 7 календарных дней. По истечению срока, цены могут быть изменены."]
["Сметный расчет Вентиляция"]
["Проектирование"]
["Материалы/услуги","Описание","Кол-во","Ед.изм","Мат-ал, руб","Работа, руб ","Итого, руб",null,"Материал","Бригада","Прораб","Итого","Рента","Стоимость проекта"]
["Проектные работы","Разработка документов для монтажа системы вентиляции",1,"услуга",{"$f":"J7/H7","v":48692.307692307688},null,{"$f":"E7","v":48692.307692307688},0.65,null,{"$f":"C7*N7","v":31650},null,{"$f":"J7","v":31650},null,31650]
["Итого:",null,null,null,null,null,{"$f":"G7","v":48692.307692307688},null,null,null,null,{"$f":"L7","v":31650},{"$f":"IF(G8=0,\"\",(G8-L8)/G8)","v":0.34999999999999992}]
["Приточно-вытяжная вентиляция"]
["Материалы/услуги","Описание","Кол-во","Ед.изм","Мат-ал, руб","Работа, руб ","Итого, руб",null,"Материал","Бригада","Прораб","Итого","Рента"]
["Монтаж системы приточно-вытяжных воздуховодов","Воздуховод D75 SCHIBERG (50 м)",1,"компл.",{"$f":"I11/H11*$J$48","v":75000},null,{"$f":"E11+F11","v":75000},0.8,{"$f":"'Данные для расчета'!C6*C11","v":60000},{"$f":"Работы!E9","v":108063.33333333333},{"$f":"Работы!G9","v":21612.666666666664},{"$f":"SUM(I11:K11)","v":189675.99999999997},{"$f":"IF(G11=0,\"\",(G11-I11)/G11)","v":0.2}]
[null,"Комплект прокладок, муфт, заглушек для гофрированного воздуховода",1,"компл.",25000,null,25000,0.8,{"$f":"'Данные для расчета'!C7*C12","v":20000},null,null,{"$f":"SUM(I12:K12)","v":20000},{"$f":"IF(G12=0,\"\",(G12-I12)/G12)","v":0.2}]
[null,"Коллекторы (воздухораспределительные коробки)",1,"компл.",43750,null,43750,0.8,{"$f":"'Данные для расчета'!C8*C13","v":35000},null,null,35000,0.2]
[null,"Магистральные воздуховоды и фасонные изделия",1,"компл.",57142.857142857145,null,{"$f":"E14+F14","v":57142.857142857145},0.7,{"$f":"'Данные для расчета'!C9*C14","v":40000},null,null,{"$f":"SUM(I14:K14)","v":40000},{"$f":"IF(G14=0,\"\",(G14-I14)/G14)","v":0.30000000000000004}]
[null,"Тепло/шумо изоляция",1,"компл.",37500,null,37500,0.8,{"$f":"'Данные для расчета'!C10*C15","v":30000},null,null,30000,0.2]
[null,"Установка диффузора/решётки, адаптера",1,"компл.",56250,null,56250,0.8,{"$f":"'Данные для расчета'!C11*C16","v":45000},null,null,45000,0.2]
[null,"Расходные материалы, крепёж",1,"компл.",6206.8965517241377,null,6206.8965517241377,0.72499999999999998,{"$f":"C17*Узлы!D117","v":4500},null,null,{"$f":"SUM(I17:K17)","v":4500},0.27499999999999997]
["Итого материал:                                                                                                                                                                                                                                                            ",null,null,null,null,null,{"$f":"SUM(E11:E17)","v":300849.75369458128},null,null,null,null,{"$f":"SUM(I11:I17)","v":234500},{"$f":"IF(G18=0,\"\",(G18-L18)/G18)","v":0.22054116009660649},{"$f":"(SUM(G18:G19)-SUM(L18:L19))/SUM(G18:G19)","v":0.44056833840820719}]
["Работа:",null,null,null,null,null,{"$f":"L19*K48*2.7","v":350125.2},null,null,null,null,{"$f":"J11+K11","v":129676},0.62962962962962965]
["Приточно-вытяжная вентиляция"]
["Материалы/услуги","Описание","Кол-во","Ед.изм","Мат-ал, руб","Работа, руб ","Итого, руб",null,"Материал","Бригада","Прораб","Итого","Рента"]
["Монтаж и обвязка приточно-вытяжной установки",{"$f":"'Данные для расчета'!B5","v":"ВБИТЬ НАИМЕНОВАНИЕ УСТАНОВКИ"},1,"шт",{"$f":"I22/H22*$J$48","v":350000},null,{"$f":"E22+F22","v":350000},0.7,{"$f":"'Данные для расчета'!C5*C22","v":245000},{"$f":"Работы!E18","v":54550},{"$f":"Работы!G18","v":12596.6},{"$f":"SUM(I22:K22)","v":312146.59999999998},{"$f":"IF(G22=0,\"\",(G22-I22)/G22)","v":0.3}]
[null,{"$f":"'Данные для расчета'!B17","v":"ВБИТЬ МОДЕЛЬ ЗАСЛОНКИ"},1,"шт",34285.71428571429,null,{"$f":"E23+F23","v":34285.71428571429},0.7,{"$f":"'Данные для расчета'!C17*C23","v":24000},null,null,24000,{"$f":"IF(G23=0,\"\",(G23-I23)/G23)","v":0.3000000000000001}]
[null,"Комплект фильтров для первого обслуживания (Фильтр карманный F5, комплект 2 шт.)",1,"шт",2000.0000000000002,null,2000.0000000000002,0.7,{"$f":"C24*Узлы!D16","v":1400},null,null,1400,0.3000000000000001]
[null,{"$f":"'Данные для расчета'!B18","v":"ВБИТЬ МОДЕЛЬ ПРИТОЧНОЙ/ПРИТОЧНО-ВЫТЯЖНОЙ РЕШЕТКИ, ЦВЕТ"},1,"шт",16428.571428571431,null,16428.571428571431,0.7,{"$f":"'Данные для расчета'!C18*C25","v":11500},null,null,11500,{"$f":"IF(G25=0,\"\",(G25-I25)/G25)","v":0.3000000000000001}]
[null,{"$f":"Узлы!A140","v":"Аэратор D250 на кровле, цвет стандарт"},1,"шт",53557.894736842107,null,53557.894736842107,0.95,{"$f":"C26*50880","v":50880},null,null,50880,5.0000000000000031E-2]
[null,"Кронштейны для напольного/настенного крепления",1,"компл.",5942.8571428571431,null,{"$f":"E27+F27","v":5942.8571428571431},0.7,{"$f":"C27*Узлы!D97","v":4160},null,null,4160,0.30000000000000004]
[null,"Электроподключения установки, пульта, заслонок",1,"компл.",5892.8571428571431,null,{"$f":"E28+F28","v":5892.8571428571431},0.7,{"$f":"C28*Узлы!D118","v":4125},null,null,4125,0.30000000000000004]
[null,"Датчик СО2 ",1,"шт",9250,null,9250,0.7,{"$f":"C29*Узлы!D86","v":6475},null,null,6475,0.3]
[null,"Комплект шумоглушителей и дроссельных клапанов (2шумоглишителя, 2клапана)",1,"компл.",3685.7142857142858,null,3685.7142857142858,0.7,{"$f":"'Данные для расчета'!C19","v":2580},null,null,2580,0.3]
[null,"Магистральные воздуховоды и фасонные изделия",1,"компл.",57142.857142857145,null,57142.857142857145,0.7,{"$f":"'Данные для расчета'!C9*C31","v":40000},null,null,40000,0.30000000000000004]
[null,"Изоляция, крепеж, расходные материалы",1,"компл.",30841.428571428572,null,{"$f":"E32+F32","v":30841.428571428572},0.7,{"$f":"C32*Узлы!D131","v":21589},null,null,{"$f":"SUM(I32:K32)","v":21589},{"$f":"IF(G32=0,\"\",(G32-I32)/G32)","v":0.30000000000000004}]
["Итого материал:                                                                                                                                                                                                                                                            ",null,null,null,null,null,{"$f":"SUM(E22:E32)","v":569027.89473684202},null,null,null,null,{"$f":"SUM(I22:I32)","v":411709},{"$f":"IF(G33=0,\"\",(G33-L33)/G33)","v":0.27646956536216416},{"$f":"(SUM(G33:G34)-SUM(L33:L34))/SUM(G33:G34)","v":0.4283101386773196}]
["Работа:",null,null,null,null,null,{"$f":"L34*4*K48","v":268586.40000000002},null,null,null,null,{"$f":"J22+K22","v":67146.600000000006},0.75]
["Дополнительно"]
["Материалы/услуги","Описание","Кол-во","Ед.изм","Мат-ал, руб","Работа, руб ","Итого, руб",null,"Материал","Бригада","Прораб","Итого","Рента"]
["Проходные отверстия в плите","Алмазное сверление",5,"шт.",null,{"$f":"IF($C$37=0,0,\nIF($C$37<4,9000,\nIF($C$37>3,9000+2300*($C$37-3))))","v":13600},{"$f":"F37+E37","v":13600},null,null,{"$f":"IF($C$37=0,0,\nIF($C$37<4,6000,\nIF($C$37>3,6000+1700*($C$37-3))))","v":9400}]
["Подготовительные и накладные расходы","Приемка этапа работ инженерами технического надзора, соблюдение стандарта компании. Пуско-наладочные работы",1,"Усл.",null,31000,{"$f":"F38*C38","v":31000},null,null,{"$f":"1500+1500+1500+4200+13750+13750","v":36200},{"$f":"2500+800+2750","v":6050},{"$f":"5500+6500","v":12000}]
["Транспортные расходы ","Доставка оборудования и материалов на объект",1,"усл.",null,{"$f":"L39/0.8","v":18750},{"$f":"F39","v":18750},null,null,5000,5000,15000]
["Итого по смете:",null,null,null,null,{"$f":"SUM(F33:G34,G37:G39,#REF!)","v":{"$error":"#REF!"}},{"$f":"G8+G33+G34+G37+G38+G39+G18+G19","v":1600631.556123731},null,{"$f":"L18+L33","v":646209},{"$f":"J11+J22+SUM(J37:J39)","v":213213.33333333331},{"$f":"K11+K22+SUM(K37:K39)","v":45259.266666666663},{"$f":"SUM(L37:L39,I40:K40)+L8","v":963331.59999999986},{"$f":"(G42-L40)/G42","v":0.39815531168652468}]
["Скидка:",null,null,null,null,null,{"$f":"G40*M41","v":0}]
["Итого по смете со скидкой:",null,null,null,null,{"$f":"F40-G41","v":{"$error":"#REF!"}},{"$f":"G40-G41","v":1600631.556123731}]
["* При выполнении разводки под потолком необходимо добавить декоративный короб. При выполнении разводки в межэтажном перекрытии необходима дополнительная обрешётка."]
["** ПНР  выполняется по факту готовности объекта"]
[null,null,null,null,null,null,{"$f":"Узлы!D1","v":"2024-03-20"},null,null,"Коэффициент для ренты"]
[]
[null,null,null,null,null,null,null,null,null,"Мат","Раб"]
[null,null,null,null,null,null,null,null,null,1,1]

{"sheet":"Узлы","index":4,"n_rows":179,"n_cols":8,"rows_kept":179,"cut":false,"hidden":false,"merged":[[99,4,103,4],[105,4,114,4]]}
["С электрическим догревателем:",null,null,"2024-03-20"]
[null,"Розничная цена","Скидка","Цена Гуд Вуд "]
["1. Приточно-вытяжная установка Zenit Standart 300 Е с 2ступ рекуператором, электронагревателем, автоматикой",252000,0.3,{"$f":"B3*(1-C3)","v":176400}]
["Заслонка D160 с электроприводом и возвратной пружиной",20100,0.3,{"$f":"B4*(1-C4)","v":14070}]
["Блок охлаждения:"]
["NEW COOL-BOX i 160D-400 2,0 кВ",79000,0.3,{"$f":"B6*(1-C6)","v":55300}]
["ККБ NEW COOL-BOX k 2.0",62000,0.3,{"$f":"B7*(1-C7)","v":43400}]
["Комплект фильтров для первого обслуживания (Фильтр карманный F5)",1800,0.3,{"$f":"B8*(1-C8)","v":1260}]
["Комбинированная приточно-вытяжная решётка 160D",7000,0.3,{"$f":"B9*(1-C9)","v":4900}]
[]
["1. Приточно-вытяжная установка Zenit 500 Standart EL/EL Е  2ст рекуператором, с электронагревателем, автоматикой",298000,0.3,{"$f":"B11*(1-C11)","v":208600}]
["Заслонка D200 с электроприводом и возвратной пружиной",20600,0.3,{"$f":"B12*(1-C12)","v":14419.999999999998}]
["Блок охлаждения:"]
["NEW COOL-BOX i 200D-600 2,5 кВт",81000,0.3,56700]
["ККБ NEW COOL-BOX k 2.5",71000,0.3,49700]
["Комплект фильтров для первого обслуживания (Фильтр карманный F5, комплект 2 шт.)",2000,0.3,1400]
["Комбинированная приточно-вытяжная решётка 200D",8500,0.3,5950]
[]
["1. Приточно-вытяжная установка Zenit 700 Standart EL/EL Е  2ст рекуператором, с электронагревателем, автоматикой",310000,0.3,217000]
["Заслонка D250 с электроприводом и возвратной пружиной",23400,0.3,16379.999999999998]
["Блок охлаждения:"]
["NEW COOL-BOX i 250D-1000 3,5 кВт",106000,0.3,74200]
["ККБ NEW COOL-BOX k 3.5",92000,0.3,64399.999999999993]
["Комплект фильтров для первого обслуживания (Фильтр карманный F5, комплект 2 шт.)",2500,0.3,1750]
["Комбинированная приточно-вытяжная решётка 250D",10000,0.3,7000]
[]
["1. Приточно-вытяжная установка Zenit 350 HECO EL/EL Е с 3ступ рекуперацией с электронагревателем, автоматикой",265000,0.3,185500]
["Заслонка D160 с электроприводом и возвратной пружиной",20100,0.3,14070]
["Блок охлаждения:"]
["NEW COOL-BOX i 160D-400 2,0 кВ",79000,0.3,55300]
["ККБ NEW COOL-BOX k 2.0",62000,0.3,43400]
["Комплект фильтров для первого обслуживания (Фильтр карманный F5)",1800,0.3,1260]
["Комбинированная приточно-вытяжная решётка 160D",7000,0.3,4900]
[]
["1. Приточно-вытяжная установка Zenit 550 HECO EL/EL E с рекуперацией с электронагревателем, автоматикой",295000,0.3,206500]
["Заслонка D200 с электроприводом и возвратной пружиной",20600,0.3,14419.999999999998]
["Блок охлаждения:"]
["NEW COOL-BOX i 200D-600 2,5 кВт",81000,0.3,56700]
["ККБ NEW COOL-BOX k 2.5",71000,0.3,49700]
["Комплект фильтров для первого обслуживания (Фильтр карманный F5, комплект 2 шт.)",2000,0.3,1400]
["Комбинированная приточно-вытяжная решётка 200D",8500,0.3,5950]
[]
["1. Приточно-вытяжная установка Zenit 750 HECO EL/EL E с рекуперацией с электронагревателем, автоматикой",468000,0.3,327600,null,430000]
["Заслонка D250 с электроприводом и возвратной пружиной",23400,0.3,16379.999999999998,null,16100]
["Блок охлаждения:"]
["NEW COOL-BOX i 250D-1000 3,5 кВт",106000,0.3,74200,null,80000]
["ККБ NEW COOL-BOX k 3.5",92000,0.3,64399.999999999993,null,87000]
["Комплект фильтров для первого обслуживания (Фильтр карманный F5, комплект 2 шт.)",2750,0.3,1924.9999999999998,null,2750]
["Комбинированная приточно-вытяжная решётка 250D",10000,0.3,7000,null,12350]
[]
["С водяным догревателем:"]
["1. Приточно-вытяжная установка Zenit 700 Standart EL/EL W  2ст рекуператором, с водяным нагревателем и смесительным узлом, автоматикой",427000,0.3,{"$f":"B52*(1-C52)","v":298900}]
["Заслонка D250 с электроприводом и возвратной пружиной",20100,0.3,{"$f":"B53*(1-C53)","v":14070}]
["Блок охлаждения:",null,null,{"$f":"B54*0.7","v":0}]
["NEW COOL-BOX i 250D-1000 3,5 кВт",106000,0.3,{"$f":"B55*(1-C55)","v":74200}]
["ККБ NEW COOL-BOX k 3.5",92000,0.3,{"$f":"B56*(1-C56)","v":64399.999999999993}]
["Блок увлажнителя:"]
["HumiBox Pump 3",87000,0.3,{"$f":"B58*(1-C58)","v":60899.999999999993}]
["HumiBox 1000",129000,0.3,{"$f":"B59*(1-C59)","v":90300}]
["Комплект фильтров для первого обслуживания (Фильтр карманный F5, комплект 2 шт.)",2500,0.3,{"$f":"B60*(1-C60)","v":1750}]
["Комбинированная приточно-вытяжная решётка 250D",10000,0.3,{"$f":"B61*(1-C61)","v":7000}]
[]
["1. Приточно-вытяжная установка Zenit 550 HECO EL/EL W с рекуперацией с водяным нагревателем и смесительным узлом, автоматикой",420000,0.3,{"$f":"B63*(1-C63)","v":294000}]
["Заслонка D200 с электроприводом и возвратной пружиной",20600,0.3,{"$f":"B64*(1-C64)","v":14419.999999999998}]
["Блок охлаждения:"]
["NEW COOL-BOX i 200D-600 2,5 кВт",81000,0.3,{"$f":"B66*(1-C66)","v":56700}]
["ККБ NEW COOL-BOX k 2.5",71000,0.3,{"$f":"B67*(1-C67)","v":49700}]
["Блок увлажнителя:"]
["HumiBox Pump 3",87000,0.3,{"$f":"B69*(1-C69)","v":60899.999999999993}]
["HumiBox 600",91000,0.3,{"$f":"B70*(1-C70)","v":63699.999999999993}]
["Комплект фильтров для первого обслуживания (Фильтр карманный F5, комплект 2 шт.)",2000,0.3,{"$f":"B71*(1-C71)","v":1400}]
["Комбинированная приточно-вытяжная решётка 200D",8500,0.3,{"$f":"B72*(1-C72)","v":5950}]
[]
["1. Приточно-вытяжная установка Zenit 750 HECO EL/EL W с рекуперацией с электронагревателем, автоматикой",612000,0.3,{"$f":"B74*(1-C74)","v":428400}]
["Заслонка D250 с электроприводом и возвратной пружиной",23400,0.3,{"$f":"B75*(1-C75)","v":16379.999999999998}]
["Блок охлаждения:"]
["NEW COOL-BOX i 250D-1000 3,5 кВт",106000,0.3,{"$f":"B77*(1-C77)","v":74200}]
["ККБ NEW COOL-BOX k 3.5",92000,0.3,{"$f":"B78*(1-C78)","v":64399.999999999993}]
["Блок увлажнителя:"]
["HumiBox Pump 3",87000,0.3,{"$f":"B80*(1-C80)","v":60899.999999999993}]
["HumiBox 1000",129000,0.3,{"$f":"B81*(1-C81)","v":90300}]
["Комплект фильтров для первого обслуживания (Фильтр карманный F5, комплект 2 шт.)",2750,0.3,{"$f":"B82*(1-C82)","v":1924.9999999999998}]
["Комбинированная приточно-вытяжная решётка 250D",10000,0.3,{"$f":"B83*(1-C83)","v":7000}]
[]
["Датчики СО2 и автоматика:"]
["Встроенный в установку датчик CO2",9250,0.3,{"$f":"B86*(1-C86)","v":6475}]
["Встроенный в установку датчик Stereo VAV",8650,0.3,6055]
["Встроенный в установку датчик VAV",5000,0.3,3500]
["Пульт в сборе",22000,0.3,15399.999999999998]
[]
["Воздуховод гофрированный 2-х слойный в бухте D75, 50м ",25000,0.2,{"$f":"B91*(1-C91)","v":20000}]
["Муфты D75 для подключения диффузоров",350,0.2,280]
["Фланец Schiberg d75 мм",500,0.2,400]
["Заглушка Schiberg d75",150,0.2,120]
["Дроссель для гофрир. воздуховода Schiberg d75",150,0.2,120]
["Муфта соединительная Schiberg d75 - 300 руб",350,0.2,280]
["Кронштейны для напольного/настенного крепления - (кронштейн настенный, 4 виброопоры, площадка крепежная)",5200,0.2,4160]
[]
["Комплект шумоглушителей и дроссельных клапанов:    "]
["Заслонка 125 с приводом и возвратной пружиной ",19300,{"$f":"$C$91","v":0.2},{"$f":"B100*(1-C100)","v":15440},{"$f":"SUM(D100:D104)/5","v":17360}]
["Заслонка 160 с приводом и возвратной пружиной ",20100,0.2,{"$f":"B101*(1-C101)","v":16080}]
["Заслонка 200 с приводом и возвратной пружиной ",20600,0.2,{"$f":"B102*(1-C102)","v":16480}]
["Заслонка 250 с приводом и возвратной пружиной ",23400,0.2,{"$f":"B103*(1-C103)","v":18720}]
["Заслонка 315 с приводом и возвратной пружиной ",25100,0.2,{"$f":"B104*(1-C104)","v":20080}]
[null,null,null,null,null,"Используемые ШГ"]
["Шумоглушитель для круглых каналов Д125/900",5700,0.2,{"$f":"B106*(1-C106)","v":4560},{"$f":"SUM(D106:D115)/10","v":5896}]
["Шумоглушитель для круглых каналов Д160/900",6700,0.2,5360]
["Шумоглушитель для круглых каналов Д200/900",7900,0.2,6320,null,{"$f":"D108","v":6320}]
["Шумоглушитель для круглых каналов Д250/900",9400,0.2,7520,null,{"$f":"D109","v":7520}]
["Шумоглушитель для круглых каналов Д315/900",13000,0.2,10400,null,{"$f":"D110","v":10400}]
["Шумоглушитель для круглых каналов Д125/600",4100,0.2,3280]
["Шумоглушитель для круглых каналов Д160/600",4900,0.2,3920]
["Шумоглушитель для круглых каналов Д200/600",5700,0.2,4560]
["Шумоглушитель для круглых каналов Д250/600",6800,0.2,5440]
["Шумоглушитель для круглых каналов Д315/600",9500,0.2,7600]
[]
["Расходные материалы, крепёж на первый этап",null,null,4500,"цена примерная со слов Виктора"]
["Электроматериал для подключения вент.установки",null,null,{"$f":"16500/4","v":4125},"узел электрики на ПНР /4 со слов Виктора"]
["Комплект из счёта *2 ",null,null,{"$f":"$G$119","v":19398},"согласно счёта (см. правее)",null,19398,"Шумоглушители, дроссельные клапаны, гибкие вставки 2 этап"]
[]
["Коллектор (воздухораспределительная коробка) на 4-6 выходов",8400,0.15,{"$f":"B121*(1-C121)","v":7140},"Письмо Турков от 05.10.2023"]
["Коллектор (воздухораспределительная коробка) на 8-10 выходов",9800,0.15,{"$f":"B122*(1-C122)","v":8330}]
["Коллектор (воздухораспределительная коробка) на 12 выходов",13800,0.15,{"$f":"B123*(1-C123)","v":11730}]
["Коллектор (воздухораспределительная коробка) на 16 выходов",18400,0.15,{"$f":"B124*(1-C124)","v":15640}]
["Коллектор (воздухораспределительная коробка) на 20 выходов",25000,0.15,{"$f":"B125*(1-C125)","v":21250}]
[]
["Адаптеры для подключения плоских решеток (длина до 500)",{"$f":"5400+1700","v":7100},0.15,{"$f":"B127*(1-C127)","v":6035},"Оптимум Lx150x10"]
["Адаптеры для подключения плоских решеток (нестандарт длина 600-800)",{"$f":"7200+1700","v":8900},0.15,{"$f":"B128*(1-C128)","v":7565},"Оптимум Lx150x10"]
[]
["Магистральные воздуховоды и фасонные изделия",{"$f":"$G$179","v":34439},null,{"$f":"B130","v":34439},"согласно счёта (см. правее ниже)"]
["Изоляция, крепеж, расходные материалы",{"$f":"$G$136","v":21589},null,{"$f":"B131","v":21589},"согласно ЗНО (см. правее ниже)"]
[]
["Пленум SCHIBERG (для кругл. диффузоров)",4600,0.15,{"$f":"B133*(1-C133)","v":3910}]
[]
["Установка круглого диффузора",null,null,3000,"среднее значение"]
["Установка прямоугольной решётки (до 500мм) в адаптер, материал",{"$f":"9100","v":9100},0.15,{"$f":"B136*(1-C136)","v":7735},"Оптимум Lx150x10",null,21589,"Изоляция 2 этап"]
["Нестандартная решётка",11880,0.15,{"$f":"B137*(1-C137)","v":10098}]
[]
["Наружная накладная решетка 300*300",null,null,1500,"РэдВент \nСчет на оплату № 28725 от 31 октября 2023 г."]
["Аэратор D250 на кровле, цвет стандарт",null,null,18000]
[]
[]
[]
[]
[]
[]
[]
[]
[]
[]
[]
[]
[]
[]
[]
[]
[]
[]
[]
[]
[]
[]
[]
[]
[]
[]
[]
[]
[]
[]
[]
[]
[]
[]
[]
[]
[]
[]
[null,null,null,null,null,null,34439,"Оцинковка  2 этап"]

{"sheet":"Проект до 250м² ","index":5,"n_rows":54,"n_cols":15,"rows_kept":54,"cut":false,"hidden":false,"merged":[[22,8,22,9],[1,0,1,5],[23,6,23,8],[12,10,13,14],[1,10,1,14],[4,6,4,8],[6,6,6,8],[9,10,10,14],[18,6,18,8],[21,6,21,8],[42,1,42,3],[42,4,42,5],[43,1,43,3],[43,4,43,5],[25,6,25,8],[41,0,41,5],[29,6,29,8],[30,6,30,8],[52,4,52,5],[53,4,53,5],[54,1,54,5],[46,1,46,5],[47,1,47,5],[48,4,48,5],[49,4,49,5],[50,4,50,5],[51,4,51,5]]}
[]
["Прайс-лист на проектные работы квартиры и дома до 250 м²",null,null,null,null,null,null,null,null,null,"Итоговое коммереское предложение"]
[1,"Предварительная стадия  ",null,null,null,"Сумма",null,null,null,null,1,"Предварительная стадия  ","шт",1,{"$f":"F9","v":10800}]
["1.1","Сбор исходных данных","шт",1,3600,{"$f":"E4*D4","v":3600},null,null,null,null,2,"Раздел вентиляции","м2",{"$f":"D11","v":109.29},{"$f":"F18","v":25016.46}]
["1.2","Выезд на объект (в пределах МКАД)","шт",0,6000,{"$f":"E5*D5","v":0},"Убирается из сметы при отсутвии потребности выезда",null,null,null,3,"Раздел кондиционирования","м2",{"$f":"D23","v":0},{"$f":"F30","v":0}]
["1.3","Составление технического задания вентиляция","шт",1,4800,{"$f":"E6*D6","v":4800},null,null,null,null,4,"Раздел увлажнения","м2",{"$f":"D11","v":109.29},{"$f":"F32+F33","v":0}]
["1.4","Составление технического задания кондиционирование","шт",0,4800,{"$f":"E7*D7","v":0},"Убирается из сметы при отсутвии кондиционирования",null,null,null,null,"ИТОГО по предложению",null,null,{"$f":"SUM(O3:O6)","v":35816.46}]
["1.5","Отправка проекта и документов","шт",1,2400,{"$f":"E8*D8","v":2400}]
[null,"ИТОГО по предварительной стадии:",null,null,null,{"$f":"SUM(F4:F8)","v":10800}]
[2,"Проект вентиляции",null,null,null,"Сумма"]
["2.1","Расчет и утверждение воздухообмена","м²",{"$f":"58.45+55.73-2.7-2.19","v":109.29},{"$f":"20*1.2","v":24},{"$f":"E11*D11","v":2622.96}]
["2.2","Подбор оборудования вентиляции","м²",109.29,{"$f":"20*1.2","v":24},2622.96]
["2.3","Планы системы вентиляции","м²",109.29,{"$f":"30*1.2","v":36},3934.44,null,null,null,null,"Заказчику направлять только данный вариант КП, подробную смету только при доп. запросе заказчика"]
["2.4","Спецификация вентиляции","м²",109.29,{"$f":"35*1.2","v":42},4590.18]
["2.5","Изометрическая схема вентиляция","м²",109.29,{"$f":"20*1.2","v":24},2622.96]
["2.6","Техническое задание на подключение силового электропитания и план автоматизации","м²",109.29,{"$f":"20*1.2","v":24},2622.96]
["2.7","Изготовление пояснительной записки","шт",1,{"$f":"5000*1.2","v":6000},{"$f":"E17*D17","v":6000}]
[null,"ИТОГО за раздел вентиляции:",null,null,null,{"$f":"SUM(F11:F17)","v":25016.46}]
[3,"Проект кондиционирования",null,null,null,"Сумма","Указывать площадь ТОЛЬКО обслуживаемых помещений (Σ спален, детских, кабинетов)"]
["3.1","Расчет теплопритоков","м²",0,{"$f":"30*1.2","v":36},{"$f":"D20*E20","v":0}]
["3.2","Подбор оборудования кондиционирования","м²",0,{"$f":"20*1.2","v":24},{"$f":"D21*E21","v":0}]
["3.3","Планы системы канального кондиционирования","м²",0,{"$f":"35*1.2","v":42},0,"Убирается из сметы при отсутвии канального кондиционирования"]
["3.4","Планы системы фреонового трубопровода и дренажа","м²",0,{"$f":"30*1.2","v":36},0]
["3.5","Спецификация вентразводки канального кондиционирования","м²",0,{"$f":"20*1.2","v":24},0,"Убирается из сметы при отсутвии канального кондиционирования"]
["3.6","Спецификация фреонового трубопровода и дренажа","м²",0,{"$f":"20*1.2","v":24},0]
["3.7","Изометрическая схема вентразводки канального кондиционирования","м²",0,{"$f":"20*1.2","v":24},0,"Убирается из сметы при отсутвии канального кондиционирования"]
["3.8","Изометрическая схема фреонового трубопровода и дренажа","м²",0,{"$f":"20*1.2","v":24},0]
["3.9","Техническое задание на подключение силового электропитания и  автоматизации  кондиционирования","м²",0,{"$f":"20*1.2","v":24},0]
["3.10","Изготовление пояснительной записки","шт",0,{"$f":"5000*1.2","v":6000},0]
[null,"ИТОГО за раздел кондиционирования:",null,null,null,{"$f":"SUM(F20:F29)","v":0},"при потребности в центральном охладителе в проекте в ячейке площадь указывать 0 м², стоимость давать фиксированную 10 000 руб."]
[4,"Проект увлажнения",null,null,null,"Сумма","При расчете проекта увлажнения выбрать корректную площадь из предложенных вариантов "]
["4.1","Объект менее 100 м²","шт",0,15000,{"$f":"E32*D32","v":0}]
["4.2","Объект более 100 м² до 250 м²","шт",0,10000,{"$f":"E33*D33","v":0}]
[null,"ИТОГО по предложению",null,null,null,{"$f":"(F9+F18+F30+F32+F33)","v":35816.46}]
[]
[]
[5,"ОПЦИОНАЛЬНО",null,null,null,"Сумма"]
["5.1","Дополнительная рабочая встреча","шт",1,{"$f":"5000*1.2","v":6000},{"$f":"E38*D38","v":6000}]
["5.2","VAV система","шт",1,{"$f":"10000*1.2","v":12000},{"$f":"E39*D39","v":12000}]
["5.3","Выезд на объект до 50км от МКАД","шт",1,{"$f":"8000*1.2","v":9600},{"$f":"E40*D40","v":9600}]
[]
["При нестандартных объектах суммы разделов умножать на дополнительный коэффициент"]
["1","Коммерческие и административные помещения",null,null,0.7]
["2","Фахверк",null,null,1.5]
[]
[]
[null,"Примечания:"]
["1","Возможно изготовление монтажной схемы. Тогда позиции, общие данные, пояснительная записка, изометрические схемы вычитаются из стоимости проекта"]
["2","Средняя цена за 1 м²",null,"м²","руб/м²"]
[null,"Проект вентиляции ",null,{"$f":"D15","v":109.29},{"$f":"F18/D50","v":228.89980785067249}]
[null,"Проект канального кондиционирования",null,{"$f":"D22","v":0},{"$f":"F30/D51","v":{"$error":"#DIV/0!"}}]
[null,"Проект настенного кондиционирования",null,{"$f":"D20","v":0},{"$f":"F30/D52","v":{"$error":"#DIV/0!"}}]
[null,"Проект увлажнения",null,{"$f":"D11","v":109.29},{"$f":"(F32+F33)/D53","v":0}]
[3,"ОБЩАЯ СТОИМОСТЬ",null,null,{"$f":"F34/D11","v":327.71946198188306}]

{"sheet":"Проект до 500 м²","index":6,"n_rows":52,"n_cols":15,"rows_kept":52,"cut":false,"hidden":false,"merged":[[20,12,20,14],[1,0,1,5],[1,10,1,14],[4,6,4,8],[6,6,6,8],[11,10,12,14],[16,12,16,14],[17,12,17,14],[41,1,41,3],[41,4,41,5],[18,6,18,8],[44,1,44,5],[25,12,25,14],[21,6,21,8],[21,12,21,14],[18,12,18,14],[29,6,29,8],[39,0,39,5],[40,1,40,3],[40,4,40,5],[22,12,22,14],[23,6,23,8],[24,12,24,14],[25,6,25,8],[51,4,51,5],[45,1,45,5],[46,4,46,5],[47,4,47,5],[48,4,48,5],[49,4,49,5],[50,4,50,5]]}
[]
["Прайс-лист на проектные работы квартиры и дома от 250 м² до 500 м²",null,null,null,null,null,null,null,null,null,"Итоговое коммереское предложение"]
[1,"Предварительная стадия  ",null,null,null,"Сумма",null,null,null,null,1,"Предварительная стадия  ","шт",1,{"$f":"F9","v":15600}]
["1.1","Сбор исходных данных","шт",1,{"$f":"3000*1.2","v":3600},{"$f":"E4*D4","v":3600},null,null,null,null,2,"Раздел вентиляции","м²",{"$f":"D11","v":463},{"$f":"F18","v":79894.8}]
["1.2","Выезд на объект (в пределах МКАД)","шт",0,8000,{"$f":"E5*D5","v":0},"Убирается из сметы при отсутвии потребности выезда",null,null,null,3,"Раздел кондиционирования","м²",{"$f":"D20","v":282},{"$f":"F30","v":47284.800000000003}]
["1.3","Составление технического задания вентиляция","шт",1,{"$f":"4000*1.2","v":4800},{"$f":"E6*D6","v":4800},null,null,null,null,4,"Раздел увлажнения","м²",{"$f":"D11","v":463},{"$f":"F32","v":0}]
["1.4","Составление технического задания кондиционирование","шт",1,{"$f":"4000*1.2","v":4800},{"$f":"E7*D7","v":4800},"Убирается из сметы при отсутвии кондиционирования",null,null,null,null,"ИТОГО по предложению",null,null,{"$f":"SUM(O3:O6)","v":142779.6}]
["1.5","Отправка проекта и документов","шт",1,{"$f":"2000*1.2","v":2400},{"$f":"E8*D8","v":2400}]
[null,"ИТОГО по предварительной стадии:",null,null,null,{"$f":"SUM(F4:F8)","v":15600}]
[2,"Проект вентиляции",null,null,null,"Сумма"]
["2.1","Расчет и утверждение воздухообмена","м²",463,{"$f":"18*1.2","v":21.599999999999998},{"$f":"E11*D11","v":10000.799999999999}]
["2.2","Подбор оборудования вентиляции","м²",463,{"$f":"18*1.2","v":21.599999999999998},{"$f":"E12*D12","v":10000.799999999999},null,null,null,null,"Заказчику направлять только данный вариант КП, подробную смету только при доп. запросе заказчика"]
["2.3","Планы системы вентиляции","м²",463,{"$f":"28*1.2","v":33.6},15556.800000000001]
["2.4","Спецификация вентиляции","м²",463,{"$f":"33*1.2","v":39.6},18334.8]
["2.5","Изометрическая схема вентиляция","м²",463,{"$f":"18*1.2","v":21.599999999999998},10000.799999999999]
["2.6","Техническое задание на подключение силового электропитания и план автоматизации","м²",463,{"$f":"18*1.2","v":21.599999999999998},10000.799999999999]
["2.7","Изготовление пояснительной записки","шт",1,{"$f":"5000*1.2","v":6000},6000]
[null,"ИТОГО за раздел вентиляции:",null,null,null,{"$f":"SUM(F11:F17)","v":79894.8}]
[3,"Проект кондиционирования*",null,null,null,"Сумма","Указывать площадь ТОЛЬКО обслуживаемых помещений (Σ спален, детских кабинетов)"]
["3.1","Расчет теплопритоков","м²",282,{"$f":"27*1.2","v":32.4},{"$f":"D20*E20","v":9136.7999999999993}]
["3.2","Подбор оборудования кондиционирования","м²",282,{"$f":"17*1.2","v":20.399999999999999},{"$f":"D21*E21","v":5752.7999999999993}]
["3.3","Планы системы канального кондиционирования","м²",0,{"$f":"32*1.2","v":38.4},0,"Убирается из сметы при отсутвии канального кондиционирования"]
["3.4","Планы системы фреонового трубопровода и дренажа","м²",282,{"$f":"27*1.2","v":32.4},9136.7999999999993]
["3.5","Спецификация вентразводки канального кондиционирования","м²",0,{"$f":"17*1.2","v":20.399999999999999},0,"Убирается из сметы при отсутвии канального кондиционирования"]
["3.6","Спецификация фреонового трубопровода и дренажа","м²",282,{"$f":"17*1.2","v":20.399999999999999},5752.7999999999993]
["3.7","Изометрическая схема вентразводки канального кондиционирования","м²",0,{"$f":"17*1.2","v":20.399999999999999},0,"Убирается из сметы при отсутвии канального кондиционирования"]
["3.8","Изометрическая схема фреонового трубопровода и дренажа","м²",282,{"$f":"17*1.2","v":20.399999999999999},5752.7999999999993]
["3.9","Техническое задание на подключение силового электропитания и  автоматизации  кондиционирования","м²",282,{"$f":"17*1.2","v":20.399999999999999},5752.7999999999993]
["3.10","Изготовление пояснительной записки","шт",1,{"$f":"5000*1.2","v":6000},6000]
[null,"ИТОГО за раздел кондиционирования:",null,null,null,{"$f":"SUM(F20:F29)","v":47284.800000000003},"при потребности в центральном охладителе в проекте в ячейке площадь указывать 0 м², стоимость давать фиксированную 15 000 руб."]
[4,"Проект увлажнения",null,null,null,"Сумма"]
["4.1","Объект от 250 м² до 500 м²","шт",0,10000,{"$f":"E32*D32","v":0}]
[null,"ИТОГО по предложению",null,null,null,{"$f":"F9+F18+F30+F32","v":142779.6}]
[]
[5,"ОПЦИОНАЛЬНО",null,null,null,"Сумма"]
["5.1","Дополнительная рабочая встреча","шт",1,{"$f":"5000*1.2","v":6000},{"$f":"E36*D36","v":6000}]
["5.2","VAV система","шт",1,{"$f":"10000*1.2","v":12000},{"$f":"E37*D37","v":12000}]
["5.3","Выезд на объект до 50км/МКАД","шт",1,{"$f":"8000*1.2","v":9600},{"$f":"E38*D38","v":9600}]
[]
["При нестандартных объектах суммы разделов умножать на дополнительный коэффициент"]
["1","Коммерческие и административные помещения",null,null,0.7]
["2","Фахверк",null,null,1.5]
[]
[]
[null,"Примечания:"]
["1","Возможно изготовление монтажной схемы. Тогда позиции, общие данные, пояснительная записка, изометрические схемы вычитаются из стоимости проекта"]
["2","Средняя цена за 1 м²",null,"м²","руб/м²"]
[null,"Проект вентиляции ",null,{"$f":"D15","v":463},{"$f":"F18/D48","v":172.55896328293738}]
[null,"Проект канального кондиционирования",null,{"$f":"D22","v":0},{"$f":"F30/D49","v":{"$error":"#DIV/0!"}}]
[null,"Проект настенного кондиционирования",null,{"$f":"D20","v":282},{"$f":"F30/D50","v":167.67659574468087}]
[null,"Проект увлажнения",null,{"$f":"D11","v":463},{"$f":"F32/D51","v":0}]
[3,"ОБЩАЯ СТОИМОСТЬ",null,null,{"$f":"F33/D11","v":308.37926565874733}]

{"sheet":"Проект более 500 м²","index":7,"n_rows":61,"n_cols":15,"rows_kept":61,"cut":false,"hidden":false,"merged":[[12,10,13,14],[18,6,18,8],[1,0,1,5],[1,10,1,14],[4,6,4,8],[6,6,6,8],[53,1,53,5],[42,1,42,3],[42,4,42,5],[44,1,44,5],[45,1,45,5],[46,4,46,5],[47,4,47,5],[52,1,52,5],[50,4,50,5],[51,4,51,5],[48,4,48,5],[49,4,49,5],[40,0,40,5],[41,1,41,3],[41,4,41,5],[21,6,21,8],[23,6,23,8],[25,6,25,8],[29,6,29,8]]}
[]
["Прайс-лист на проектные работы квартиры и дома более 500 м²",null,null,null,null,null,null,null,null,null,"Итоговое коммереское предложение"]
[1,"Предварительная стадия  ",null,null,null,"Сумма",null,null,null,null,1,"Предварительная стадия  ","шт",1,{"$f":"F9","v":15600}]
["1.1","Сбор исходных данных","шт",1,{"$f":"3000*1.2","v":3600},{"$f":"E4*D4","v":3600},null,null,null,null,2,"Раздел вентиляции","м2",{"$f":"D11","v":860},{"$f":"F18","v":118488}]
["1.2","Выезд на объект (в пределах МКАД)","шт",0,6000,{"$f":"E5*D5","v":0},"Убирается из сметы при отсутвии потребности выезда",null,null,null,3,"Раздел кондиционирования","м2",{"$f":"D20","v":313},{"$f":"F30","v":48067.199999999997}]
["1.3","Составление технического задания вентиляция","шт",1,{"$f":"4000*1.2","v":4800},{"$f":"E6*D6","v":4800},null,null,null,null,4,"Раздел увлажнения","м2"]
["1.4","Составление технического задания кондиционирование","шт",1,{"$f":"4000*1.2","v":4800},{"$f":"E7*D7","v":4800},"Убирается из сметы при отсутвии кондиционирования",null,null,null,null,"ИТОГО по предложению",null,null,{"$f":"SUM(O3:O6)","v":182155.2}]
["1.5","Отправка проекта и документов","шт",1,{"$f":"2000*1.2","v":2400},{"$f":"E8*D8","v":2400}]
[null,"ИТОГО по предварительной стадии:",null,null,null,{"$f":"SUM(F4:F8)","v":15600}]
[2,"Проект вентиляции",null,null,null,"Сумма"]
["2.1","Расчет и утверждение воздухообмена","м²",860,{"$f":"14*1.2","v":16.8},{"$f":"E11*D11","v":14448}]
["2.2","Подбор оборудования вентиляции","м²",860,{"$f":"14*1.2","v":16.8},14448]
["2.3","Планы системы вентиляции","м²",860,{"$f":"24*1.2","v":28.799999999999997},24767.999999999996,null,null,null,null,"Заказчику направлять только данный вариант КП, подробную смету только при доп. запросе заказчика"]
["2.4","Спецификация вентиляции","м²",860,{"$f":"29*1.2","v":34.799999999999997},29927.999999999996]
["2.5","Изометрическая схема вентиляция","м²",860,{"$f":"14*1.2","v":16.8},14448]
["2.6","Техническое задание на подключение силового электропитания и план автоматизации","м²",860,{"$f":"14*1.2","v":16.8},14448]
["2.7","Изготовление пояснительной записки","шт",1,{"$f":"5000*1.2","v":6000},6000]
[null,"ИТОГО за раздел вентиляции:",null,null,null,{"$f":"SUM(F11:F17)","v":118488}]
[3,"Проект кондиционирования",null,null,null,"Сумма","Указывать площадь ТОЛЬКО обслуживаемых помещений (Σ спален, детских, кабинетов)"]
["3.1","Расчет теплопритоков","м²",313,{"$f":"24*1.2","v":28.799999999999997},{"$f":"D20*E20","v":9014.4}]
["3.2","Подбор оборудования кондиционирования","м²",313,{"$f":"16*1.2","v":19.2},6009.5999999999995]
["3.3","Планы системы канального кондиционирования","м²",0,{"$f":"29*1.2","v":34.799999999999997},0,"Убирается из сметы при отсутвии канального кондиционирования"]
["3.4","Планы системы фреонового трубопровода и дренажа","м²",313,{"$f":"24*1.2","v":28.799999999999997},9014.4]
["3.5","Спецификация вентразводки канального кондиционирования","м²",0,{"$f":"16*1.2","v":19.2},0,"Убирается из сметы при отсутвии канального кондиционирования"]
["3.6","Спецификация фреонового трубопровода и дренажа","м²",313,{"$f":"16*1.2","v":19.2},6009.5999999999995]
["3.7","Изометрическая схема вентразводки канального кондиционирования","м²",0,{"$f":"16*1.2","v":19.2},0,"Убирается из сметы при отсутвии канального кондиционирования"]
["3.8","Изометрическая схема фреонового трубопровода и дренажа","м²",313,{"$f":"16*1.2","v":19.2},6009.5999999999995]
["3.9","Техническое задание на подключение силового электропитания и  автоматизации  кондиционирования","м²",313,{"$f":"16*1.2","v":19.2},6009.5999999999995]
["3.10","Изготовление пояснительной записки","шт",1,{"$f":"5000*1.2","v":6000},{"$f":"D29*E29","v":6000}]
[null,"ИТОГО за раздел кондиционирования:",null,null,null,{"$f":"SUM(F20:F29)","v":48067.199999999997},"при потребности в центральном охладителе в проекте, в ячейке площадь указывать 0 м², стоимость давать фиксированную 10 000 руб."]
[4,"Проект увлажнения",null,null,null,"Сумма"]
["4.1","Объект от 500 м² до 1000 м²","шт",0,10000,{"$f":"E32*D32","v":0}]
[null,"ИТОГО по предложению",null,null,null,{"$f":"F9+F18+F30+F32","v":182155.2}]
[]
[5,"ОПЦИОНАЛЬНО",null,null,null,"Сумма"]
["5.1","Дополнительная рабочая встреча","шт",1,5000,{"$f":"E36*D36","v":5000}]
["5.4","VAV система","шт",1,10000,{"$f":"E37*D37","v":10000}]
["5.5","Выезд на объект до 50км/МКАД","шт",1,8000,{"$f":"E38*D38","v":8000}]
[]
[]
["При нестандартных объектах суммы разделов умножать на дополнительный коэффициент"]
["1","Коммерческие и административные помещения",null,null,0.7]
["2","Фахверк",null,null,1.5]
[]
[null,"Примечания:"]
["1","Возможно изготовление монтажной схемы. Тогда позиции, общие данные, пояснительная записка, изометрические схемы вычитаются из стоимости проекта"]
["2","Средняя цена за 1 м²",null,"м²","руб/м²"]
[null,"Проект вентиляции ",null,{"$f":"D11","v":860},{"$f":"F18/D48","v":137.7767441860465}]
[null,"Проект канального кондиционирования",null,{"$f":"D20","v":313},{"$f":"F30/D49","v":153.56932907348241}]
[null,"Проект настенного кондиционирования",null,{"$f":"D25","v":313},{"$f":"F30/D50","v":153.56932907348241}]
[null,"Проект увлажнения",null,{"$f":"D16","v":860},{"$f":"F32/D51","v":0}]
[3,"ОБЩАЯ СТОИМОСТЬ",null,null,{"$f":"F33/D16","v":211.80837209302328}]
[]
[]
[]
[]
[]
[]
[]
[]
[" "]