{"text_format":"1","workbook":"xlsx","n_sheets":22,"sheets":["СВОД","Плановые","ОВиВК REHAU","ОВиВК ТЕСЕ","ОВиВК Stout","Вентиляция (Приточная)","Электрика","ТП REHAU","ТП ТЕСЕ","ТП Stout ","Кот PPR (бюджет)","Кот ППР 23","Кот Медь 23","ПНР","ПНР-КО","УЗЛЫ","Расчёты ОВиВК","РАБОТЫ","Вентиляция (Валлокс)","Электрика стандарт","Отмостка","Ворота"],"not_rendered":{"charts":0,"images":8,"macros":1,"external_links":0,"defined_names":99,"comments":19,"pivot_tables":0},"unopened":[],"bounds":{"document_bytes":16777216,"sheet_cells":100000,"rows_first":2000,"rows_last":500,"rows_between":2000,"halvings":0,"cell_chars":16384,"cell_head_chars":4096},"cells_cut":0,"cells_raw":0,"read":"whole","date_system":"1900"}

{"sheet":"СВОД","index":0,"n_rows":55,"n_cols":11,"rows_kept":55,"cut":false,"hidden":false,"merged":[[13,1,13,4],[21,9,21,10],[46,1,47,4],[44,3,44,4]]}
[]
[]
[]
[]
[]
[]
[]
[]
[]
[]
[]
[]
[null,null,"Сметный расчет","НАИМЕНОВАНИЕ ПРОЕКТА"]
[null,"ФИО"]
[null,"Дата",{"$f":"TODAY()","v":"2024-02-02"}]
[]
["1/0(да/нет)",null,"Этапы выполнения работ:","Отделочные работы","Инженерные коммуникации ",null,null,"Издержки (руб)","Рента %"]
[null,1,"Внешняя покраска",null,null,null,null,0,{"$f":"(D18-H18)/D18","v":{"$error":"#DIV/0!"}}]
[null,2,"Подготовительный этап черновой отделки под ОВВК и ЭОМ",null,null,null,null,0,{"$f":"(D19-H19)/D19","v":{"$error":"#DIV/0!"}}]
[null,3,"Приточно-вытяжная система вентиляции",null,null,null,null,0,{"$f":"(D20-H20)/D20","v":{"$error":"#DIV/0!"}}]
[1,4,"Монтаж системы ОВиВК REHAU ",null,{"$f":"IF(A21=1,'ОВиВК REHAU'!F105,0)","v":77289.230769230766},null,null,{"$f":"IF(A21=1,'ОВиВК REHAU'!M105+'ОВиВК REHAU'!L105,0)","v":52818.316618894067},{"$f":"(E21-H21)/E21","v":0.31661479751819049}]
[1,4,"Монтаж системы ОВиВК ТЕСЕ ",null,{"$f":"IF(A22=1,'ОВиВК ТЕСЕ'!F110,0)","v":77289.230769230766},null,null,{"$f":"IF(A22=1,'ОВиВК ТЕСЕ'!L105,0)","v":52818},{"$f":"(E22-H22)/E22","v":0.31661889406425414}]
[1,4,"Монтаж системы ОВиВК Stout",null,{"$f":"IF(A23=1,'ОВиВК Stout'!F106,0)","v":77289.230769230766},null,null,{"$f":"IF(A23=1,'ОВиВК Stout'!L101,0)","v":52818},{"$f":"(E23-H23)/E23","v":0.31661889406425414}]
[1,5,"Монтаж внешней вентиляции",null,{"$f":"IF(A24=1,'ОВиВК ТЕСЕ'!F112+'Вентиляция (Приточная)'!F79,0)","v":33000},null,null,{"$f":"IF(A25=1,'Вентиляция (Приточная)'!L77,0)","v":22000},{"$f":"(E24-H24)/E24","v":0.33333333333333331}]
[1,6,"Монтаж системы ЭОМ",null,{"$f":"IF(A25=1,Электрика!F95,0)","v":64800},null,null,{"$f":"IF(A24=1,Электрика!L92,0)","v":44700},{"$f":"(E25-H25)/E25","v":0.31018518518518517}]
[null,7,"Отделочные черновые работы и материалы (Полы)",null,null,null,null,0,{"$f":"(D26-H26)/D26","v":{"$error":"#DIV/0!"}}]
[1,8,"Монтаж теплого пола  REHAU ",null,{"$f":"IF(A27=1,'ТП REHAU'!F96,0)","v":51000},null,null,{"$f":"IF(A27=1,'ТП REHAU'!L96,0)","v":34500},{"$f":"(E27-H27)/E27","v":0.3235294117647059}]
[1,8,"Монтаж теплого пола  ТЕСЕ ",null,{"$f":"IF(A28=1,'ТП ТЕСЕ'!F98,0)","v":51000},null,null,{"$f":"IF(A28=1,'ТП ТЕСЕ'!L96,0)","v":34500},{"$f":"(E28-H28)/E28","v":0.3235294117647059}]
[1,8,"Монтаж теплого пола Stout",null,{"$f":"IF(A29=1,'ТП Stout '!F98,0)","v":51000},null,null,{"$f":"IF(A29=1,'ТП Stout '!L96,0)","v":34500},0.3235294117647059]
[null,9,"Отделочные черновые работы и материалы (Стяжка)",null,null,null,null,0,{"$f":"(D30-H30)/D30","v":{"$error":"#DIV/0!"}}]
[null,10,"Штукатурка внутренняя ",null,null,null,null,0,{"$f":"(E31-H31)/E31","v":{"$error":"#DIV/0!"}}]
[null,11,"Отделочные черновые работы и материалы (Стены)",null,null,null,null,0,{"$f":"(E32-H32)/E32","v":{"$error":"#DIV/0!"}}]
[null,11,"Отделка потолок",null,null,null,null,0,{"$f":"(E33-H33)/E33","v":{"$error":"#DIV/0!"}}]
[null,12,"Финишные отделочные работы (Отделка котельной)",null,null,null,null,0,{"$f":"(E34-H34)/E34","v":{"$error":"#DIV/0!"}}]
[1,13,"Монтаж котельного оборудования PPR Б",null,{"$f":"IF(A35=1,'Кот PPR (бюджет)'!F70,0)","v":101425.08109965635},null,null,{"$f":"IF(A35=1,'Кот PPR (бюджет)'!L68,0)","v":75762.99500000001},{"$f":"(E35-H35)/E35","v":0.25301518935382239}]
[1,13,"Монтаж котельного оборудования PPR ",null,{"$f":"IF(A36=1,'Кот ППР 23'!F74,0)","v":101639.96827033219},null,null,{"$f":"IF(A36=1,'Кот ППР 23'!L72,0)","v":75810.044999999998},0.2541315558229244]
[1,13,"Монтаж котельного оборудования Медь",null,{"$f":"IF(A37=1,'Кот Медь 23'!F74,0)","v":103061.67502863688},null,null,{"$f":"IF(A37=1,'Кот Медь 23'!L72,0)","v":77149.044999999998},0.25142838035027815]
[null,14,"Имитация бруса изготовление",null,null,null,null,0,{"$f":"(E38-H38)/E38","v":{"$error":"#DIV/0!"}}]
[null,15,"Имитация бруса монтаж",null,null,null,null,0,{"$f":"(E39-H39)/E39","v":{"$error":"#DIV/0!"}}]
[null,16,"Внутренняя покраска",null,null,null,null,0,{"$error":"#DIV/0!"}]
[null,17,"Внешняя штукатурка",null,null,null,null,0,{"$error":"#DIV/0!"}]
[null,18,"Чистовые отделочные работы и материалы (Ограждения)",null,null,null,null,0,{"$error":"#DIV/0!"}]
[null,null,"Стоимость отделочных работ:",{"$f":"D18+D19+D26+D30+D31+D32+D33+D34+D38+D39+D40+D41+D42","v":0}]
[null,null,"Стоимость инженерных коммуникаций:",null,{"$f":"E20+E22+E23+E24+E25+E28+E29+E35+E36+E37+E27+E21","v":788794.41670631757},null,null,null,"сумма по дог-ру","издержки","рента % по договору"]
[null,null,"Итого :",{"$f":"D43+E44","v":788794.41670631757},null,null,null,null,{"$f":"D45","v":788794.41670631757},{"$f":"SUM(H18:H42)","v":557376.40161889407},{"$f":"(I45-J45)/I45","v":0.29338191319067691}]
[]
[null,"Данный сметный расчёт действителен 7 календарных дней. По истечению срока, цены могут быть изменены."]
[]
[]
[]
[]
[]
[null,null,null,null,null,null,null,null,{"$f":"IF(C53=0,\"\",(C53-G53)/C53)","v":""}]
[null,null,null,null,null,null,null,null,{"$f":"IF(C54=0,\"\",(C54-G54)/C54)","v":""}]
[null,null,null,null,null,null,null,null,{"$f":"IF(C55=0,\"\",(C55-G55)/C55)","v":""}]

{"sheet":"Плановые","index":1,"n_rows":10,"n_cols":7,"rows_kept":10,"cut":false,"hidden":false,"merged":[]}
[null,"материал","бригада","прораб ","перевозка","доп.расходы","Итого (проверка)"]
["ОВиВК ТЕСЕ",{"$f":"'ОВиВК ТЕСЕ'!I105","v":0},{"$f":"'ОВиВК ТЕСЕ'!J105","v":8765},{"$f":"'ОВиВК ТЕСЕ'!K105","v":22053},{"$f":"'ОВиВК ТЕСЕ'!L103","v":10000},{"$f":"'ОВиВК ТЕСЕ'!L102+'ОВиВК ТЕСЕ'!L104","v":12000},{"$f":"SUM(B2:F2)","v":52818}]
["ОВиВК Стаут",{"$f":"'ОВиВК Stout'!I101","v":0},{"$f":"'ОВиВК Stout'!J101","v":8765},{"$f":"'ОВиВК Stout'!K101","v":22053},{"$f":"'ОВиВК Stout'!L99","v":10000},{"$f":"'ОВиВК Stout'!L98+'ОВиВК Stout'!L100","v":12000},{"$f":"SUM(B3:F3)","v":52818}]
["Вентиляция",null,null,{"$f":"'Вентиляция (Приточная)'!I77+'Вентиляция (Приточная)'!K77","v":10000},null,{"$f":"'Вентиляция (Приточная)'!J77+'Вентиляция (Приточная)'!L74","v":12000},22000]
["Электрика",{"$f":"Электрика!I92","v":0},{"$f":"Электрика!J92","v":2000},{"$f":"Электрика!K92","v":20700},{"$f":"Электрика!L90","v":10000},{"$f":"Электрика!L89+Электрика!L91","v":12000},44700]
["ТП ТЕСЕ",{"$f":"'ТП ТЕСЕ'!I96","v":0},{"$f":"'ТП ТЕСЕ'!J96","v":2000},{"$f":"'ТП ТЕСЕ'!K96","v":10500},{"$f":"'ТП ТЕСЕ'!L94","v":10000},{"$f":"'ТП ТЕСЕ'!L93+'ТП ТЕСЕ'!L95","v":12000},34500]
["ТП Стаут",{"$f":"'ТП Stout '!I96","v":0},{"$f":"'ТП Stout '!J96","v":2000},{"$f":"'ТП Stout '!K96","v":10500},{"$f":"'ТП Stout '!L94","v":10000},{"$f":"'ТП Stout '!L93+'ТП Stout '!L95","v":12000},34500]
["Котельная бюджет ",{"$f":"'Кот PPR (бюджет)'!I68","v":38978.950000000004},{"$f":"'Кот PPR (бюджет)'!J68","v":8990.4624999999996},{"$f":"'Кот PPR (бюджет)'!K68","v":5793.5825000000004},{"$f":"'Кот PPR (бюджет)'!L66","v":10000},{"$f":"'Кот PPR (бюджет)'!L65+'Кот PPR (бюджет)'!L67","v":12000},75762.99500000001]
["Котельная ППР",{"$f":"'Кот ППР 23'!I72","v":39026},{"$f":"'Кот ППР 23'!J72","v":8990.4624999999996},{"$f":"'Кот ППР 23'!K72","v":5793.5825000000004},{"$f":"'Кот ППР 23'!L70","v":10000},{"$f":"'Кот ППР 23'!L69+'Кот ППР 23'!L71","v":12000},75810.044999999998]
["Котельная Медь",{"$f":"'Кот Медь 23'!I72","v":40365},{"$f":"'Кот Медь 23'!J72","v":8990.4624999999996},{"$f":"'Кот Медь 23'!K72","v":5793.5825000000004},{"$f":"'Кот Медь 23'!L70","v":10000},{"$f":"'Кот Медь 23'!L69+'Кот Медь 23'!L71","v":12000},77149.044999999998]

{"sheet":"ОВиВК REHAU","index":2,"n_rows":123,"n_cols":22,"rows_kept":123,"cut":false,"hidden":false,"merged":[[0,0,0,6],[1,1,1,6],[2,0,2,6],[3,0,3,6],[5,0,8,0],[48,0,49,0],[51,0,60,0],[13,9,14,9],[13,10,14,10],[16,13,17,13],[18,0,18,6],[20,0,23,0],[28,0,29,0],[13,0,14,0],[13,5,14,5],[31,0,32,0],[34,0,39,0],[40,0,42,0],[43,0,45,0],[46,0,47,0],[61,2,61,3],[61,14,62,14],[62,2,62,3],[63,0,63,6],[68,0,69,0],[65,0,66,0],[71,0,74,0],[83,0,85,0],[86,0,87,0],[88,0,89,0],[92,13,93,13],[92,14,93,14],[93,2,93,3],[94,0,94,6],[104,0,104,4],[104,5,104,6],[92,2,92,3],[109,5,109,6],[113,9,114,10],[113,11,114,12],[118,8,119,8],[118,9,119,9],[118,10,119,10],[118,11,119,11],[118,12,119,12]]}
["Приложение №    к Договору подряда №    ______________от_____________",null,null,null,null,null,null,null,"курс €","КОЭФ для ренты","КОЭФ для ренты"]
[{"$f":"TODAY()","v":"2024-02-02"},"Данный сметный расчёт действителен 7 календарных дней. По истечению срока, цены могут быть изменены.",null,null,null,null,null,null,100,0.65,0.6]
["Сметный расчет ОиВК REHAU"]
["Теплотрасса",null,null,null,null,null,null,null,{"$f":"РАБОТЫ!A1","v":"Дата"}]
["Материалы/услуги","Описание","Кол-во","Ед.изм","Мат-ал, руб","Работа, руб ","Итого, руб",null,"Материал","Бригада","Прораб","Итого","Рента"]
["Теплотрасса ","Трубопровод USYSTEMS Ecoflex Quattro труба 2x25x2,3-2x25х3,5 /175 совмещает в себе трубы для систем горячего водоснабжения и теплоснабжения.",null,"пог.м",{"$f":"(I6/$J$2)*$J$117","v":0},{"$f":"((J6+K6)/$J$2)*$K$117","v":0},{"$f":"F6+E6","v":0},null,{"$f":"$C6*(УЗЛЫ!C2)*L117","v":0},{"$f":"$C6*РАБОТЫ!C5*M117","v":0},{"$f":"$C6*РАБОТЫ!D5*M117","v":0},{"$f":"SUM(I6:K6)","v":0},{"$f":"IF(G6=0,\"\",(G6-L6)/G6)","v":""}]
[null,"Трубопровод USYSTEMS  Ecoflex Quattro труба 2x32x2,9-2x25х3,5 /175 совмещает в себе трубы для систем горячего водоснабжения и теплоснабжения.",null,"пог.м",0,0,0,null,{"$f":"$C7* (УЗЛЫ!C3)*L117","v":0},{"$f":"$C7*РАБОТЫ!C5*M117","v":0},{"$f":"$C7*РАБОТЫ!D5*M117","v":0},0,""]
[null,"Трубопровод USYSTEMS  Ecoflex Varia Twin PN6 25x2.3 25x2.3 140 для водоснабжения и теплоснабжения.",null,"пог.м",0,0,0,null,{"$f":"$C8* (УЗЛЫ!C4)*L117","v":0},{"$f":"$C8*РАБОТЫ!C5*M117","v":0},{"$f":"$C8*РАБОТЫ!D5*M117","v":0},0,""]
[null,"Трубопровод USYSTEMS  Ecoflex Varia Twin PN6 32x2.9 32x2.9 140 для водоснабжения и теплоснабжения.",null,"пог.м",0,0,0,null,{"$f":"$C9* (УЗЛЫ!C5)*L117","v":0},{"$f":"$C9*РАБОТЫ!C5*M117","v":0},{"$f":"$C9*РАБОТЫ!D5*M117","v":0},0,""]
["Труба ПНД D32","Для подачи холодного водоснабжения (теплоизоляция Энергофлекс)",null,"пог.м",0,0,0,null,{"$f":"$C10*(УЗЛЫ!C6+УЗЛЫ!C7)*L117","v":0},{"$f":"$C10*РАБОТЫ!C6*M117","v":0},{"$f":"$C10*РАБОТЫ!D6*M117","v":0},0,""]
["Узел  ТТ1 до150м2 ","Обвязка теплотрассы, подключение к коллекторам и насосам",null,"компл",0,0,0,null,{"$f":"$C11*(УЗЛЫ!C8*0.5)*L117","v":0},{"$f":"$C11*РАБОТЫ!C7*M117","v":0},{"$f":"$C11*РАБОТЫ!D7*M117","v":0},0,"","* Обвязка с одной стороны, в случае обвязки с двух сторон - 2 компл."]
["Узел ТТ2 150-200м2 ","Обвязка теплотрассы, подключение к коллекторам и насосам",null,"компл",0,0,0,null,{"$f":"$C12* (УЗЛЫ!C9*0.5)*L117","v":0},{"$f":"$C12*РАБОТЫ!C7*M117","v":0},{"$f":"$C12*РАБОТЫ!D7*M117","v":0},0,""]
["Автоматика","Датчик температуры МЛ-722 (DS)",null,"шт.",0,0,0,null,{"$f":"$C13* УЗЛЫ!C12*L117","v":0},{"$f":"($C13*РАБОТЫ!C8+$C13*РАБОТЫ!D8)*M117","v":0},null,0,""]
["Кабель МКЭШ 5х0,75 , ПНД труба гофр. с протяжкой","Кабель управления автоматикой ",null,"пог.м",{"$f":"(I14/0.7)*$J$117","v":0},{"$f":"((J14+K14)/0.8)*$K$117","v":0},0,null,{"$f":"C14*УЗЛЫ!C11*L117","v":0},{"$f":"C14*РАБОТЫ!C6*M117","v":0},{"$f":"C14*РАБОТЫ!D6*M117","v":0},0,""]
[null,"Протяжка кабеля в ПНД трубе  (бухта 100м)",null,"бухта",{"$f":"(I15/0.8)*$J$117","v":0},null,0,null,{"$f":"C15*УЗЛЫ!C10*L117","v":0},null,null,0,""]
["Земляные работы","Производится выемка и обратная засыпка",null,"м3",{"$f":"(I16/$J$2)*$J$117","v":0},{"$f":"((J16+K16)/$J$2)*$K$117","v":0},0,null,null,{"$f":"$C16*РАБОТЫ!C9*M117","v":0},{"$f":"$C16*РАБОТЫ!D9*M117","v":0},0,""]
["Итого материал:                                                                                                                                                                                                                                                            ",null,null,null,null,null,{"$f":"SUM(E6:E16)","v":0},null,null,null,null,{"$f":"SUM(I6:I16)","v":0},"",{"$f":"(SUM(G17:G18)-SUM(L17:L18))/SUM(G17:G18)","v":{"$error":"#DIV/0!"}}]
["Работа:                                                                                                                                                                                                                                               ",null,null,null,null,null,{"$f":"SUM(F6:F16)","v":0},null,null,null,null,{"$f":"SUM(J6:K16)","v":0},""]
["Отопление"]
["Материалы/услуги","Описание","Кол-во","Ед.изм","Мат-ал, руб","Работа, руб ","Итого, руб",null,"Материал","Бригада","Прораб","Итого","Рента"]
["Радиаторы (белые)","Радиаторы стальные панельные концерна Rettig Heating Group (Европа)",null,"шт.",{"$f":"(I21/0.75)*$J$117","v":0},null,{"$f":"IF(C21>=1,E21,0)","v":0},null,{"$f":"$C21*УЗЛЫ!C18","v":0},null,null,{"$f":"SUM(I21:K21)","v":0},{"$f":"IF(G21=0,\"\",(G21-L21)/G21)","v":""}]
[null,"Радиаторы стальные панельные Rommer (Россия)",null,"шт.",{"$f":"(I22/0.75)*$J$117","v":0},null,{"$f":"IF(C22>=1,E22,0)","v":0},null,{"$f":"C22*УЗЛЫ!C19","v":0},null,null,0,""]
[null,"Радиатор КЗТО Гармония ",null,"шт.",{"$f":"(I23/0.75)*$J$117","v":0},null,{"$f":"IF(C23>=1,E23,0)","v":0},null,{"$f":"C23*УЗЛЫ!C20","v":0},null,null,0,""]
[null,"Радиатор КЗТО РСК ",null,"шт.",{"$f":"(I24/0.75)*$J$117","v":0},null,0,null,{"$f":"C24*УЗЛЫ!C21","v":0},null,null,0,""]
["Комплект декоративной подводки","Для труб из сшитого полиэтилена",null,"компл.",{"$f":"(I25/0.9)*$J$117","v":0},{"$f":"((J25+K25)/$J$2)*$K$117*1.5","v":0},{"$f":"F25+E25","v":0},null,{"$f":"$C25*УЗЛЫ!C22*L117","v":0},{"$f":"$C25* РАБОТЫ!C12*M117","v":0},{"$f":"$C25* РАБОТЫ!D12*M117","v":0},0,""]
["Монтаж креплений для радиаторов настенный","Монтаж с использованием электронного измерителя уровня",null,"компл.",{"$f":"(I26/$J$2)*$J$117","v":0},{"$f":"((J26+K26)/$J$2)*$K$117*1.3","v":0},0,null,null,{"$f":"$C26*(РАБОТЫ!C13*0.3)*M117","v":0},{"$f":"$C26*( РАБОТЫ!D13*0.3)*M117","v":0},0,""]
["Монтаж креплений для радиаторов напольный","Монтаж с использованием электронного измерителя уровня",null,"компл.",{"$f":"(I27/$J$2)*$J$117","v":0},{"$f":"((J27+K27)/$J$2)*$K$117*1.3","v":0},0,null,{"$f":"C27*УЗЛЫ!D26*L117","v":0},{"$f":"$C27*( РАБОТЫ!C13*0.3)*M117","v":0},{"$f":"$C27*( РАБОТЫ!D13*0.3)*M117","v":0},0,""]
["Монтаж радиатора","Монтаж с использованием электронного измерителя уровня",null,"компл.",{"$f":"(I28/$J$2)*$J$117","v":0},{"$f":"((J28+K28)/0.76)*$K$117*1.3","v":0},0,null,null,{"$f":"$C28* РАБОТЫ!C13*M117","v":0},{"$f":"$C28* РАБОТЫ!D13*M117","v":0},0,""]
["Комплект подключения ","Узел нижнего подключения радиатора прямой из пола (без декор.подводки)",null,"компл.",{"$f":"(I29/0.8)*$J$117*0.7","v":0},{"$f":"(C29*500)*K117","v":0},0,null,{"$f":"$C29*УЗЛЫ!C28*L117","v":0},null,null,0,""]
[null,"Узел нижнего подключения радиатора угловой из стены (без декор. подводки)",null,"компл.",{"$f":"(I30/0.8)*$J$117*0.7","v":0},{"$f":"(C30*590)+(J30+K30)","v":0},0,null,{"$f":"$C30*УЗЛЫ!C30*L117","v":0},{"$f":"C30*((РАБОТЫ!C36*2))","v":0},{"$f":"C30*(РАБОТЫ!D36*2)*M117","v":0},0,""]
["Терморегулятор для радиатора","Термоголовка (Германия), c жидкостным чувствительным элементом. С функцией защиты от замерзания и с блокировкой диапазона настройки.",null,"шт.",{"$f":"1069*C31","v":0},{"$f":"(C31*500)*K117*0.7","v":0},0,null,0,null,null,{"$f":"SUM(I31:K31)","v":0},""]
["Управление внутрипольным конвектором","Настенный регулятор программируемый с сенсорным экраном. Возможность регулировки до 12 приборов (Vartronic Белый)",null,"шт.",{"$f":"(I32/$J$2)*$J$117","v":0},{"$f":"((J32+K32)/$J$2)*K117","v":0},0,null,{"$f":"$C32* УЗЛЫ!C33*L117","v":0},{"$f":"$C32*РАБОТЫ!C15*M117","v":0},{"$f":"$C32*РАБОТЫ!D15*M117","v":0},0,""]
[null,"Настенный регулятор программируемый с сенсорным экраном. Возможность регулировки до 12 приборов (Vartronic Черный)",null,"шт.",{"$f":"(I33/$J$2)*$J$117","v":0},{"$f":"((J33+K33)/$J$2)*K117","v":0},0,null,{"$f":"$C33* УЗЛЫ!C33*L117","v":0},{"$f":"$C33*РАБОТЫ!C15*M117","v":0},{"$f":"$C33*РАБОТЫ!D15*M117","v":0},{"$f":"SUM(I33:K33)","v":0},""]
["Комплектующие для подлючения конвектора внутрипольного","Комплект запорно-регулирующей арматуры.",null,"компл.",{"$f":"(I34/$J$2)*$J$117","v":0},{"$f":"(C34*2300)*K117","v":0},0,null,{"$f":"$C34*УЗЛЫ!C34*L117","v":0},null,null,0,""]
["Конвектор энергозависимый внутрипольный ","Встраиваемый в пол конвектор Varmann Qtherm 230.75.1250. решетка роликовая из алюминия, тангенциальный вентилятор",null,"компл.",{"$f":"(I35/0.7)*$J$117*0.88","v":0},{"$f":"((J35+K35)/$J$2)*$K$117*2","v":0},0,null,{"$f":"$C35*УЗЛЫ!C36","v":0},{"$f":"$C35*РАБОТЫ!C16*M117","v":0},{"$f":"$C35*РАБОТЫ!D16*M117","v":0},0,""]
[null,"Встраиваемый в пол конвектор Varmann Qtherm 230.75.1500. решетка роликовая из алюминия, тангенциальный вентилятор",null,"компл.",0,0,0,null,{"$f":"$C36*УЗЛЫ!C37","v":0},{"$f":"$C36*РАБОТЫ!C16*M117","v":0},{"$f":"$C36*РАБОТЫ!D16*M117","v":0},0,""]
[null,"Встраиваемый в пол конвектор Varmann Qtherm 230.75.1750. решетка роликовая из алюминия, тангенциальный вентилятор",null,"компл.",0,0,0,null,{"$f":"$C37*УЗЛЫ!C38","v":0},{"$f":"$C37* РАБОТЫ!$C$16*M117","v":0},{"$f":"$C37* РАБОТЫ!$D$16*M117","v":0},0,""]
[null,"Встраиваемый в пол конвектор Varmann Qtherm 230.75.2000. решетка роликовая из алюминия, тангенциальный вентилятор",null,"компл.",0,0,0,null,{"$f":"C38*УЗЛЫ!C39","v":0},{"$f":"$C38* РАБОТЫ!$C$16*M117","v":0},{"$f":"$C38* РАБОТЫ!$D$16*M117","v":0},0,""]
[null,"Встраиваемый в пол конвектор Varmann Qtherm 230.75.2250. решетка роликовая из алюминия, тангенциальный вентилятор",null,"компл.",0,0,0,null,{"$f":"C39*УЗЛЫ!C40","v":0},{"$f":"$C39* РАБОТЫ!$C$16*M117","v":0},{"$f":"$C39* РАБОТЫ!$D$16*M117","v":0},0,""]
[null,"Встраиваемый в пол конвектор Varmann Qtherm 230.75.3000. решетка роликовая из алюминия, вентиляторы с ЕС двигателем",null,"компл.",0,0,0,null,{"$f":"C40*УЗЛЫ!C41","v":0},{"$f":"$C40* РАБОТЫ!$C$16*M117","v":0},{"$f":"$C40* РАБОТЫ!$D$16*M117","v":0},0,""]
["Конвектор энергонезависимый внутрипольный ","Встраиваемый в пол конвектор Varmann Ntherm, 230.90.1400. решетка роликовая из алюминия.",null,"компл.",0,0,0,null,{"$f":"C41*УЗЛЫ!C42","v":0},{"$f":"$C41* РАБОТЫ!$C$16*M117","v":0},{"$f":"$C41* РАБОТЫ!$D$16*M117","v":0},{"$f":"SUM(I41:K41)","v":0},""]
[null,"Встраиваемый в пол конвектор Varmann Ntherm, 230.90.1800. решетка роликовая из алюминия.",null,"компл.",0,0,0,null,{"$f":"C42*УЗЛЫ!C43","v":0},{"$f":"$C42* РАБОТЫ!$C$16*M117","v":0},{"$f":"$C42* РАБОТЫ!$D$16*M117","v":0},0,""]
[null,"Встраиваемый в пол конвектор Varmann Ntherm, 230.90.2200. решетка роликовая из алюминия.",null,"компл.",0,0,0,null,{"$f":"C43*УЗЛЫ!C44","v":0},{"$f":"$C43* РАБОТЫ!$C$16*M117","v":0},{"$f":"$C43* РАБОТЫ!$D$16*M117","v":0},0,""]
["Конвектор энергонезависимый внутрипольный влагостойкий корпус","Встраиваемый в пол конвектор Varmann Ntherm ES (для влажных помещений), 230.90.1400. решетка роликовая из алюминия.",null,"компл.",0,0,0,null,{"$f":"C44*УЗЛЫ!C45","v":0},{"$f":"$C44* РАБОТЫ!$C$16*M117","v":0},{"$f":"$C44* РАБОТЫ!$D$16*M117","v":0},0,""]
[null,"Встраиваемый в пол конвектор Varmann Ntherm ES (для влажных помещений), 230.90.1800. решетка роликовая из алюминия.",null,"компл.",0,0,0,null,{"$f":"C45*УЗЛЫ!C46","v":0},{"$f":"$C45* РАБОТЫ!$C$16*M117","v":0},{"$f":"$C45* РАБОТЫ!$D$16*M117","v":0},0,""]
[null,"Встраиваемый в пол конвектор Varmann Ntherm ES (для влажных помещений), 230.90.2200. решетка роликовая из алюминия.",null,"компл.",0,0,0,null,{"$f":"C46*УЗЛЫ!C47","v":0},{"$f":"$C46* РАБОТЫ!$C$16*M117","v":0},{"$f":"$C46* РАБОТЫ!$D$16*M117","v":0},0,""]
["Конвектор напольный","Конвектор Varmann MiniKon 235.130.1600  ",null,"шт.",{"$f":"(I47/0.7)*$J$117*0.87","v":0},0,0,null,{"$f":"C47*УЗЛЫ!C48","v":0},{"$f":"$C47* РАБОТЫ!C14*M117","v":0},{"$f":"$C47*РАБОТЫ!D14*M117","v":0},0,""]
[null,"Конвектор Varmann MiniKon 185.130.1600",null,"шт.",{"$f":"(I48/0.7)*$J$117*0.85","v":0},0,0,null,{"$f":"C48*УЗЛЫ!C49","v":0},{"$f":"$C48* РАБОТЫ!$C$14*M117","v":0},{"$f":"$C48* РАБОТЫ!$D$14*M117","v":0},0,""]
["Коллекторная система отопления","Трубопроводы системы отопления   -   высококачественные трубы  PEX  (Трубы REHAU Германия -  поперечно сшитый полиэтилен) в утеплителе \"Энергофлекс\". ",null,"м²",{"$f":"(I49/$J$2)*$J$117","v":0},{"$f":"(C49*600)*$K$117","v":0},0,null,{"$f":"$C49*(УЗЛЫ!C13)+(IF(C49=0,0,)+IF(C49>1,УЗЛЫ!D17,))","v":0},{"$f":"C49*((РАБОТЫ!C17+РАБОТЫ!C18)/R49)*M117","v":0},{"$f":"C49*((РАБОТЫ!D17+РАБОТЫ!D18)/R49)*M117","v":0},0,"",null,"коэф. трубы отопл.:",{"$f":"IF(T49<70,4.5, IF(T49<250, 3.5, 4))","v":4.5},"закл. петли:",{"$f":"IF(V49>7, V49, IF(T49=0, 12, IF(T49<165,11, 11+CEILING((T49-165)/8,1))))","v":12},"отапл. площ.:",{"$f":"C49","v":0},"радиаторы /конвек-ры:",{"$f":"C21+C37","v":0}]
[null,"Переход с трубопроводов Stout (по купону) на REHAU Германия",null,"м²",{"$f":"I50/0.65","v":0},{"$f":"(C50*600)*$K$117","v":0},0,null,{"$f":"C50*УЗЛЫ!C16*L117","v":0},null,null,0,""]
["Подключение коллекторного шкафа вне котельной","Трубопроводы (до 25 пог.м), фитинги, арматура",null,"компл.",{"$f":"I51/0.62","v":0},{"$f":"(J51+K51)/0.6","v":0},0,null,{"$f":"C51*(УЗЛЫ!C50+УЗЛЫ!C51)*L117","v":0},{"$f":"C51*РАБОТЫ!C19*M117","v":0},{"$f":"C51*РАБОТЫ!D19*M117","v":0},0,""]
["Коллектор системы отопления","Коллектор stout, шкаф, шаровые краны, фиксаторы, прокладки, фитинги. 3 выхода",null,"компл.",{"$f":"(I52/$K$2)*$J$117*0.75","v":0},{"$f":"((J52+K52)/$K$2)*$K$117*2.7","v":0},{"$f":"E52+F52","v":0},null,{"$f":"$C52*УЗЛЫ!N58*L117","v":0},{"$f":"$C52*РАБОТЫ!C20*M117","v":0},{"$f":"$C52*РАБОТЫ!D20*M117","v":0},0,""]
[null,"Коллектор stout, шкаф, шаровые краны, фиксаторы, прокладки, фитинги. 4 выхода",null,"компл.",{"$f":"(I53/$K$2)*$J$117*0.75","v":0},0,{"$f":"E53+F53","v":0},null,{"$f":"$C53*УЗЛЫ!N59*L117","v":0},{"$f":"$C53*РАБОТЫ!C20*M117","v":0},{"$f":"$C53*РАБОТЫ!D20*M117","v":0},0,""]
[null,"Коллектор stout, шкаф, шаровые краны, фиксаторы, прокладки, фитинги. 5 выходов",null,"компл.",{"$f":"(I54/$K$2)*$J$117*0.75","v":0},0,0,null,{"$f":"$C54*УЗЛЫ!N60*L117","v":0},{"$f":"$C54*РАБОТЫ!C20*M117","v":0},{"$f":"$C54*РАБОТЫ!D20*M117","v":0},0,""]
[null,"Коллектор stout, шкаф, шаровые краны, фиксаторы, прокладки, фитинги. 6 выходов",null,"компл.",{"$f":"(I55/$K$2)*$J$117*0.8","v":0},0,0,null,{"$f":"$C55*УЗЛЫ!N61*L117","v":0},{"$f":"$C55*РАБОТЫ!C20*M117","v":0},{"$f":"$C55*РАБОТЫ!D20*M117","v":0},0,""]
[null,"Коллектор stout, шкаф, шаровые краны, фиксаторы, прокладки, фитинги. 7 выходов",null,"компл.",{"$f":"(I56/$K$2)*$J$117*0.81","v":0},0,0,null,{"$f":"$C56*УЗЛЫ!N62*L117","v":0},{"$f":"$C56*РАБОТЫ!C20*M117","v":0},{"$f":"$C56*РАБОТЫ!D20*M117","v":0},0,""]
[null,"Коллектор stout, шкаф, шаровые краны, фиксаторы, прокладки, фитинги. 8 выходов",null,"компл.",{"$f":"(I57/$K$2)*$J$117*0.8","v":0},0,0,null,{"$f":"$C57*УЗЛЫ!N63*L117","v":0},{"$f":"$C57*РАБОТЫ!C20*M117","v":0},{"$f":"$C57*РАБОТЫ!D20*M117","v":0},0,""]
[null,"Коллектор stout, шкаф, шаровые краны, фиксаторы, прокладки, фитинги. 9 выходов",null,"компл.",{"$f":"(I58/$K$2)*$J$117*0.81","v":0},0,0,null,{"$f":"$C58*УЗЛЫ!N64*L117","v":0},{"$f":"$C58*РАБОТЫ!C20*M117","v":0},{"$f":"$C58*РАБОТЫ!D20*M117","v":0},0,""]
[null,"Коллектор stout, шкаф, шаровые краны, фиксаторы, прокладки, фитинги. 10 выходов",null,"компл.",{"$f":"(I59/$K$2)*$J$117*0.8","v":0},0,0,null,{"$f":"$C59*УЗЛЫ!N65*L117","v":0},{"$f":"$C59*РАБОТЫ!C20*M117","v":0},{"$f":"$C59*РАБОТЫ!D20*M117","v":0},0,""]
[null,"Коллектор stout, шкаф, шаровые краны, фиксаторы, прокладки, фитинги. 11 выходов",null,"компл.",{"$f":"(I60/$K$2)*$J$117*0.8","v":0},0,0,null,{"$f":"$C60*УЗЛЫ!N66*L117","v":0},{"$f":"$C60*РАБОТЫ!C20*M117","v":0},{"$f":"$C60*РАБОТЫ!D20*M117","v":0},0,""]
[null,"Коллектор stout, шкаф, шаровые краны, фиксаторы, прокладки, фитинги. 12 выходов",null,"компл.",{"$f":"(I61/$K$2)*$J$117*0.81","v":0},0,0,null,{"$f":"$C61*УЗЛЫ!N67*L117","v":0},{"$f":"$C61*РАБОТЫ!C20*M117","v":0},{"$f":"$C61*РАБОТЫ!D20*M117","v":0},0,""]
["Итого материал:                                                                                                                                                                                                                                                            ",null,null,null,null,null,{"$f":"SUM(E21:E61)","v":0},null,null,null,null,{"$f":"SUM(I21:I61)","v":0},"",{"$f":"(SUM(G62:G63)-SUM(L62:L63))/SUM(G62:G63)","v":{"$error":"#DIV/0!"}}]
["Работа:",null,null,null,null,null,{"$f":"SUM(F21:F61)","v":0},null,null,null,null,{"$f":"SUM(J21:K61)","v":0},""]
["Водоснабжение, канализация, вентиляция"]
["Материалы/услуги","Описание","Кол-во","Ед.изм","Мат-ал, руб","Работа, руб ","Итого, руб",null,"Материал","Бригада","Прораб","Итого","Рента"]
["Точки водоснабжения","Разводка труб холодного и горячего водоснабжения внутри помещения. Сшитый полиэтилен REHAU, Германия), в утеплителе \"Энергофлекс\". Установка водорозеток",null,"шт.",{"$f":"(I66/$K$2)*$J$117","v":0},{"$f":"((J66+K66)/$K$2)*$K$117*1.3","v":0},{"$f":"F66+E66","v":0},null,{"$f":"C66* УЗЛЫ!C68*L117","v":0},{"$f":"$C66*(РАБОТЫ!C23 + (РАБОТЫ!C24/10))*M117","v":0},{"$f":"$C66*(РАБОТЫ!D23 + (РАБОТЫ!D24/10))*M117","v":0},{"$f":"SUM(I66:K66)","v":0},{"$f":"IF(G66=0,\"\",(G66-L66)/G66)","v":""},null,"коэф. труб воды.:",{"$f":"IF(R66<8, 12, IF(R66<11, 8, IF(R66<18, 9,10)))","v":12},"точки воды:",{"$f":"C66","v":0}]
[null,"Переход водоснабжения Stout (по купону) на REHAU Германия",null,"шт.",{"$f":"I67/0.65","v":0},null,0,null,{"$f":"C67*УЗЛЫ!C71*L117","v":0},null,null,0,""]
["Подключение коллекторного шкафа вне котельной","Трубопроводы (до 25 пог.м), фитинги, арматура",null,"компл.",{"$f":"I68/0.62","v":0},{"$f":"(J68+K68)/0.6","v":0},0,null,{"$f":"C68*(УЗЛЫ!C50+УЗЛЫ!C51)*L117","v":0},{"$f":"C68*РАБОТЫ!C19*M117","v":0},{"$f":"C68*РАБОТЫ!D19*M117","v":0},0,""]
["Коллектор водоснабжения","Без рециркуляции - коллектор, шкаф распределительный наружный, шаровые краны, фиксаторы, прокладки, компрессионные фитинги.",null,"компл.",{"$f":"(I69/$J$2)*$J$117*0.92","v":0},{"$f":"((J69+K69)/$J$2)*$K$117*1.8","v":0},0,null,{"$f":"$C69*УЗЛЫ!N72*L117","v":0},{"$f":"$C69*РАБОТЫ!C25*M117","v":0},{"$f":"$C69*РАБОТЫ!D25*M117","v":0},0,""]
[null,"С рециркуляцией - коллектор, шкаф распределительный наружный, шаровые краны, фиксаторы, прокладки, компрессионные фитинги.",null,"компл.",{"$f":"(I70/$J$2)*$J$117*0.9","v":0},{"$f":"((J70+K70)/$J$2)*$K$117*2.9","v":0},0,null,{"$f":"$C70*УЗЛЫ!N73*L117","v":0},{"$f":"$C70*РАБОТЫ!C25*M117","v":0},{"$f":"$C70*РАБОТЫ!D25*M117","v":0},0,""]
["Точки циркуляции","Дополнительный контур на влажное помещение",null,"шт.",{"$f":"(I71/$J$2)*$J$117","v":0},{"$f":"((J71+K71)/$J$2)*$K$117","v":0},0,null,{"$f":"C71*УЗЛЫ!C68*L117","v":0},{"$f":"$C71* РАБОТЫ!C23*M117","v":0},{"$f":"$C71* РАБОТЫ!D23*M117","v":0},{"$f":"SUM(I71:K71)","v":0},""]
["Точки канализации ","Монтаж системы канализации шумопоглащающими трубами Rehau Германия",null,"шт.",{"$f":"(I72/$J$2)*$J$117","v":0},{"$f":"((J72+K72)/$J$2)*$K$117","v":0},0,null,{"$f":"$C72* УЗЛЫ!C76*L117","v":0},{"$f":"$C72* (РАБОТЫ!C26+(РАБОТЫ!C27*0.5)+(РАБОТЫ!C28*0.1))*M117","v":0},{"$f":"$C72* (РАБОТЫ!D27+РАБОТЫ!D28)*M117","v":0},0,""]
[null,"Переход с трубы Sinicon Россия (по купону) на трубу Rehau Германия",null,"шт.",{"$f":"(I73/$J$2)*$J$117","v":0},null,0,null,{"$f":"C73*УЗЛЫ!C79*L117","v":0},null,null,0,""]
[null,"Монтаж системы канализации производится шумопоглощающими трубами Sinicon Россия. Прокладка  под лентой ростверка, с последующим выпуском на 1м за него  (для фундамента типа \"ростверк\")",null,"шт.",{"$f":"(I74/$J$2)*$J$117","v":0},{"$f":"((J74+K74)/$J$2)*$K$117","v":0},0,null,{"$f":"$C74* УЗЛЫ!C77*L117","v":0},{"$f":"$C74* (РАБОТЫ!C26+(РАБОТЫ!C27*0.5)+(РАБОТЫ!C28*0.1))*M117","v":0},{"$f":"$C74* (РАБОТЫ!D27+РАБОТЫ!D28)*M117","v":0},0,{"$f":"IF(G74=0,\"\",(G74-L74)/G74)","v":""}]
[null,"Земляные работы",4,"м3",{"$f":"(I75/$J$2)*$J$117","v":0},{"$f":"((J75+K75)/$J$2)*$K$117","v":12489.23076923077},12489.23076923077,null,null,{"$f":"$C75*РАБОТЫ!C28*M117","v":6765},{"$f":"$C75*РАБОТЫ!D28*M117","v":1352.9999999999998},8118,{"$f":"IF(G75=0,\"\",(G75-L75)/G75)","v":0.35000000000000003}]
["Точки вентиляции (без прохода через кровлю ) 100мм","Система естественной вентиляции предназначена для того, чтобы регулировать влажность и удалять неприятные запахи из кухни и санузлов. ",null,"шт.",{"$f":"(K76/$J$2)*$J$117*1.1","v":0},{"$f":"((J76)/$J$2)*$K$117*1.5","v":0},0,null,null,{"$f":"$C76* РАБОТЫ!C29*M117","v":0},{"$f":"$C76* РАБОТЫ!D29*M117","v":0},0,""]
["Точки вентиляции (без прохода через кровлю ) 125мм","Система естественной вентиляции предназначена для того, чтобы регулировать влажность и удалять неприятные запахи из кухни и санузлов. ",null,"шт.",{"$f":"(K77/0.78)*$J$117*1.1","v":0},{"$f":"((J77)/$J$2)*$K$117*1.5","v":0},0,null,null,{"$f":"$C77* РАБОТЫ!C30*M117","v":0},{"$f":"$C77* РАБОТЫ!D30*M117","v":0},0,""]
["Точки вентиляции (без прохода через кровлю ) 150мм","Система естественной вентиляции предназначена для того, чтобы регулировать влажность и удалять неприятные запахи из кухни и санузлов. ",null,"шт.",{"$f":"(K78/0.78)*$J$117*1.1","v":0},{"$f":"((J78)/$J$2)*$K$117*1.5","v":0},0,null,null,{"$f":"$C78* РАБОТЫ!C30*M117","v":0},{"$f":"$C78* РАБОТЫ!D31*M117","v":0},0,""]
["Узел на полив","Кран Merril, фитинги, переходники",null,"шт.",{"$f":"(I79/$J$2)*$J$117","v":0},{"$f":"((J79+K79)/0.4)*$K$117","v":0},0,null,{"$f":"$C79* УЗЛЫ!C80*L117","v":0},{"$f":"$C79* РАБОТЫ!C33*M117","v":0},{"$f":"$C79* РАБОТЫ!D33*M117","v":0},{"$f":"SUM(I79:K79)","v":0},""]
["Трап (точечный)","Только материал (трап точечный, переходник, компенсатор высоты)",null,"шт.",{"$f":"(I80/$J$2)*$J$117","v":0},null,0,null,{"$f":"$C80*УЗЛЫ!C82*L117","v":0},null,null,0,""]
["Установка трапа (точечного)","Только работа",null,"Усл.",{"$f":"(I81/$J$2)*$J$117","v":0},{"$f":"((J81+K81)/$J$2)*$K$117","v":0},{"$f":"E81+F81","v":0},null,null,{"$f":"$C81*РАБОТЫ!C34*M117","v":0},{"$f":"$C81*РАБОТЫ!D34*M117","v":0},0,""]
["Трап (линейный) ТЕСЕ","Дренажный трап 700мм, решётка из нержавеющей стали, погружной стакан с мембраной, сифон, комплект опор",null,"шт.",{"$f":"(I82/0.8)*$J$117","v":0},null,{"$f":"F82+E82","v":0},null,{"$f":"$C82*УЗЛЫ!C83*L117","v":0},null,null,{"$f":"SUM(I82:K82)","v":0},""]
["Установка трапа (линейного)","Только работа",null,"Усл.",{"$f":"(I83/$J$2)*$J$117","v":0},{"$f":"((J83+K83)/$J$2)*$K$117","v":0},{"$f":"E83+F83","v":0},null,null,{"$f":"$C83* РАБОТЫ!C35*M117","v":0},{"$f":"$C83* РАБОТЫ!D35*M117","v":0},0,""]
["Лоток для водоотведения (трап) в гараже","Монтаж пластикового лотка (установка по уровню, крепление, монтаж чугунных оцинкованных решеток) без пескоуловителя",null,"пог.м.",{"$f":"I84/0.62","v":0},{"$f":"(J84+K84)/0.62","v":0},{"$f":"E84+F84","v":0},null,{"$f":"((C84*УЗЛЫ!C111))+IF(C84>0,УЗЛЫ!C113,0)","v":0},{"$f":"C84*РАБОТЫ!C40*M117","v":0},{"$f":"C84*РАБОТЫ!D40*M117","v":0},0,""]
[null,"Монтаж пескоуловителя с решеткой",null,"шт.",{"$f":"I85/0.62","v":0},{"$f":"(J85+K85)/0.62","v":0},0,null,{"$f":"C85*УЗЛЫ!C112*L117","v":0},{"$f":"C85*РАБОТЫ!C41*M117","v":0},{"$f":"C85*РАБОТЫ!D41*M117","v":0},0,""]
[null,"Подключение к закладной",null,"шт.",{"$f":"I86/0.62","v":0},{"$f":"(J86+K86)/0.62","v":0},0,null,{"$f":"C86*УЗЛЫ!C114*L117","v":0},{"$f":"C86*РАБОТЫ!C42*M117","v":0},{"$f":"C86*РАБОТЫ!D42*M117","v":0},0,""]
["Установка скрытых смесителей","Душ/ ванна/ гиг.душ (комплектующие, сам смеситель покупает заказчик)",null,"шт.",{"$f":"I87/0.62","v":0},{"$f":"((J87+K87)/$J$2)*$K$117","v":0},{"$f":"E87+F87","v":0},null,{"$f":"C87*УЗЛЫ!C116*L117","v":0},{"$f":"C87*РАБОТЫ!C37*M117","v":0},{"$f":"C87*РАБОТЫ!D37*M117","v":0},0,""]
[null,"Встроенная душевая система с несколькими выводами (комплектующие, сам смеситель покупает заказчик)",null,"шт.",0,{"$f":"((J88+K88)/$J$2)*$K$117","v":0},{"$f":"E88+F88","v":0},null,{"$f":"C88*УЗЛЫ!C118*L117","v":0},{"$f":"C88*РАБОТЫ!C38*M117","v":0},{"$f":"C88*РАБОТЫ!D38*M117","v":0},0,""]
["Инсталляция (только материал)","Инсталляция встраиваемая в деревянную перегородку. Только материал. (доска 40х140, монтажный комплект инсталляции без унитаза)",null,"Компл",{"$f":"I89/0.85","v":0},null,{"$f":"E89+F89","v":0},null,{"$f":"C89*УЗЛЫ!C84*'ОВиВК REHAU'!L117","v":0},null,null,0,""]
[null,"Инсталляция в коробе на стену (кирпич, металлокаркас, брус) или усиление стены из металлокаркаса. Только материал. (металлический профиль ТЕСЕ, монтажный комплект инсталляции без унитаза)",null,"Компл",{"$f":"I90/0.85","v":0},null,{"$f":"E90+F90","v":0},null,{"$f":"C90*УЗЛЫ!C85*L117","v":0},null,null,0,""]
["Короб под инсталяцию (при необходимости)","Только работа",null,"Усл.",null,{"$f":"((J91+K91)/0.33)*$K$117","v":0},0,null,null,{"$f":"$C91* РАБОТЫ!C39*M117","v":0},{"$f":"$C91* РАБОТЫ!D39*M117","v":0},0,""]
["Установка инсталляции","Только работа, материал заказчика",null,"Усл.",null,{"$f":"((J92+K92)/0.25)*$K$117","v":0},{"$f":"E92+F92","v":0},null,null,{"$f":"$C92* РАБОТЫ!C39*M117","v":0},{"$f":"$C92* РАБОТЫ!D39*M117","v":0},0,""]
["Итого материал:",null,null,null,null,null,{"$f":"SUM(E66:E92)","v":0},null,null,null,null,{"$f":"SUM(I66:I92)","v":0},"",{"$f":"(SUM(G93:G94)-SUM(L93:L94))/SUM(G93:G94)","v":0.35000000000000003}]
["Работа:     ",{"$f":"РАБОТЫ!A1","v":"Дата"},null,null,null,null,{"$f":"SUM(F66:F92)","v":12489.23076923077},null,null,null,null,{"$f":"SUM(J66:K92)","v":8118},0.35000000000000003]
["Дополнительно"]
["Материалы/услуги","Описание","Кол-во","Ед.изм","Мат-ал, руб","Работа, руб ","Итого, руб"]
["Проходные отверстия в плите","Алмазное сверление",9,"шт.",null,{"$f":"IF($C$97=0,0,\nIF($C$97<4,9000,\nIF($C$97>3,9000+2300*($C$97-3))))","v":22800},{"$f":"F97+E97","v":22800},null,null,null,{"$f":"IF($C$97=0,0,\nIF($C$97<4,6000,\nIF($C$97>3,6000+1700*($C$97-3))))","v":16200}]
["Штробление ","Выводы под трубопроводы",0,"шт.",null,{"$f":"(J98+K98)/0.65","v":0},{"$f":"F98+E98","v":0},null,null,{"$f":"C98*РАБОТЫ!C36","v":0},{"$f":"C98*РАБОТЫ!D36","v":0}]
["Закладная для канализации","Устройство ввода канализации в дом",0,"шт.",{"$f":"C99*4500","v":0},{"$f":"C99*16000","v":0},{"$f":"F99+E99","v":0},null,null,null,{"$f":"12500*C99","v":0}]
["Закладная для воды","Устройство ввода водоснабжения в дом",0,"шт.",{"$f":"C100*4500","v":0},{"$f":"C100*16000","v":0},{"$f":"F100+E100","v":0},null,null,null,{"$f":"12500*C100","v":0}]
["Вывоз мусора (конетейнер)","Вывоз мусора контейнер (необходим для домов свыше 350 м2)",0,"Усл.",null,{"$f":"K101/0.8","v":0},{"$f":"F101","v":0},null,null,null,{"$f":"C101*8000","v":0}]
["Подготовительные и накладные расходы","Включают разработку комплекта документов для монтажа, проверку ОТК и приемку каждого этапа работ инженерами технического надзора, соблюдение стандарта компании",1,"Усл.",null,{"$f":"C102*31000","v":31000},{"$f":"F102","v":31000},null,null,2000,4500,{"$f":"5500+6500","v":12000},"выезды ИТН",null,null,"Стоимость ОВиВК + радиаторы"]
["Транспортные расходы ","Доставка оборудования и материалов на объект",1,"усл.",null,{"$f":"C103*11000","v":11000},{"$f":"F103","v":11000},null,null,null,null,10000,null,null,null,{"$f":"F110+'ТП ТЕСЕ'!G46","v":77289.230769230766}]
["Доставка бытовки на объект","Если есть такая необходимость, мы предоставляем бытовку для проживания на объекте строителей. После окончания работ, бытовка вывозится.",null,"км от мкад",null,null,{"$f":"IF(C104=0,0,\nIF(C104<100,24000,\nIF(C104<150,30000,36000)))","v":0},null,null,null,null,{"$f":"IF(C104=0,0,\nIF(C104<=50,13500,\nIF(C104<=100,17000,\nIF(C104<=150,20500,\nIF(C104<=200,24000,\nIF(C104<=250,27500,\nIF(C104>250,31000,)))))))","v":0}]
["Итого по смете:",null,null,null,null,{"$f":"SUM(G17:G18,G62:G63,G93:G94,G97:G104)","v":77289.230769230766},null,null,{"$f":"SUM(L17,L62,L93)","v":0},{"$f":"SUM(J6:J16,J21:J61,J66:J92,J97:J104)","v":8765},{"$f":"SUM(K6:K16,K21:K61,K66:K92,K97:K104)","v":22053},{"$f":"SUM(I105:K105,L97:L104)-M108","v":52818},{"$f":"IF(F110=0,\"\",(F110-L105)/F110)","v":0.31661889406425414}]
["Вычет по сертификату за систему отопление:",null,null,"м²",{"$f":"(I106/$J$2)*$J$117","v":0},{"$f":"(C106*600)*$K$117","v":0},{"$f":"F106+E106","v":0},null,{"$f":"$C106*(УЗЛЫ!C15)+(IF(C106=0,0,)+IF(C106>1,УЗЛЫ!D17,))","v":0},{"$f":"C106*(РАБОТЫ!C17+РАБОТЫ!C18)/R49","v":0},{"$f":"C106*(РАБОТЫ!D17+РАБОТЫ!D18)/R49","v":0},{"$f":"SUM(I106:K106)","v":0}]
["Вычет по сертификату за систему водоснабжения:",null,null,"точка",{"$f":"(I107/$K$2)*$J$117","v":0},{"$f":"((J107+K107)/$K$2)*$K$117*1.3","v":0},0,null,{"$f":"C107* УЗЛЫ!C70","v":0},{"$f":"$C107*(РАБОТЫ!C23 + (РАБОТЫ!C24/10))","v":0},{"$f":"$C107*(РАБОТЫ!D23 + (РАБОТЫ!D24/10))","v":0},{"$f":"SUM(I107:K107)","v":0}]
["Вычет по сертификату за систему канализации:",null,null,"точка",{"$f":"(I108/$J$2)*$J$117","v":0},{"$f":"((J108+K108)/$J$2)*$K$117","v":0},0,null,{"$f":"$C108* УЗЛЫ!C78","v":0},{"$f":"$C108* (РАБОТЫ!C26+(РАБОТЫ!C27*0.5)+(РАБОТЫ!C28*0.1))","v":0},{"$f":"$C108* (РАБОТЫ!D27+РАБОТЫ!D28)","v":0},0,{"$f":"SUM(L106:L108)","v":0}]
["Корректировка стоимости (скидка):",null,null,null,null,null,0]
["Итого по смете со скидкой:",null,null,null,null,{"$f":"F105-G109-G106-G107-G108","v":77289.230769230766}]
[null,{"$f":"РАБОТЫ!$A$1","v":"Дата"},null,null,null,null,null,null,null,null,"Дом кирпично-деревянный",0]
[null,null,null,null,null,null,null,null,null,null,"(поставить 1)"]
[]
[null,null,null,null,null,null,null,null,null,"Коэффициент для заказчика",null,"Коэффициент для СЕБЕСА дом свыше 350м2 плюс 10%;           мусор-контейнер;        дизайн-проект 10%"]
[null,null,null,null,null,null,null,null,null,null,null,null,null,"* 10% на оплату работ, материал через запрос в проектный"]
[null,null,null,null,null,null,null,null,null,"Мат","Раб","Мат","Раб"]
[null,null,null,null,null,null,null,null,null,1,1,1,1]
[]
[null,null,null,null,null,null,null,null,"Стоим. мат-ла","Стоим. работ бр.","Стоим. работ ПР","Мат-л + работа","Промежут. рента"]
[null,null,null,null,null,null,null,null,null,null,null,null,null,null,"Справочно, в разбивке по этапам:"]
[null,null,null,null,null,null,null,null,{"$f":"I105-I122-I123","v":{"$error":"#REF!"}},{"$f":"J105-J122-J123","v":{"$error":"#REF!"}},{"$f":"K105-K122-K123","v":{"$error":"#REF!"}},{"$f":"L105-L122-L123","v":{"$error":"#REF!"}},{"$f":"IF(Q121=0, \"\", (Q121-L121)/Q121)","v":{"$error":"#REF!"}},null,"Скрытые",null,{"$f":"F105-Q122-Q123","v":{"$error":"#REF!"}}]
[null,null,null,null,null,null,null,null,{"$f":"SUM(#REF!+#REF!+#REF!+#REF!+#REF!+#REF!+#REF!+#REF!+#REF!+#REF!+#REF!+#REF!+#REF!)","v":{"$error":"#REF!"}},{"$f":"SUM(#REF!+#REF!+#REF!++#REF!+#REF!+#REF!+#REF!+#REF!+#REF!+#REF!+#REF!+#REF!+#REF!)","v":{"$error":"#REF!"}},{"$f":"SUM(#REF!+#REF!+#REF!++#REF!+#REF!+#REF!+#REF!+#REF!+#REF!+#REF!+#REF!+#REF!+#REF!)","v":{"$error":"#REF!"}},{"$f":"SUM(#REF!+#REF!+#REF!++#REF!+#REF!+#REF!+#REF!+#REF!+#REF!+#REF!+#REF!+#REF!+#REF!)","v":{"$error":"#REF!"}},{"$f":"IF(Q122=0, \"\", (Q122-L122)/Q122)","v":{"$error":"#REF!"}},null,"Теплые полы",null,{"$f":"SUM(#REF!+#REF!+#REF!+#REF!+#REF!+#REF!+#REF!+#REF!+#REF!+#REF!+#REF!+#REF!+#REF!)","v":{"$error":"#REF!"}}]
[null,null,null,null,null,null,null,null,{"$f":"SUM(I6:I16)","v":0},{"$f":"SUM(J6:J16)","v":0},{"$f":"SUM(K6:K16)","v":0},{"$f":"SUM(L6:L16)","v":0},{"$f":"IF(Q123=0, \"\", (Q123-L123)/Q123)","v":""},null,"Теплотрасса",null,{"$f":"SUM(G6:G16)","v":0}]

{"sheet":"ОВиВК ТЕСЕ","index":3,"n_rows":123,"n_cols":22,"rows_kept":123,"cut":false,"hidden":false,"merged":[[109,5,109,6],[113,9,114,10],[113,11,114,12],[118,8,119,8],[118,9,119,9],[118,10,119,10],[118,11,119,11],[118,12,119,12],[92,14,93,14],[93,2,93,3],[94,0,94,6],[104,0,104,4],[104,5,104,6],[92,2,92,3],[71,0,74,0],[83,0,85,0],[86,0,87,0],[88,0,89,0],[92,13,93,13],[61,2,61,3],[61,14,62,14],[62,2,62,3],[63,0,63,6],[68,0,69,0],[65,0,66,0],[48,0,49,0],[51,0,60,0],[13,9,14,9],[13,10,14,10],[16,13,17,13],[18,0,18,6],[20,0,23,0],[28,0,29,0],[13,0,14,0],[13,5,14,5],[31,0,32,0],[34,0,39,0],[40,0,42,0],[43,0,45,0],[46,0,47,0],[0,0,0,6],[1,1,1,6],[2,0,2,6],[3,0,3,6],[5,0,8,0]]}
["Приложение №    к Договору подряда №    ______________от_____________",null,null,null,null,null,null,null,"курс €","КОЭФ для ренты","КОЭФ для ренты"]
[{"$f":"TODAY()","v":"2024-02-02"},"Данный сметный расчёт действителен 7 календарных дней. По истечению срока, цены могут быть изменены.",null,null,null,null,null,null,100,0.65,0.6]
["Сметный расчет ОиВК ТЕСЕ"]
["Теплотрасса",null,null,null,null,null,null,null,{"$f":"РАБОТЫ!A1","v":"Дата"}]
["Материалы/услуги","Описание","Кол-во","Ед.изм","Мат-ал, руб","Работа, руб ","Итого, руб",null,"Материал","Бригада","Прораб","Итого","Рента"]
["Теплотрасса ","Трубопровод USYSTEMS Ecoflex Quattro труба 2x25x2,3-2x25х3,5 /175 совмещает в себе трубы для систем горячего водоснабжения и теплоснабжения.",null,"пог.м",{"$f":"(I6/$J$2)*$J$117","v":0},{"$f":"((J6+K6)/$J$2)*$K$117","v":0},{"$f":"F6+E6","v":0},null,{"$f":"$C6*(УЗЛЫ!C2)*L117","v":0},{"$f":"$C6*РАБОТЫ!C5*M117","v":0},{"$f":"$C6*РАБОТЫ!D5*M117","v":0},{"$f":"SUM(I6:K6)","v":0},{"$f":"IF(G6=0,\"\",(G6-L6)/G6)","v":""}]
[null,"Трубопровод USYSTEMS  Ecoflex Quattro труба 2x32x2,9-2x25х3,5 /175 совмещает в себе трубы для систем горячего водоснабжения и теплоснабжения.",null,"пог.м",0,0,0,null,{"$f":"$C7* (УЗЛЫ!C3)*L117","v":0},{"$f":"$C7*РАБОТЫ!C5*M117","v":0},{"$f":"$C7*РАБОТЫ!D5*M117","v":0},0,""]
[null,"Трубопровод USYSTEMS  Ecoflex Varia Twin PN6 25x2.3 25x2.3 140 для водоснабжения и теплоснабжения.",null,"пог.м",0,0,0,null,{"$f":"$C8* (УЗЛЫ!C4)*L117","v":0},{"$f":"$C8*РАБОТЫ!C5*M117","v":0},{"$f":"$C8*РАБОТЫ!D5*M117","v":0},0,""]
[null,"Трубопровод USYSTEMS  Ecoflex Varia Twin PN6 32x2.9 32x2.9 140 для водоснабжения и теплоснабжения.",null,"пог.м",0,0,0,null,{"$f":"$C9* (УЗЛЫ!C5)*L117","v":0},{"$f":"$C9*РАБОТЫ!C5*M117","v":0},{"$f":"$C9*РАБОТЫ!D5*M117","v":0},0,""]
["Труба ПНД D32","Для подачи холодного водоснабжения (теплоизоляция Энергофлекс)",null,"пог.м",0,0,0,null,{"$f":"$C10*(УЗЛЫ!C6+УЗЛЫ!C7)*L117","v":0},{"$f":"$C10*РАБОТЫ!C6*M117","v":0},{"$f":"$C10*РАБОТЫ!D6*M117","v":0},0,""]
["Узел  ТТ1 до150м2 ","Обвязка теплотрассы, подключение к коллекторам и насосам",null,"компл",0,0,0,null,{"$f":"$C11*(УЗЛЫ!C8*0.5)*L117","v":0},{"$f":"$C11*РАБОТЫ!C7*M117","v":0},{"$f":"$C11*РАБОТЫ!D7*M117","v":0},0,"","* Обвязка с одной стороны, в случае обвязки с двух сторон - 2 компл."]
["Узел ТТ2 150-200м2 ","Обвязка теплотрассы, подключение к коллекторам и насосам",null,"компл",0,0,0,null,{"$f":"$C12* (УЗЛЫ!C9*0.5)*L117","v":0},{"$f":"$C12*РАБОТЫ!C7*M117","v":0},{"$f":"$C12*РАБОТЫ!D7*M117","v":0},0,""]
["Автоматика","Датчик температуры МЛ-722 (DS)",null,"шт.",0,0,0,null,{"$f":"$C13* УЗЛЫ!C12*L117","v":0},{"$f":"($C13*РАБОТЫ!C8+$C13*РАБОТЫ!D8)*M117","v":0},null,0,""]
["Кабель МКЭШ 5х0,75 , ПНД труба гофр. с протяжкой","Кабель управления автоматикой ",null,"пог.м",{"$f":"(I14/0.7)*$J$117","v":0},{"$f":"((J14+K14)/0.8)*$K$117","v":0},0,null,{"$f":"C14*УЗЛЫ!C11*L117","v":0},{"$f":"C14*РАБОТЫ!C6*M117","v":0},{"$f":"C14*РАБОТЫ!D6*M117","v":0},0,""]
[null,"Протяжка кабеля в ПНД трубе  (бухта 100м)",null,"бухта",{"$f":"(I15/0.8)*$J$117","v":0},null,0,null,{"$f":"C15*УЗЛЫ!C10*L117","v":0},null,null,0,""]
["Земляные работы","Производится выемка и обратная засыпка",null,"м3",{"$f":"(I16/$J$2)*$J$117","v":0},{"$f":"((J16+K16)/$J$2)*$K$117","v":0},0,null,null,{"$f":"$C16*РАБОТЫ!C9*M117","v":0},{"$f":"$C16*РАБОТЫ!D9*M117","v":0},0,""]
["Итого материал:                                                                                                                                                                                                                                                            ",null,null,null,null,null,{"$f":"SUM(E6:E16)","v":0},null,null,null,null,{"$f":"SUM(I6:I16)","v":0},"",{"$f":"(SUM(G17:G18)-SUM(L17:L18))/SUM(G17:G18)","v":{"$error":"#DIV/0!"}}]
["Работа:                                                                                                                                                                                                                                               ",null,null,null,null,null,{"$f":"SUM(F6:F16)","v":0},null,null,null,null,{"$f":"SUM(J6:K16)","v":0},""]
["Отопление"]
["Материалы/услуги","Описание","Кол-во","Ед.изм","Мат-ал, руб","Работа, руб ","Итого, руб",null,"Материал","Бригада","Прораб","Итого","Рента"]
["Радиаторы (белые)","Радиаторы стальные панельные концерна Rettig Heating Group (Европа)",null,"шт.",{"$f":"(I21/0.75)*$J$117","v":0},null,{"$f":"IF(C21>=1,E21,0)","v":0},null,{"$f":"$C21*УЗЛЫ!C18","v":0},null,null,{"$f":"SUM(I21:K21)","v":0},{"$f":"IF(G21=0,\"\",(G21-L21)/G21)","v":""}]
[null,"Радиаторы стальные панельные Rommer (Россия)",null,"шт.",{"$f":"(I22/0.75)*$J$117","v":0},null,{"$f":"IF(C22>=1,E22,0)","v":0},null,{"$f":"C22*УЗЛЫ!C19","v":0},null,null,0,""]
[null,"Радиатор КЗТО Гармония ",null,"шт.",{"$f":"(I23/0.75)*$J$117","v":0},null,{"$f":"IF(C23>=1,E23,0)","v":0},null,{"$f":"C23*УЗЛЫ!C20","v":0},null,null,0,""]
[null,"Радиатор КЗТО РСК ",null,"шт.",{"$f":"(I24/0.75)*$J$117","v":0},null,0,null,{"$f":"C24*УЗЛЫ!C21","v":0},null,null,0,""]
["Комплект декоративной подводки","Для труб из сшитого полиэтилена",null,"компл.",{"$f":"(I25/0.9)*$J$117","v":0},{"$f":"((J25+K25)/$J$2)*$K$117*1.5","v":0},{"$f":"F25+E25","v":0},null,{"$f":"$C25*УЗЛЫ!C22*L117","v":0},{"$f":"$C25* РАБОТЫ!C12*M117","v":0},{"$f":"$C25* РАБОТЫ!D12*M117","v":0},0,""]
["Монтаж креплений для радиаторов настенный","Монтаж с использованием электронного измерителя уровня",null,"компл.",{"$f":"(I26/$J$2)*$J$117","v":0},{"$f":"((J26+K26)/$J$2)*$K$117*1.3","v":0},0,null,null,{"$f":"$C26*(РАБОТЫ!C13*0.3)*M117","v":0},{"$f":"$C26*( РАБОТЫ!D13*0.3)*M117","v":0},0,""]
["Монтаж креплений для радиаторов напольный","Монтаж с использованием электронного измерителя уровня",null,"компл.",{"$f":"(I27/$J$2)*$J$117","v":0},{"$f":"((J27+K27)/$J$2)*$K$117*1.3","v":0},0,null,{"$f":"C27*УЗЛЫ!D26*L117","v":0},{"$f":"$C27*( РАБОТЫ!C13*0.3)*M117","v":0},{"$f":"$C27*( РАБОТЫ!D13*0.3)*M117","v":0},0,""]
["Монтаж радиатора","Монтаж с использованием электронного измерителя уровня",null,"компл.",{"$f":"(I28/$J$2)*$J$117","v":0},{"$f":"((J28+K28)/0.76)*$K$117*1.3","v":0},0,null,null,{"$f":"$C28* РАБОТЫ!C13*M117","v":0},{"$f":"$C28* РАБОТЫ!D13*M117","v":0},0,""]
["Комплект подключения ","Узел нижнего подключения радиатора прямой из пола (без декор.подводки)",null,"компл.",{"$f":"(I29/0.8)*$J$117*0.7","v":0},{"$f":"(C29*500)*K117","v":0},0,null,{"$f":"$C29*УЗЛЫ!C28*L117","v":0},null,null,0,""]
[null,"Узел нижнего подключения радиатора угловой из стены (без декор. подводки)",null,"компл.",{"$f":"(I30/0.8)*$J$117*0.7","v":0},{"$f":"(C30*590)+(J30+K30)","v":0},0,null,{"$f":"$C30*УЗЛЫ!C30*L117","v":0},{"$f":"C30*((РАБОТЫ!C36*2))","v":0},{"$f":"C30*(РАБОТЫ!D36*2)*M117","v":0},0,""]
["Терморегулятор для радиатора","Термоголовка (Германия), c жидкостным чувствительным элементом. С функцией защиты от замерзания и с блокировкой диапазона настройки.",null,"шт.",{"$f":"1069*C31","v":0},{"$f":"(C31*500)*K117*0.7","v":0},0,null,0,null,null,{"$f":"SUM(I31:K31)","v":0},""]
["Управление внутрипольным конвектором","Настенный регулятор программируемый с сенсорным экраном. Возможность регулировки до 12 приборов (Vartronic Белый)",null,"шт.",{"$f":"(I32/$J$2)*$J$117","v":0},{"$f":"((J32+K32)/$J$2)*K117","v":0},0,null,{"$f":"$C32* УЗЛЫ!C33*L117","v":0},{"$f":"$C32*РАБОТЫ!C15*M117","v":0},{"$f":"$C32*РАБОТЫ!D15*M117","v":0},0,""]
[null,"Настенный регулятор программируемый с сенсорным экраном. Возможность регулировки до 12 приборов (Vartronic Черный)",null,"шт.",{"$f":"(I33/$J$2)*$J$117","v":0},{"$f":"((J33+K33)/$J$2)*K117","v":0},0,null,{"$f":"$C33* УЗЛЫ!C33*L117","v":0},{"$f":"$C33*РАБОТЫ!C15*M117","v":0},{"$f":"$C33*РАБОТЫ!D15*M117","v":0},{"$f":"SUM(I33:K33)","v":0},""]
["Комплектующие для подлючения конвектора внутрипольного","Комплект запорно-регулирующей арматуры.",null,"компл.",{"$f":"(I34/$J$2)*$J$117","v":0},{"$f":"(C34*2300)*K117","v":0},0,null,{"$f":"$C34*УЗЛЫ!C34*L117","v":0},null,null,0,""]
["Конвектор энергозависимый внутрипольный ","Встраиваемый в пол конвектор Varmann Qtherm 230.75.1250. решетка роликовая из алюминия, тангенциальный вентилятор",null,"компл.",{"$f":"(I35/0.7)*$J$117*0.88","v":0},{"$f":"((J35+K35)/$J$2)*$K$117*2","v":0},0,null,{"$f":"$C35*УЗЛЫ!C36","v":0},{"$f":"$C35*РАБОТЫ!C16*M117","v":0},{"$f":"$C35*РАБОТЫ!D16*M117","v":0},0,""]
[null,"Встраиваемый в пол конвектор Varmann Qtherm 230.75.1500. решетка роликовая из алюминия, тангенциальный вентилятор",null,"компл.",0,0,0,null,{"$f":"$C36*УЗЛЫ!C37","v":0},{"$f":"$C36*РАБОТЫ!C16*M117","v":0},{"$f":"$C36*РАБОТЫ!D16*M117","v":0},0,""]
[null,"Встраиваемый в пол конвектор Varmann Qtherm 230.75.1750. решетка роликовая из алюминия, тангенциальный вентилятор",null,"компл.",0,0,0,null,{"$f":"$C37*УЗЛЫ!C38","v":0},{"$f":"$C37* РАБОТЫ!$C$16*M117","v":0},{"$f":"$C37* РАБОТЫ!$D$16*M117","v":0},0,""]
[null,"Встраиваемый в пол конвектор Varmann Qtherm 230.75.2000. решетка роликовая из алюминия, тангенциальный вентилятор",null,"компл.",0,0,0,null,{"$f":"C38*УЗЛЫ!C39","v":0},{"$f":"$C38* РАБОТЫ!$C$16*M117","v":0},{"$f":"$C38* РАБОТЫ!$D$16*M117","v":0},0,""]
[null,"Встраиваемый в пол конвектор Varmann Qtherm 230.75.2250. решетка роликовая из алюминия, тангенциальный вентилятор",null,"компл.",0,0,0,null,{"$f":"C39*УЗЛЫ!C40","v":0},{"$f":"$C39* РАБОТЫ!$C$16*M117","v":0},{"$f":"$C39* РАБОТЫ!$D$16*M117","v":0},0,""]
[null,"Встраиваемый в пол конвектор Varmann Qtherm 230.75.3000. решетка роликовая из алюминия, вентиляторы с ЕС двигателем",null,"компл.",0,0,0,null,{"$f":"C40*УЗЛЫ!C41","v":0},{"$f":"$C40* РАБОТЫ!$C$16*M117","v":0},{"$f":"$C40* РАБОТЫ!$D$16*M117","v":0},0,""]
["Конвектор энергонезависимый внутрипольный ","Встраиваемый в пол конвектор Varmann Ntherm, 230.90.1400. решетка роликовая из алюминия.",null,"компл.",0,0,0,null,{"$f":"C41*УЗЛЫ!C42","v":0},{"$f":"$C41* РАБОТЫ!$C$16*M117","v":0},{"$f":"$C41* РАБОТЫ!$D$16*M117","v":0},{"$f":"SUM(I41:K41)","v":0},""]
[null,"Встраиваемый в пол конвектор Varmann Ntherm, 230.90.1800. решетка роликовая из алюминия.",null,"компл.",0,0,0,null,{"$f":"C42*УЗЛЫ!C43","v":0},{"$f":"$C42* РАБОТЫ!$C$16*M117","v":0},{"$f":"$C42* РАБОТЫ!$D$16*M117","v":0},0,""]
[null,"Встраиваемый в пол конвектор Varmann Ntherm, 230.90.2200. решетка роликовая из алюминия.",null,"компл.",0,0,0,null,{"$f":"C43*УЗЛЫ!C44","v":0},{"$f":"$C43* РАБОТЫ!$C$16*M117","v":0},{"$f":"$C43* РАБОТЫ!$D$16*M117","v":0},0,""]
["Конвектор энергонезависимый внутрипольный влагостойкий корпус","Встраиваемый в пол конвектор Varmann Ntherm ES (для влажных помещений), 230.90.1400. решетка роликовая из алюминия.",null,"компл.",0,0,0,null,{"$f":"C44*УЗЛЫ!C45","v":0},{"$f":"$C44* РАБОТЫ!$C$16*M117","v":0},{"$f":"$C44* РАБОТЫ!$D$16*M117","v":0},0,""]
[null,"Встраиваемый в пол конвектор Varmann Ntherm ES (для влажных помещений), 230.90.1800. решетка роликовая из алюминия.",null,"компл.",0,0,0,null,{"$f":"C45*УЗЛЫ!C46","v":0},{"$f":"$C45* РАБОТЫ!$C$16*M117","v":0},{"$f":"$C45* РАБОТЫ!$D$16*M117","v":0},0,""]
[null,"Встраиваемый в пол конвектор Varmann Ntherm ES (для влажных помещений), 230.90.2200. решетка роликовая из алюминия.",null,"компл.",0,0,0,null,{"$f":"C46*УЗЛЫ!C47","v":0},{"$f":"$C46* РАБОТЫ!$C$16*M117","v":0},{"$f":"$C46* РАБОТЫ!$D$16*M117","v":0},0,""]
["Конвектор напольный","Конвектор Varmann MiniKon 235.130.1600  ",null,"шт.",{"$f":"(I47/0.7)*$J$117*0.87","v":0},0,0,null,{"$f":"C47*УЗЛЫ!C48","v":0},{"$f":"$C47* РАБОТЫ!C14*M117","v":0},{"$f":"$C47*РАБОТЫ!D14*M117","v":0},0,""]
[null,"Конвектор Varmann MiniKon 185.130.1600",null,"шт.",{"$f":"(I48/0.7)*$J$117*0.85","v":0},0,0,null,{"$f":"C48*УЗЛЫ!C49","v":0},{"$f":"$C48* РАБОТЫ!$C$14*M117","v":0},{"$f":"$C48* РАБОТЫ!$D$14*M117","v":0},0,""]
["Коллекторная система отопления","Трубопроводы системы отопления   -   высококачественные трубы  PEX  (Трубы ТЕСЕ Германия -  поперечно сшитый полиэтилен) в утеплителе \"Энергофлекс\". ",null,"м²",{"$f":"(I49/$J$2)*$J$117","v":0},{"$f":"(C49*600)*$K$117","v":0},0,null,{"$f":"$C49*(УЗЛЫ!C13)+(IF(C49=0,0,)+IF(C49>1,УЗЛЫ!D17,))","v":0},{"$f":"C49*((РАБОТЫ!C17+РАБОТЫ!C18)/R49)*M117","v":0},{"$f":"C49*((РАБОТЫ!D17+РАБОТЫ!D18)/R49)*M117","v":0},0,"",null,"коэф. трубы отопл.:",{"$f":"IF(T49<70,4.5, IF(T49<250, 3.5, 4))","v":4.5},"закл. петли:",{"$f":"IF(V49>7, V49, IF(T49=0, 12, IF(T49<165,11, 11+CEILING((T49-165)/8,1))))","v":12},"отапл. площ.:",{"$f":"C49","v":0},"радиаторы /конвек-ры:",{"$f":"C21+C37","v":0}]
[null,"Переход с трубопроводов Stout (по купону) на ТЕСЕ Германия",null,"м²",{"$f":"I50/0.65","v":0},{"$f":"(C50*600)*$K$117","v":0},0,null,{"$f":"C50*УЗЛЫ!C16*L117","v":0},null,null,0,""]
["Подключение коллекторного шкафа вне котельной","Трубопроводы (до 25 пог.м), фитинги, арматура",null,"компл.",{"$f":"I51/0.62","v":0},{"$f":"(J51+K51)/0.6","v":0},0,null,{"$f":"C51*(УЗЛЫ!C50+УЗЛЫ!C51)*L117","v":0},{"$f":"C51*РАБОТЫ!C19*M117","v":0},{"$f":"C51*РАБОТЫ!D19*M117","v":0},0,""]
["Коллектор системы отопления","Коллектор stout, шкаф, шаровые краны, фиксаторы, прокладки, фитинги. 3 выхода",null,"компл.",{"$f":"(I52/$K$2)*$J$117*0.75","v":0},{"$f":"((J52+K52)/$K$2)*$K$117*2.7","v":0},{"$f":"E52+F52","v":0},null,{"$f":"$C52*УЗЛЫ!N58*L117","v":0},{"$f":"$C52*РАБОТЫ!C20*M117","v":0},{"$f":"$C52*РАБОТЫ!D20*M117","v":0},0,""]
[null,"Коллектор stout, шкаф, шаровые краны, фиксаторы, прокладки, фитинги. 4 выхода",null,"компл.",{"$f":"(I53/$K$2)*$J$117*0.75","v":0},0,{"$f":"E53+F53","v":0},null,{"$f":"$C53*УЗЛЫ!N59*L117","v":0},{"$f":"$C53*РАБОТЫ!C20*M117","v":0},{"$f":"$C53*РАБОТЫ!D20*M117","v":0},0,""]
[null,"Коллектор stout, шкаф, шаровые краны, фиксаторы, прокладки, фитинги. 5 выходов",null,"компл.",{"$f":"(I54/$K$2)*$J$117*0.75","v":0},0,0,null,{"$f":"$C54*УЗЛЫ!N60*L117","v":0},{"$f":"$C54*РАБОТЫ!C20*M117","v":0},{"$f":"$C54*РАБОТЫ!D20*M117","v":0},0,""]
[null,"Коллектор stout, шкаф, шаровые краны, фиксаторы, прокладки, фитинги. 6 выходов",null,"компл.",{"$f":"(I55/$K$2)*$J$117*0.8","v":0},0,0,null,{"$f":"$C55*УЗЛЫ!N61*L117","v":0},{"$f":"$C55*РАБОТЫ!C20*M117","v":0},{"$f":"$C55*РАБОТЫ!D20*M117","v":0},0,""]
[null,"Коллектор stout, шкаф, шаровые краны, фиксаторы, прокладки, фитинги. 7 выходов",null,"компл.",{"$f":"(I56/$K$2)*$J$117*0.81","v":0},0,0,null,{"$f":"$C56*УЗЛЫ!N62*L117","v":0},{"$f":"$C56*РАБОТЫ!C20*M117","v":0},{"$f":"$C56*РАБОТЫ!D20*M117","v":0},0,""]
[null,"Коллектор stout, шкаф, шаровые краны, фиксаторы, прокладки, фитинги. 8 выходов",null,"компл.",{"$f":"(I57/$K$2)*$J$117*0.8","v":0},0,0,null,{"$f":"$C57*УЗЛЫ!N63*L117","v":0},{"$f":"$C57*РАБОТЫ!C20*M117","v":0},{"$f":"$C57*РАБОТЫ!D20*M117","v":0},0,""]
[null,"Коллектор stout, шкаф, шаровые краны, фиксаторы, прокладки, фитинги. 9 выходов",null,"компл.",{"$f":"(I58/$K$2)*$J$117*0.81","v":0},0,0,null,{"$f":"$C58*УЗЛЫ!N64*L117","v":0},{"$f":"$C58*РАБОТЫ!C20*M117","v":0},{"$f":"$C58*РАБОТЫ!D20*M117","v":0},0,""]
[null,"Коллектор stout, шкаф, шаровые краны, фиксаторы, прокладки, фитинги. 10 выходов",null,"компл.",{"$f":"(I59/$K$2)*$J$117*0.8","v":0},0,0,null,{"$f":"$C59*УЗЛЫ!N65*L117","v":0},{"$f":"$C59*РАБОТЫ!C20*M117","v":0},{"$f":"$C59*РАБОТЫ!D20*M117","v":0},0,""]
[null,"Коллектор stout, шкаф, шаровые краны, фиксаторы, прокладки, фитинги. 11 выходов",null,"компл.",{"$f":"(I60/$K$2)*$J$117*0.8","v":0},0,0,null,{"$f":"$C60*УЗЛЫ!N66*L117","v":0},{"$f":"$C60*РАБОТЫ!C20*M117","v":0},{"$f":"$C60*РАБОТЫ!D20*M117","v":0},0,""]
[null,"Коллектор stout, шкаф, шаровые краны, фиксаторы, прокладки, фитинги. 12 выходов",null,"компл.",{"$f":"(I61/$K$2)*$J$117*0.81","v":0},0,0,null,{"$f":"$C61*УЗЛЫ!N67*L117","v":0},{"$f":"$C61*РАБОТЫ!C20*M117","v":0},{"$f":"$C61*РАБОТЫ!D20*M117","v":0},0,""]
["Итого материал:                                                                                                                                                                                                                                                            ",null,null,null,null,null,{"$f":"SUM(E21:E61)","v":0},null,null,null,null,{"$f":"SUM(I21:I61)","v":0},"",{"$f":"(SUM(G62:G63)-SUM(L62:L63))/SUM(G62:G63)","v":{"$error":"#DIV/0!"}}]
["Работа:",null,null,null,null,null,{"$f":"SUM(F21:F61)","v":0},null,null,null,null,{"$f":"SUM(J21:K61)","v":0},""]
["Водоснабжение, канализация, вентиляция"]
["Материалы/услуги","Описание","Кол-во","Ед.изм","Мат-ал, руб","Работа, руб ","Итого, руб",null,"Материал","Бригада","Прораб","Итого","Рента"]
["Точки водоснабжения","Разводка труб холодного и горячего водоснабжения внутри помещения. Сшитый полиэтилен (ТЕСЕ, Германия), в утеплителе \"Энергофлекс\". Установка водорозеток",null,"шт.",{"$f":"(I66/$K$2)*$J$117","v":0},{"$f":"((J66+K66)/$K$2)*$K$117*1.3","v":0},{"$f":"F66+E66","v":0},null,{"$f":"C66* УЗЛЫ!C68*L117","v":0},{"$f":"$C66*(РАБОТЫ!C23 + (РАБОТЫ!C24/10))*M117","v":0},{"$f":"$C66*(РАБОТЫ!D23 + (РАБОТЫ!D24/10))*M117","v":0},{"$f":"SUM(I66:K66)","v":0},{"$f":"IF(G66=0,\"\",(G66-L66)/G66)","v":""},null,"коэф. труб воды.:",{"$f":"IF(R66<8, 12, IF(R66<11, 8, IF(R66<18, 9,10)))","v":12},"точки воды:",{"$f":"C66","v":0}]
[null,"Переход водоснабжения Stout (по купону) на Тесе Германия",null,"шт.",{"$f":"I67/0.65","v":0},null,0,null,{"$f":"C67*УЗЛЫ!C71*L117","v":0},null,null,0,""]
["Подключение коллекторного шкафа вне котельной","Трубопроводы (до 25 пог.м), фитинги, арматура",null,"компл.",{"$f":"I68/0.62","v":0},{"$f":"(J68+K68)/0.6","v":0},0,null,{"$f":"C68*(УЗЛЫ!C50+УЗЛЫ!C51)*L117","v":0},{"$f":"C68*РАБОТЫ!C19*M117","v":0},{"$f":"C68*РАБОТЫ!D19*M117","v":0},0,""]
["Коллектор водоснабжения","Без рециркуляции - коллектор, шкаф распределительный наружный, шаровые краны, фиксаторы, прокладки, компрессионные фитинги.",null,"компл.",{"$f":"(I69/$J$2)*$J$117*0.92","v":0},{"$f":"((J69+K69)/$J$2)*$K$117*1.8","v":0},0,null,{"$f":"$C69*УЗЛЫ!N72*L117","v":0},{"$f":"$C69*РАБОТЫ!C25*M117","v":0},{"$f":"$C69*РАБОТЫ!D25*M117","v":0},0,""]
[null,"С рециркуляцией - коллектор, шкаф распределительный наружный, шаровые краны, фиксаторы, прокладки, компрессионные фитинги.",null,"компл.",{"$f":"(I70/$J$2)*$J$117*0.9","v":0},{"$f":"((J70+K70)/$J$2)*$K$117*2.9","v":0},0,null,{"$f":"$C70*УЗЛЫ!N73*L117","v":0},{"$f":"$C70*РАБОТЫ!C25*M117","v":0},{"$f":"$C70*РАБОТЫ!D25*M117","v":0},0,""]
["Точки циркуляции","Дополнительный контур на влажное помещение",null,"шт.",{"$f":"(I71/$J$2)*$J$117","v":0},{"$f":"((J71+K71)/$J$2)*$K$117","v":0},0,null,{"$f":"C71*УЗЛЫ!C68*L117","v":0},{"$f":"$C71* РАБОТЫ!C23*M117","v":0},{"$f":"$C71* РАБОТЫ!D23*M117","v":0},{"$f":"SUM(I71:K71)","v":0},""]
["Точки канализации ","Монтаж системы канализации шумопоглащающими трубами Rehau Германия",null,"шт.",{"$f":"(I72/$J$2)*$J$117","v":0},{"$f":"((J72+K72)/$J$2)*$K$117","v":0},0,null,{"$f":"$C72* УЗЛЫ!C76*L117","v":0},{"$f":"$C72* (РАБОТЫ!C26+(РАБОТЫ!C27*0.5)+(РАБОТЫ!C28*0.1))*M117","v":0},{"$f":"$C72* (РАБОТЫ!D27+РАБОТЫ!D28)*M117","v":0},0,""]
[null,"Переход с трубы Sinicon Россия (по купону) на трубу Rehau Германия",null,"шт.",{"$f":"(I73/$J$2)*$J$117","v":0},null,0,null,{"$f":"C73*УЗЛЫ!C79*L117","v":0},null,null,0,""]
[null,"Монтаж системы канализации производится шумопоглощающими трубами Sinicon Россия. Прокладка  под лентой ростверка, с последующим выпуском на 1м за него  (для фундамента типа \"ростверк\")",null,"шт.",{"$f":"(I74/$J$2)*$J$117","v":0},{"$f":"((J74+K74)/$J$2)*$K$117","v":0},0,null,{"$f":"$C74* УЗЛЫ!C77*L117","v":0},{"$f":"$C74* (РАБОТЫ!C26+(РАБОТЫ!C27*0.5)+(РАБОТЫ!C28*0.1))*M117","v":0},{"$f":"$C74* (РАБОТЫ!D27+РАБОТЫ!D28)*M117","v":0},0,{"$f":"IF(G74=0,\"\",(G74-L74)/G74)","v":""}]
[null,"Земляные работы",4,"м3",{"$f":"(I75/$J$2)*$J$117","v":0},{"$f":"((J75+K75)/$J$2)*$K$117","v":12489.23076923077},12489.23076923077,null,null,{"$f":"$C75*РАБОТЫ!C28*M117","v":6765},{"$f":"$C75*РАБОТЫ!D28*M117","v":1352.9999999999998},8118,{"$f":"IF(G75=0,\"\",(G75-L75)/G75)","v":0.35000000000000003}]
["Точки вентиляции (без прохода через кровлю ) 100мм","Система естественной вентиляции предназначена для того, чтобы регулировать влажность и удалять неприятные запахи из кухни и санузлов. ",null,"шт.",{"$f":"(K76/$J$2)*$J$117*1.1","v":0},{"$f":"((J76)/$J$2)*$K$117*1.5","v":0},0,null,null,{"$f":"$C76* РАБОТЫ!C29*M117","v":0},{"$f":"$C76* РАБОТЫ!D29*M117","v":0},0,""]
["Точки вентиляции (без прохода через кровлю ) 125мм","Система естественной вентиляции предназначена для того, чтобы регулировать влажность и удалять неприятные запахи из кухни и санузлов. ",null,"шт.",{"$f":"(K77/0.78)*$J$117*1.1","v":0},{"$f":"((J77)/$J$2)*$K$117*1.5","v":0},0,null,null,{"$f":"$C77* РАБОТЫ!C30*M117","v":0},{"$f":"$C77* РАБОТЫ!D30*M117","v":0},0,""]
["Точки вентиляции (без прохода через кровлю ) 150мм","Система естественной вентиляции предназначена для того, чтобы регулировать влажность и удалять неприятные запахи из кухни и санузлов. ",null,"шт.",{"$f":"(K78/0.78)*$J$117*1.1","v":0},{"$f":"((J78)/$J$2)*$K$117*1.5","v":0},{"$f":"F78+E78","v":0},null,null,{"$f":"$C78* РАБОТЫ!C30*M117","v":0},{"$f":"$C78* РАБОТЫ!D31*M117","v":0},0,""]
["Узел на полив","Кран Merril, фитинги, переходники",null,"шт.",{"$f":"(I79/$J$2)*$J$117","v":0},{"$f":"((J79+K79)/0.4)*$K$117","v":0},0,null,{"$f":"$C79* УЗЛЫ!C80*L117","v":0},{"$f":"$C79* РАБОТЫ!C33*M117","v":0},{"$f":"$C79* РАБОТЫ!D33*M117","v":0},{"$f":"SUM(I79:K79)","v":0},""]
["Трап (точечный)","Только материал (трап точечный, переходник, компенсатор высоты)",null,"шт.",{"$f":"(I80/$J$2)*$J$117","v":0},null,0,null,{"$f":"$C80*УЗЛЫ!C82*L117","v":0},null,null,0,""]
["Установка трапа (точечного)","Только работа",null,"Усл.",{"$f":"(I81/$J$2)*$J$117","v":0},{"$f":"((J81+K81)/$J$2)*$K$117","v":0},{"$f":"E81+F81","v":0},null,null,{"$f":"$C81*РАБОТЫ!C34*M117","v":0},{"$f":"$C81*РАБОТЫ!D34*M117","v":0},0,""]
["Трап (линейный) ТЕСЕ","Дренажный трап 700мм, решётка из нержавеющей стали, погружной стакан с мембраной, сифон, комплект опор",null,"шт.",{"$f":"(I82/0.8)*$J$117","v":0},null,{"$f":"F82+E82","v":0},null,{"$f":"$C82*УЗЛЫ!C83*L117","v":0},null,null,{"$f":"SUM(I82:K82)","v":0},""]
["Установка трапа (линейного)","Только работа",null,"Усл.",{"$f":"(I83/$J$2)*$J$117","v":0},{"$f":"((J83+K83)/$J$2)*$K$117","v":0},{"$f":"E83+F83","v":0},null,null,{"$f":"$C83* РАБОТЫ!C35*M117","v":0},{"$f":"$C83* РАБОТЫ!D35*M117","v":0},0,""]
["Лоток для водоотведения (трап) в гараже","Монтаж пластикового лотка (установка по уровню, крепление, монтаж чугунных оцинкованных решеток) без пескоуловителя",null,"пог.м.",{"$f":"I84/0.62","v":0},{"$f":"(J84+K84)/0.62","v":0},{"$f":"E84+F84","v":0},null,{"$f":"((C84*УЗЛЫ!C111))+IF(C84>0,УЗЛЫ!C113,0)","v":0},{"$f":"C84*РАБОТЫ!C40*M117","v":0},{"$f":"C84*РАБОТЫ!D40*M117","v":0},0,""]
[null,"Монтаж пескоуловителя с решеткой",null,"шт.",{"$f":"I85/0.62","v":0},{"$f":"(J85+K85)/0.62","v":0},0,null,{"$f":"C85*УЗЛЫ!C112*L117","v":0},{"$f":"C85*РАБОТЫ!C41*M117","v":0},{"$f":"C85*РАБОТЫ!D41*M117","v":0},0,""]
[null,"Подключение к закладной",null,"шт.",{"$f":"I86/0.62","v":0},{"$f":"(J86+K86)/0.62","v":0},0,null,{"$f":"C86*УЗЛЫ!C114*L117","v":0},{"$f":"C86*РАБОТЫ!C42*M117","v":0},{"$f":"C86*РАБОТЫ!D42*M117","v":0},0,""]
["Установка скрытых смесителей","Душ/ ванна/ гиг.душ (комплектующие, сам смеситель покупает заказчик)",null,"шт.",{"$f":"I87/0.62","v":0},{"$f":"((J87+K87)/$J$2)*$K$117","v":0},{"$f":"E87+F87","v":0},null,{"$f":"C87*УЗЛЫ!C116*L117","v":0},{"$f":"C87*РАБОТЫ!C37*M117","v":0},{"$f":"C87*РАБОТЫ!D37*M117","v":0},0,""]
[null,"Встроенная душевая система с несколькими выводами (комплектующие, сам смеситель покупает заказчик)",null,"шт.",0,{"$f":"((J88+K88)/$J$2)*$K$117","v":0},{"$f":"E88+F88","v":0},null,{"$f":"C88*УЗЛЫ!C118*L117","v":0},{"$f":"C88*РАБОТЫ!C38*M117","v":0},{"$f":"C88*РАБОТЫ!D38*M117","v":0},0,""]
["Инсталляция (только материал)","Инсталляция встраиваемая в деревянную перегородку. Только материал. (доска 40х140, монтажный комплект инсталляции без унитаза)",null,"Компл",{"$f":"I89/0.85","v":0},null,{"$f":"E89+F89","v":0},null,{"$f":"C89*УЗЛЫ!C84*'ОВиВК ТЕСЕ'!L117","v":0},null,null,0,""]
[null,"Инсталляция в коробе на стену (кирпич, металлокаркас, брус) или усиление стены из металлокаркаса. Только материал. (металлический профиль ТЕСЕ, монтажный комплект инсталляции без унитаза)",null,"Компл",{"$f":"I90/0.85","v":0},null,{"$f":"E90+F90","v":0},null,{"$f":"C90*УЗЛЫ!C85*L117","v":0},null,null,0,""]
["Короб под инсталяцию (при необходимости)","Только работа",null,"Усл.",null,{"$f":"((J91+K91)/0.33)*$K$117","v":0},0,null,null,{"$f":"$C91* РАБОТЫ!C39*M117","v":0},{"$f":"$C91* РАБОТЫ!D39*M117","v":0},0,""]
["Установка инсталляции","Только работа, материал заказчика",null,"Усл.",null,{"$f":"((J92+K92)/0.25)*$K$117","v":0},{"$f":"E92+F92","v":0},null,null,{"$f":"$C92* РАБОТЫ!C39*M117","v":0},{"$f":"$C92* РАБОТЫ!D39*M117","v":0},0,""]
["Итого материал:",null,null,null,null,null,{"$f":"SUM(E66:E92)","v":0},null,null,null,null,{"$f":"SUM(I66:I92)","v":0},"",{"$f":"(SUM(G93:G94)-SUM(L93:L94))/SUM(G93:G94)","v":0.35000000000000003}]
["Работа:     ",{"$f":"РАБОТЫ!A1","v":"Дата"},null,null,null,null,{"$f":"SUM(F66:F92)","v":12489.23076923077},null,null,null,null,{"$f":"SUM(J66:K92)","v":8118},0.35000000000000003]
["Дополнительно"]
["Материалы/услуги","Описание","Кол-во","Ед.изм","Мат-ал, руб","Работа, руб ","Итого, руб"]
["Проходные отверстия в плите","Алмазное сверление",9,"шт.",null,{"$f":"IF($C$97=0,0,\nIF($C$97<4,9000,\nIF($C$97>3,9000+2300*($C$97-3))))","v":22800},{"$f":"F97+E97","v":22800},null,null,null,{"$f":"IF($C$97=0,0,\nIF($C$97<4,6000,\nIF($C$97>3,6000+1700*($C$97-3))))","v":16200}]
["Штробление ","Выводы под трубопроводы",0,"шт.",null,{"$f":"(J98+K98)/0.65","v":0},{"$f":"F98+E98","v":0},null,null,{"$f":"C98*РАБОТЫ!C36","v":0},{"$f":"C98*РАБОТЫ!D36","v":0}]
["Закладная для канализации","Устройство ввода канализации в дом",0,"шт.",{"$f":"C99*4500","v":0},{"$f":"C99*16000","v":0},{"$f":"F99+E99","v":0},null,null,null,{"$f":"12500*C99","v":0}]
["Закладная для воды","Устройство ввода водоснабжения в дом",0,"шт.",{"$f":"C100*4500","v":0},{"$f":"C100*16000","v":0},{"$f":"F100+E100","v":0},null,null,null,{"$f":"12500*C100","v":0}]
["Вывоз мусора (конетейнер)","Вывоз мусора контейнер (необходим для домов свыше 350 м2)",0,"Усл.",null,{"$f":"K101/0.8","v":0},{"$f":"F101","v":0},null,null,null,{"$f":"C101*8000","v":0}]
["Подготовительные и накладные расходы","Включают разработку комплекта документов для монтажа, проверку ОТК и приемку каждого этапа работ инженерами технического надзора, соблюдение стандарта компании",1,"Усл.",null,{"$f":"C102*31000","v":31000},{"$f":"F102","v":31000},null,null,2000,4500,{"$f":"5500+6500","v":12000},"выезды ИТН",null,null,"Стоимость ОВиВК + радиаторы"]
["Транспортные расходы ","Доставка оборудования и материалов на объект",1,"усл.",null,{"$f":"C103*11000","v":11000},{"$f":"F103","v":11000},null,null,null,null,10000,null,null,null,{"$f":"F110+'ТП ТЕСЕ'!G46","v":77289.230769230766}]
["Доставка бытовки на объект","Если есть такая необходимость, мы предоставляем бытовку для проживания на объекте строителей. После окончания работ, бытовка вывозится.",null,"км от мкад",null,null,{"$f":"IF(C104=0,0,\nIF(C104<100,24000,\nIF(C104<150,30000,36000)))","v":0},null,null,null,null,{"$f":"IF(C104=0,0,\nIF(C104<=50,13500,\nIF(C104<=100,17000,\nIF(C104<=150,20500,\nIF(C104<=200,24000,\nIF(C104<=250,27500,\nIF(C104>250,31000,)))))))","v":0}]
["Итого по смете:",null,null,null,null,{"$f":"SUM(G17:G18,G62:G63,G93:G94,G97:G104)","v":77289.230769230766},null,null,{"$f":"SUM(L17,L62,L93)","v":0},{"$f":"SUM(J6:J16,J21:J61,J66:J92,J97:J104)","v":8765},{"$f":"SUM(K6:K16,K21:K61,K66:K92,K97:K104)","v":22053},{"$f":"SUM(I105:K105,L97:L104)-M108","v":52818},{"$f":"IF(F110=0,\"\",(F110-L105)/F110)","v":0.31661889406425414}]
["Вычет по сертификату за систему отопление:",null,null,"м²",{"$f":"(I106/$J$2)*$J$117","v":0},{"$f":"(C106*600)*$K$117","v":0},{"$f":"F106+E106","v":0},null,{"$f":"$C106*(УЗЛЫ!C15)+(IF(C106=0,0,)+IF(C106>1,УЗЛЫ!D17,))","v":0},{"$f":"C106*(РАБОТЫ!C17+РАБОТЫ!C18)/R49","v":0},{"$f":"C106*(РАБОТЫ!D17+РАБОТЫ!D18)/R49","v":0},{"$f":"SUM(I106:K106)","v":0}]
["Вычет по сертификату за систему водоснабжения:",null,null,"точка",{"$f":"(I107/$K$2)*$J$117","v":0},{"$f":"((J107+K107)/$K$2)*$K$117*1.3","v":0},0,null,{"$f":"C107* УЗЛЫ!C70","v":0},{"$f":"$C107*(РАБОТЫ!C23 + (РАБОТЫ!C24/10))","v":0},{"$f":"$C107*(РАБОТЫ!D23 + (РАБОТЫ!D24/10))","v":0},{"$f":"SUM(I107:K107)","v":0}]
["Вычет по сертификату за систему канализации:",null,null,"точка",{"$f":"(I108/$J$2)*$J$117","v":0},{"$f":"((J108+K108)/$J$2)*$K$117","v":0},0,null,{"$f":"$C108* УЗЛЫ!C78","v":0},{"$f":"$C108* (РАБОТЫ!C26+(РАБОТЫ!C27*0.5)+(РАБОТЫ!C28*0.1))","v":0},{"$f":"$C108* (РАБОТЫ!D27+РАБОТЫ!D28)","v":0},0,{"$f":"SUM(L106:L108)","v":0}]
["Корректировка стоимости (скидка):",null,null,null,null,null,0]
["Итого по смете со скидкой:",null,null,null,null,{"$f":"F105-G109-G106-G107-G108","v":77289.230769230766}]
[null,{"$f":"РАБОТЫ!$A$1","v":"Дата"},null,null,null,null,null,null,null,null,"Дом кирпично-деревянный",0]
[null,null,null,null,null,null,null,null,null,null,"(поставить 1)"]
[]
[null,null,null,null,null,null,null,null,null,"Коэффициент для заказчика",null,"Коэффициент для СЕБЕСА дом свыше 350м2 плюс 10%;           мусор-контейнер;        дизайн-проект 10%"]
[null,null,null,null,null,null,null,null,null,null,null,null,null,"* 10% на оплату работ, материал через запрос в проектный"]
[null,null,null,null,null,null,null,null,null,"Мат","Раб","Мат","Раб"]
[null,null,null,null,null,null,null,null,null,1,1,1,1]
[]
[null,null,null,null,null,null,null,null,"Стоим. мат-ла","Стоим. работ бр.","Стоим. работ ПР","Мат-л + работа","Промежут. рента"]
[null,null,null,null,null,null,null,null,null,null,null,null,null,null,"Справочно, в разбивке по этапам:"]
[null,null,null,null,null,null,null,null,{"$f":"I105-I122-I123","v":{"$error":"#REF!"}},{"$f":"J105-J122-J123","v":{"$error":"#REF!"}},{"$f":"K105-K122-K123","v":{"$error":"#REF!"}},{"$f":"L105-L122-L123","v":{"$error":"#REF!"}},{"$f":"IF(Q121=0, \"\", (Q121-L121)/Q121)","v":{"$error":"#REF!"}},null,"Скрытые",null,{"$f":"F105-Q122-Q123","v":{"$error":"#REF!"}}]
[null,null,null,null,null,null,null,null,{"$f":"SUM(#REF!+#REF!+#REF!+#REF!+#REF!+#REF!+#REF!+#REF!+#REF!+#REF!+#REF!+#REF!+#REF!)","v":{"$error":"#REF!"}},{"$f":"SUM(#REF!+#REF!+#REF!++#REF!+#REF!+#REF!+#REF!+#REF!+#REF!+#REF!+#REF!+#REF!+#REF!)","v":{"$error":"#REF!"}},{"$f":"SUM(#REF!+#REF!+#REF!++#REF!+#REF!+#REF!+#REF!+#REF!+#REF!+#REF!+#REF!+#REF!+#REF!)","v":{"$error":"#REF!"}},{"$f":"SUM(#REF!+#REF!+#REF!++#REF!+#REF!+#REF!+#REF!+#REF!+#REF!+#REF!+#REF!+#REF!+#REF!)","v":{"$error":"#REF!"}},{"$f":"IF(Q122=0, \"\", (Q122-L122)/Q122)","v":{"$error":"#REF!"}},null,"Теплые полы",null,{"$f":"SUM(#REF!+#REF!+#REF!+#REF!+#REF!+#REF!+#REF!+#REF!+#REF!+#REF!+#REF!+#REF!+#REF!)","v":{"$error":"#REF!"}}]
[null,null,null,null,null,null,null,null,{"$f":"SUM(I6:I16)","v":0},{"$f":"SUM(J6:J16)","v":0},{"$f":"SUM(K6:K16)","v":0},{"$f":"SUM(L6:L16)","v":0},{"$f":"IF(Q123=0, \"\", (Q123-L123)/Q123)","v":""},null,"Теплотрасса",null,{"$f":"SUM(G6:G16)","v":0}]

{"sheet":"ОВиВК Stout","index":4,"n_rows":119,"n_cols":22,"rows_kept":119,"cut":false,"hidden":false,"merged":[[13,10,14,10],[13,5,14,5],[109,9,110,10],[114,8,115,8],[114,9,115,9],[114,10,115,10],[90,0,90,6],[50,0,59,0],[89,2,89,3],[13,9,14,9],[114,11,115,11],[109,11,110,12],[100,5,100,6],[105,5,105,6],[100,0,100,4],[60,14,61,14],[61,2,61,3],[66,0,67,0],[88,2,88,3],[87,13,88,13],[87,14,88,14],[82,0,83,0],[84,0,85,0],[79,0,81,0],[0,0,0,6],[1,1,1,6],[2,0,2,6],[3,0,3,6],[18,0,18,6],[13,0,14,0],[5,0,8,0],[16,13,17,13],[62,0,62,6],[60,2,60,3],[69,0,70,0],[20,0,23,0],[28,0,29,0],[43,0,45,0],[31,0,32,0],[40,0,42,0],[46,0,47,0],[34,0,39,0]]}
["Приложение №    к Договору подряда №    ______________от_____________",null,null,null,null,null,null,null,"курс €","КОЭФ для ренты","КОЭФ для ренты"]
[{"$f":"TODAY()","v":"2024-02-02"},"Данный сметный расчёт действителен 7 календарных дней. По истечению срока, цены могут быть изменены.",null,null,null,null,null,null,{"$f":"'ОВиВК ТЕСЕ'!I2","v":100},0.65,0.6]
["Сметный расчет ОиВК Stout"]
["Теплотрасса",null,null,null,null,null,null,null,{"$f":"РАБОТЫ!A1","v":"Дата"}]
["Материалы/услуги","Описание","Кол-во","Ед.изм","Мат-ал, руб","Работа, руб ","Итого, руб",null,"Материал","Бригада","Прораб","Итого","Рента"]
["Теплотрасса ","Трубопровод USYSTEMS Ecoflex Quattro труба 2x25x2,3-2x25х3,5 /175 совмещает в себе трубы для систем горячего водоснабжения и теплоснабжения.",{"$f":"'ОВиВК ТЕСЕ'!C6","v":0},"пог.м",{"$f":"(I6/$J$2)*$J$113","v":0},{"$f":"((J6+K6)/$J$2)*$K$113","v":0},{"$f":"F6+E6","v":0},null,{"$f":"$C6*(УЗЛЫ!C2)*L113","v":0},{"$f":"$C6*РАБОТЫ!C5*M113","v":0},{"$f":"$C6*РАБОТЫ!D5*M113","v":0},{"$f":"SUM(I6:K6)","v":0},{"$f":"IF(G6=0,\"\",(G6-L6)/G6)","v":""}]
[null,"Трубопровод USYSTEMS  Ecoflex Quattro труба 2x32x2,9-2x25х3,5 /175 совмещает в себе трубы для систем горячего водоснабжения и теплоснабжения.",{"$f":"'ОВиВК ТЕСЕ'!C7","v":0},"пог.м",0,0,0,null,{"$f":"$C7* (УЗЛЫ!C3)*L113","v":0},{"$f":"$C7*РАБОТЫ!C5*M113","v":0},{"$f":"$C7*РАБОТЫ!D5*M113","v":0},0,""]
[null,"Трубопровод USYSTEMS  Ecoflex Varia Twin PN6 25x2.3 25x2.3 140 для водоснабжения и теплоснабжения.",{"$f":"'ОВиВК ТЕСЕ'!C8","v":0},"пог.м",0,0,0,null,{"$f":"$C8* (УЗЛЫ!C4)*L113","v":0},{"$f":"$C8*РАБОТЫ!C5*M113","v":0},{"$f":"$C8*РАБОТЫ!D5*M113","v":0},0,""]
[null,"Трубопровод USYSTEMS  Ecoflex Varia Twin PN6 32x2.9 32x2.9 140 для водоснабжения и теплоснабжения.",{"$f":"'ОВиВК ТЕСЕ'!C9","v":0},"пог.м",0,0,0,null,{"$f":"$C9* (УЗЛЫ!C5)*L113","v":0},{"$f":"$C9*РАБОТЫ!C5*M113","v":0},{"$f":"$C9*РАБОТЫ!D5*M113","v":0},0,""]
["Труба ПНД D32","Для подачи холодного водоснабжения (теплоизоляция Энергофлекс)",{"$f":"'ОВиВК ТЕСЕ'!C10","v":0},"пог.м",0,0,0,null,{"$f":"$C10*(УЗЛЫ!C6+УЗЛЫ!C7)*L113","v":0},{"$f":"$C10*РАБОТЫ!C6*M113","v":0},{"$f":"$C10*РАБОТЫ!D6*M113","v":0},0,""]
["Узел  ТТ1 до150м2 ","Обвязка теплотрассы, подключение к коллекторам и насосам",{"$f":"'ОВиВК ТЕСЕ'!C11","v":0},"компл",0,0,0,null,{"$f":"$C11*(УЗЛЫ!C8*0.5)*L113","v":0},{"$f":"$C11*РАБОТЫ!C7*M113","v":0},{"$f":"$C11*РАБОТЫ!D7*M113","v":0},0,"","* Обвязка с одной стороны, в случае обвязки с двух сторон - 2 компл."]
["Узел ТТ2 150-200м2 ","Обвязка теплотрассы, подключение к коллекторам и насосам",{"$f":"'ОВиВК ТЕСЕ'!C12","v":0},"компл",0,0,0,null,{"$f":"$C12* (УЗЛЫ!C9*0.5)*L113","v":0},{"$f":"$C12*РАБОТЫ!C7*M113","v":0},{"$f":"$C12*РАБОТЫ!D7*M113","v":0},0,""]
["Автоматика","Датчик температуры МЛ-722 (DS)",{"$f":"'ОВиВК ТЕСЕ'!C13","v":0},"шт.",0,0,0,null,{"$f":"$C13* УЗЛЫ!C12*L113","v":0},{"$f":"($C13*РАБОТЫ!C8+$C13*РАБОТЫ!D8)*M113","v":0},null,0,""]
["Кабель МКЭШ 5х0,75 , ПНД труба гофр. с протяжкой","Кабель управления автоматикой",{"$f":"'ОВиВК ТЕСЕ'!C14","v":0},"пог.м",{"$f":"(I14/0.7)*$J$113","v":0},{"$f":"((J14+K14)/0.8)*$K$113","v":0},0,null,{"$f":"C14*УЗЛЫ!C11*L113","v":0},{"$f":"C14*РАБОТЫ!C6*M113","v":0},{"$f":"C14*РАБОТЫ!D6*M113","v":0},0,""]
[null,"Протяжка кабеля в ПНД трубе  (бухта 100м)",{"$f":"'ОВиВК ТЕСЕ'!C15","v":0},"бухта",{"$f":"(I15/0.8)*$J$113","v":0},null,0,null,{"$f":"C15*УЗЛЫ!C10*L113","v":0},null,null,{"$f":"SUM(I15:K15)","v":0},""]
["Земляные работы","Производится выемка и обратная засыпка",{"$f":"'ОВиВК ТЕСЕ'!C16","v":0},"м3",{"$f":"(I16/$J$2)*$J$113","v":0},{"$f":"((J16+K16)/$J$2)*$K$113","v":0},0,null,null,{"$f":"$C16*РАБОТЫ!C9*M113","v":0},{"$f":"$C16*РАБОТЫ!D9*M113","v":0},0,""]
["Итого материал:                                                                                                                                                                                                                                                            ",null,null,null,null,null,{"$f":"SUM(E6:E16)","v":0},null,null,null,null,{"$f":"SUM(I6:I16)","v":0},"",{"$f":"(SUM(G17:G18)-SUM(L17:L18))/SUM(G17:G18)","v":{"$error":"#DIV/0!"}}]
["Работа:                                                                                                                                                                                                                                               ",null,null,null,null,null,{"$f":"SUM(F6:F16)","v":0},null,null,null,null,{"$f":"SUM(J6:K16)","v":0},""]
["Отопление"]
["Материалы/услуги","Описание","Кол-во","Ед.изм","Мат-ал, руб","Работа, руб ","Итого, руб",null,"Материал","Бригада","Прораб","Итого","Рента"]
["Радиаторы (белые)","Радиаторы стальные панельные концерна Rettig Heating Group (Европа)",{"$f":"'ОВиВК ТЕСЕ'!C21","v":0},"шт.",{"$f":"(I21/0.75)*$J$113","v":0},null,{"$f":"IF(C21>=1,E21,0)","v":0},null,{"$f":"$C21*УЗЛЫ!C18","v":0},null,null,{"$f":"SUM(I21:K21)","v":0},{"$f":"IF(G21=0,\"\",(G21-L21)/G21)","v":""}]
[null,"Радиаторы стальные панельные Rommer (Россия)",{"$f":"'ОВиВК ТЕСЕ'!C22","v":0},"шт.",{"$f":"(I22/0.75)*$J$113","v":0},null,{"$f":"IF(C22>=1,E22,0)","v":0},null,{"$f":"C22*УЗЛЫ!C19","v":0},null,null,0,""]
[null,"Радиатор КЗТО Гармония ",{"$f":"'ОВиВК ТЕСЕ'!C23","v":0},"шт.",{"$f":"(I23/0.75)*$J$113","v":0},null,{"$f":"IF(C23>=1,E23,0)","v":0},null,{"$f":"C23*УЗЛЫ!C20","v":0},null,null,0,""]
[null,"Радиатор КЗТО РСК",{"$f":"'ОВиВК ТЕСЕ'!C24","v":0},"шт.",{"$f":"(I24/0.75)*$J$113","v":0},null,0,null,{"$f":"C24*УЗЛЫ!C21","v":0},null,null,0,""]
["Комплект декоративной подводки","Для труб из сшитого полиэтилена",{"$f":"'ОВиВК ТЕСЕ'!C25","v":0},"компл.",{"$f":"(I25/0.9)*$J$113","v":0},{"$f":"((J25+K25)/$J$2)*$K$113*1.5","v":0},{"$f":"F25+E25","v":0},null,{"$f":"$C25*УЗЛЫ!C25*L113","v":0},{"$f":"$C25* РАБОТЫ!C12*M113","v":0},{"$f":"$C25* РАБОТЫ!D12*M113","v":0},0,""]
["Монтаж креплений для радиаторов настенный","Монтаж с использованием электронного измерителя уровня",{"$f":"'ОВиВК ТЕСЕ'!C26","v":0},"компл.",{"$f":"(I26/$J$2)*$J$113","v":0},{"$f":"((J26+K26)/$J$2)*$K$113*1.3","v":0},0,null,null,{"$f":"$C26*( РАБОТЫ!C13*0.3)*M113","v":0},{"$f":"$C26*( РАБОТЫ!D13*0.3)*M113","v":0},0,""]
["Монтаж креплений для радиаторов напольный","Монтаж с использованием электронного измерителя уровня",{"$f":"'ОВиВК ТЕСЕ'!C27","v":0},"компл.",{"$f":"(I27/$J$2)*$J$113","v":0},{"$f":"((J27+K27)/$J$2)*$K$113*1.3","v":0},0,null,{"$f":"C27*УЗЛЫ!D26*L113","v":0},{"$f":"$C27*( РАБОТЫ!C13*0.3)*M113","v":0},{"$f":"$C27*( РАБОТЫ!D13*0.3)*M113","v":0},0,""]
["Монтаж радиатора","Монтаж с использованием электронного измерителя уровня",{"$f":"'ОВиВК ТЕСЕ'!C28","v":0},"компл.",{"$f":"(I28/$J$2)*$J$113","v":0},{"$f":"((J28+K28)/0.76)*$K$113*1.3","v":0},0,null,null,{"$f":"$C28* РАБОТЫ!C13*M113","v":0},{"$f":"$C28* РАБОТЫ!D13*M113","v":0},0,""]
["Комплект подключения ","Узел нижнего подключения радиатора прямой из пола (без декор.подводки)",{"$f":"'ОВиВК ТЕСЕ'!C29","v":0},"компл.",{"$f":"(I29/0.8)*$J$113*0.7","v":0},{"$f":"(C29*500)*K113","v":0},0,null,{"$f":"$C29*УЗЛЫ!C28*L113","v":0},null,null,0,""]
[null,"Узел нижнего подключения радиатора угловой из стены (без декор.подводки)",{"$f":"'ОВиВК ТЕСЕ'!C30","v":0},"компл.",{"$f":"(I30/0.8)*$J$113*0.7","v":0},{"$f":"(C30*590)+(J30+K30)","v":0},0,null,{"$f":"$C30*(УЗЛЫ!C29)*L113","v":0},{"$f":"C30*(РАБОТЫ!C36*2)*M113","v":0},{"$f":"C30*(РАБОТЫ!D36*2)*M113","v":0},0,""]
["Терморегулятор для радиатора","Термоголовка (Германия), c жидкостным чувствительным элементом. С функцией защиты от замерзания и с блокировкой диапазона настройки.",{"$f":"'ОВиВК ТЕСЕ'!C31","v":0},"шт.",{"$f":"1069*C31","v":0},{"$f":"(C31*500)*K113*0.7","v":0},0,null,0,null,null,{"$f":"SUM(I31:K31)","v":0},""]
["Управление внутрипольным конвектором","Настенный регулятор программируемый с сенсорным экраном. Возможность регулировки до 12 приборов (Vartronic Белый)",{"$f":"'ОВиВК ТЕСЕ'!C32","v":0},"шт.",{"$f":"(I32/$J$2)*$J$113","v":0},{"$f":"((J32+K32)/$J$2)*K113","v":0},0,null,{"$f":"$C32* УЗЛЫ!C33*L113","v":0},{"$f":"$C32*РАБОТЫ!C15*M113","v":0},{"$f":"$C32*РАБОТЫ!D15*M113","v":0},0,""]
[null,"Настенный регулятор программируемый с сенсорным экраном. Возможность регулировки до 12 приборов (Vartronic Черный)",{"$f":"'ОВиВК ТЕСЕ'!C33","v":0},"шт.",{"$f":"(I33/$J$2)*$J$113","v":0},{"$f":"((J33+K33)/$J$2)*K113","v":0},0,null,{"$f":"$C33* УЗЛЫ!C33*L113","v":0},{"$f":"$C33*РАБОТЫ!C15*M113","v":0},{"$f":"$C33*РАБОТЫ!D15*M113","v":0},0,""]
["Комплектующие для подлючения конвектора внутрипольного","Комплект запорно-регулирующей арматуры.",{"$f":"'ОВиВК ТЕСЕ'!C34","v":0},"компл.",{"$f":"(I34/$J$2)*$J$113","v":0},{"$f":"(C34*2300)*K113","v":0},0,null,{"$f":"$C34*УЗЛЫ!C34*L113","v":0},null,null,0,""]
["Конвектор энергозависимый внутрипольный ","Встраиваемый в пол конвектор Varmann Qtherm 230.75.1250. решетка роликовая из алюминия, тангенциальный вентилятор",{"$f":"'ОВиВК ТЕСЕ'!C35","v":0},"компл.",{"$f":"(I35/0.7)*$J$113*0.88","v":0},{"$f":"((J35+K35)/$J$2)*$K$113*2","v":0},0,null,{"$f":"$C35*УЗЛЫ!C36","v":0},{"$f":"$C35*РАБОТЫ!C16*M113","v":0},{"$f":"$C35*РАБОТЫ!D16*M113","v":0},0,""]
[null,"Встраиваемый в пол конвектор Varmann Qtherm 230.75.1500. решетка роликовая из алюминия, тангенциальный вентилятор",{"$f":"'ОВиВК ТЕСЕ'!C36","v":0},"компл.",0,0,0,null,{"$f":"$C36*УЗЛЫ!C37","v":0},{"$f":"$C36*РАБОТЫ!C16*M113","v":0},{"$f":"$C36*РАБОТЫ!D16*M113","v":0},0,""]
[null,"Встраиваемый в пол конвектор Varmann Qtherm 230.75.1750. решетка роликовая из алюминия, тангенциальный вентилятор",{"$f":"'ОВиВК ТЕСЕ'!C37","v":0},"компл.",0,0,0,null,{"$f":"$C37*УЗЛЫ!C38","v":0},{"$f":"$C37* РАБОТЫ!$C$16*M113","v":0},{"$f":"$C37* РАБОТЫ!$D$16*M113","v":0},0,""]
[null,"Встраиваемый в пол конвектор Varmann Qtherm 230.75.2000. решетка роликовая из алюминия, тангенциальный вентилятор",{"$f":"'ОВиВК ТЕСЕ'!C38","v":0},"компл.",0,0,0,null,{"$f":"C38*УЗЛЫ!C39","v":0},{"$f":"$C38* РАБОТЫ!$C$16*M113","v":0},{"$f":"$C38* РАБОТЫ!$D$16*M113","v":0},0,""]
[null,"Встраиваемый в пол конвектор Varmann Qtherm 230.75.2250. решетка роликовая из алюминия, тангенциальный вентилятор",{"$f":"'ОВиВК ТЕСЕ'!C39","v":0},"компл.",0,0,0,null,{"$f":"C39*УЗЛЫ!C40","v":0},{"$f":"$C39* РАБОТЫ!$C$16*M113","v":0},{"$f":"$C39* РАБОТЫ!$D$16*M113","v":0},0,""]
[null,"Встраиваемый в пол конвектор Varmann Qtherm 230.75.3000. решетка роликовая из алюминия, вентиляторы с ЕС двигателем",{"$f":"'ОВиВК ТЕСЕ'!C40","v":0},"компл.",{"$f":"(I40/0.7)*$J$113*0.88","v":0},{"$f":"((J40+K40)/$J$2)*$K$113*2","v":0},0,null,{"$f":"C40*УЗЛЫ!C41","v":0},{"$f":"$C40* РАБОТЫ!$C$16*M113","v":0},{"$f":"$C40* РАБОТЫ!$D$16*M113","v":0},0,""]
["Конвектор энергонезависимый внутрипольный ","Встраиваемый в пол конвектор Varmann Ntherm, 230.90.1400. решетка роликовая из алюминия.",{"$f":"'ОВиВК ТЕСЕ'!C41","v":0},"компл.",0,0,0,null,{"$f":"C41*УЗЛЫ!C42","v":0},{"$f":"$C41* РАБОТЫ!$C$16*M113","v":0},{"$f":"$C41* РАБОТЫ!$D$16*M113","v":0},{"$f":"SUM(I41:K41)","v":0},""]
[null,"Встраиваемый в пол конвектор Varmann Ntherm, 230.90.1800. решетка роликовая из алюминия.",{"$f":"'ОВиВК ТЕСЕ'!C42","v":0},"компл.",0,0,0,null,{"$f":"C42*УЗЛЫ!C43","v":0},{"$f":"$C42* РАБОТЫ!$C$16*M113","v":0},{"$f":"$C42* РАБОТЫ!$D$16*M113","v":0},0,""]
[null,"Встраиваемый в пол конвектор Varmann Ntherm, 230.90.2200. решетка роликовая из алюминия.",{"$f":"'ОВиВК ТЕСЕ'!C43","v":0},"компл.",0,0,0,null,{"$f":"C43*УЗЛЫ!C44","v":0},{"$f":"$C43* РАБОТЫ!$C$16*M113","v":0},{"$f":"$C43* РАБОТЫ!$D$16*M113","v":0},0,""]
["Конвектор энергонезависимый внутрипольный влагостойкий корпус","Встраиваемый в пол конвектор Varmann Ntherm ES (для влажных помещений), 230.90.1400. решетка роликовая из алюминия.",{"$f":"'ОВиВК ТЕСЕ'!C44","v":0},"компл.",0,0,0,null,{"$f":"C44*УЗЛЫ!C45","v":0},{"$f":"$C44* РАБОТЫ!$C$16*M113","v":0},{"$f":"$C44* РАБОТЫ!$D$16*M113","v":0},0,""]
[null,"Встраиваемый в пол конвектор Varmann Ntherm ES (для влажных помещений), 230.90.1800. решетка роликовая из алюминия.",{"$f":"'ОВиВК ТЕСЕ'!C45","v":0},"компл.",0,0,0,null,{"$f":"C45*УЗЛЫ!C46","v":0},{"$f":"$C45* РАБОТЫ!$C$16*M113","v":0},{"$f":"$C45* РАБОТЫ!$D$16*M113","v":0},0,""]
[null,"Встраиваемый в пол конвектор Varmann Ntherm ES (для влажных помещений), 230.90.2200. решетка роликовая из алюминия.",{"$f":"'ОВиВК ТЕСЕ'!C46","v":0},"компл.",0,0,0,null,{"$f":"C46*УЗЛЫ!C47","v":0},{"$f":"$C46* РАБОТЫ!$C$16*M113","v":0},{"$f":"$C46* РАБОТЫ!$D$16*M113","v":0},0,""]
["Конвектор напольный","Конвектор Varmann MiniKon 235.130.1600  ",{"$f":"'ОВиВК ТЕСЕ'!C47","v":0},"шт.",{"$f":"(I47/0.7)*$J$113*0.87","v":0},0,0,null,{"$f":"C47*УЗЛЫ!C48","v":0},{"$f":"$C47* РАБОТЫ!$C$14*M113","v":0},{"$f":"$C47* РАБОТЫ!$D$14*M113","v":0},0,""]
[null,"Конвектор Varmann MiniKon 185.130.1600",{"$f":"'ОВиВК ТЕСЕ'!C48","v":0},"шт.",{"$f":"(I48/0.7)*$J$113*0.85","v":0},0,0,null,{"$f":"C48*УЗЛЫ!C49","v":0},{"$f":"$C48* РАБОТЫ!$C$14*M113","v":0},{"$f":"$C48* РАБОТЫ!$D$14*M113","v":0},0,""]
["Коллекторная система отопления","Трубопроводы системы отопления   -   высококачественные трубы  PE-Xа  (Трубы Stout, Испания -  поперечно сшитый полиэтилен) в утеплителе \"Энергофлекс\". ",{"$f":"'ОВиВК ТЕСЕ'!C49","v":0},"м²",{"$f":"(I49/$J$2)*$J$113","v":0},{"$f":"(C49*600)*$K$113","v":0},0,null,{"$f":"$C49*(УЗЛЫ!C15)+(IF(C49=0,0,)+IF(C49>1,УЗЛЫ!D17,))","v":0},{"$f":"C49*((РАБОТЫ!C17+РАБОТЫ!C18)/R49)*M113","v":0},{"$f":"C49*((РАБОТЫ!D17+РАБОТЫ!D18)/R49)*M113","v":0},0,"",null,"коэф. трубы отопл.:",{"$f":"IF(T49<70,4.5, IF(T49<250, 3.5, 4))","v":4.5},"закл. петли:",{"$f":"IF(V49>7, V49, IF(T49=0, 12, IF(T49<165,11, 11+CEILING((T49-165)/8,1))))","v":12},"отапл. площ.:",{"$f":"C49","v":0},"радиаторы /конвек-ры:",{"$f":"C21+C37","v":0}]
["Подключение коллекторного шкафа вне котельной","Трубопроводы (до 25 пог.м), фитинги, арматура",{"$f":"'ОВиВК ТЕСЕ'!C51","v":0},"компл.",{"$f":"I50/0.62","v":0},{"$f":"(J50+K50)/0.6","v":0},0,null,{"$f":"C50*(УЗЛЫ!C54+УЗЛЫ!C55)","v":0},{"$f":"C50*РАБОТЫ!C19*M113","v":0},{"$f":"C50*РАБОТЫ!D19*M113","v":0},0,""]
["Коллектор системы отопления ","Коллектор, шкаф, шаровые краны, фиксаторы, прокладки, фитинги. 3 выхода",{"$f":"'ОВиВК ТЕСЕ'!C52","v":0},"компл.",{"$f":"(I51/$K$2)*$J$113*0.8","v":0},{"$f":"((J51+K51)/$K$2)*$K$113*2.7","v":0},{"$f":"E51+F51","v":0},null,{"$f":"$C51*УЗЛЫ!H58*L113","v":0},{"$f":"$C51*РАБОТЫ!C20*M113","v":0},{"$f":"$C51*РАБОТЫ!D20*M113","v":0},0,""]
[null,"Коллектор, шкаф, шаровые краны, фиксаторы, прокладки, фитинги. 4 выхода",{"$f":"'ОВиВК ТЕСЕ'!C53","v":0},"компл.",0,0,{"$f":"E52+F52","v":0},null,{"$f":"$C52*УЗЛЫ!H59*L113","v":0},{"$f":"$C52*РАБОТЫ!C20*M113","v":0},{"$f":"$C52*РАБОТЫ!D20*M113","v":0},0,""]
[null,"Коллектор, шкаф, шаровые краны, фиксаторы, прокладки, фитинги. 5 выходов",{"$f":"'ОВиВК ТЕСЕ'!C54","v":0},"компл.",0,0,0,null,{"$f":"$C53*УЗЛЫ!H60*L113","v":0},{"$f":"$C53*РАБОТЫ!C20*M113","v":0},{"$f":"$C53*РАБОТЫ!D20*M113","v":0},0,""]
[null,"Коллектор, шкаф, шаровые краны, фиксаторы, прокладки, фитинги. 6 выходов",{"$f":"'ОВиВК ТЕСЕ'!C55","v":0},"компл.",0,0,0,null,{"$f":"$C54*УЗЛЫ!H61*L113","v":0},{"$f":"$C54*РАБОТЫ!C20*M113","v":0},{"$f":"$C54*РАБОТЫ!D20*M113","v":0},0,""]
[null,"Коллектор, шкаф, шаровые краны, фиксаторы, прокладки, фитинги. 7 выходов",{"$f":"'ОВиВК ТЕСЕ'!C56","v":0},"компл.",0,0,0,null,{"$f":"$C55*УЗЛЫ!H62*L113","v":0},{"$f":"$C55*РАБОТЫ!C20*M113","v":0},{"$f":"$C55*РАБОТЫ!D20*M113","v":0},0,""]
[null,"Коллектор, шкаф, шаровые краны, фиксаторы, прокладки, фитинги. 8 выходов",{"$f":"'ОВиВК ТЕСЕ'!C57","v":0},"компл.",0,0,0,null,{"$f":"$C56*УЗЛЫ!H63*L113","v":0},{"$f":"$C56*РАБОТЫ!C20*M113","v":0},{"$f":"$C56*РАБОТЫ!D20*M113","v":0},0,""]
[null,"Коллектор, шкаф, шаровые краны, фиксаторы, прокладки, фитинги. 9 выходов",{"$f":"'ОВиВК ТЕСЕ'!C58","v":0},"компл.",0,0,0,null,{"$f":"$C57*УЗЛЫ!H64*L113","v":0},{"$f":"$C57*РАБОТЫ!C20*M113","v":0},{"$f":"$C57*РАБОТЫ!D20*M113","v":0},0,""]
[null,"Коллектор, шкаф, шаровые краны, фиксаторы, прокладки, фитинги. 10 выходов",{"$f":"'ОВиВК ТЕСЕ'!C59","v":0},"компл.",0,0,0,null,{"$f":"$C58*УЗЛЫ!H65*L113","v":0},{"$f":"$C58*РАБОТЫ!C20*M113","v":0},{"$f":"$C58*РАБОТЫ!D20*M113","v":0},0,""]
[null,"Коллектор, шкаф, шаровые краны, фиксаторы, прокладки, фитинги. 11 выходов",{"$f":"'ОВиВК ТЕСЕ'!C60","v":0},"компл.",0,0,0,null,{"$f":"$C59*УЗЛЫ!H66*L113","v":0},{"$f":"$C59*РАБОТЫ!C20*M113","v":0},{"$f":"$C59*РАБОТЫ!D20*M113","v":0},0,""]
[null,"Коллектор, шкаф, шаровые краны, фиксаторы, прокладки, фитинги. 12 выходов",{"$f":"'ОВиВК ТЕСЕ'!C61","v":0},"компл.",0,0,0,null,{"$f":"$C60*УЗЛЫ!H67*L113","v":0},{"$f":"$C60*РАБОТЫ!C20*M113","v":0},{"$f":"$C60*РАБОТЫ!D20*M113","v":0},0,""]
["Итого материал:                                                                                                                                                                                                                                                            ",null,null,null,null,null,{"$f":"SUM(E21:E60)","v":0},null,null,null,null,{"$f":"SUM(I21:I60)","v":0},"",{"$f":"(SUM(G61:G62)-SUM(L61:L62))/SUM(G61:G62)","v":{"$error":"#DIV/0!"}}]
["Работа:",null,null,null,null,null,{"$f":"SUM(F21:F60)","v":0},null,null,null,null,{"$f":"SUM(J21:K60)","v":0},""]
["Водоснабжение, канализация, вентиляция"]
["Материалы/услуги","Описание","Кол-во","Ед.изм","Мат-ал, руб","Работа, руб ","Итого, руб",null,"Материал","Бригада","Прораб","Итого","Рента"]
["Точки водоснабжения","Разводка труб холодного и горячего водоснабжения внутри помещения. Сшитый полиэтилен PE-Xa (Stout, Испания), в утеплителе \"Энергофлекс\". Установка водорозеток",{"$f":"'ОВиВК ТЕСЕ'!C66","v":0},"шт.",{"$f":"(I65/$K$2)*$J$113","v":0},{"$f":"((J65+K65)/$K$2)*$K$113*1.3","v":0},{"$f":"F65+E65","v":0},null,{"$f":"C65* УЗЛЫ!C70","v":0},{"$f":"$C65*(РАБОТЫ!C23 + (РАБОТЫ!C24/10))*M113","v":0},{"$f":"$C65*(РАБОТЫ!D23 + (РАБОТЫ!D24/10))*M113","v":0},{"$f":"SUM(I65:K65)","v":0},{"$f":"IF(G65=0,\"\",(G65-L65)/G65)","v":""},null,"коэф. труб воды.:",{"$f":"IF(R65<8, 12, IF(R65<11, 8, IF(R65<18, 9,10)))","v":12},"точки воды:",{"$f":"C65","v":0}]
["Подключение коллекторного шкафа вне котельной","Трубопроводы (до 25 пог.м), фитинги, арматура",{"$f":"'ОВиВК ТЕСЕ'!C68","v":0},"компл.",{"$f":"I66/0.62","v":0},{"$f":"C66*(J66+K66)/0.6","v":0},0,null,{"$f":"C66*(УЗЛЫ!C56+УЗЛЫ!C57)","v":0},{"$f":"C66*РАБОТЫ!C19*M113","v":0},{"$f":"C66*РАБОТЫ!D19*M113","v":0},0,""]
["Коллектор водоснабжения","Без рециркуляции - коллектор, шкаф распределительный наружный, шаровые краны, фиксаторы, прокладки, компрессионные фитинги.",{"$f":"'ОВиВК ТЕСЕ'!C69","v":0},"компл.",{"$f":"(I67/$J$2)*$J$113*0.92","v":0},{"$f":"((J67+K67)/$J$2)*$K$113*1.8","v":0},0,null,{"$f":"$C67*УЗЛЫ!H72*L113","v":0},{"$f":"$C67*РАБОТЫ!C25*M113","v":0},{"$f":"$C67*РАБОТЫ!D25*M113","v":0},0,""]
[null,"С рециркуляцией - коллектор, шкаф распределительный наружный, шаровые краны, фиксаторы, прокладки, компрессионные фитинги.",{"$f":"'ОВиВК ТЕСЕ'!C70","v":0},"компл.",{"$f":"(I68/$J$2)*$J$113*0.9","v":0},{"$f":"((J68+K68)/$J$2)*$K$113*2.9","v":0},0,null,{"$f":"$C68*УЗЛЫ!H73*L113","v":0},{"$f":"$C68*РАБОТЫ!C25*M113","v":0},{"$f":"$C68*РАБОТЫ!D25*M113","v":0},0,""]
["Точки циркуляции","Дополнительный контур на влажное помещение",{"$f":"'ОВиВК ТЕСЕ'!C71","v":0},"шт.",{"$f":"(I69/$J$2)*$J$113","v":0},{"$f":"((J69+K69)/$J$2)*$K$113","v":0},0,null,{"$f":"C69*УЗЛЫ!C70*L113","v":0},{"$f":"$C69* РАБОТЫ!C23*M113","v":0},{"$f":"$C69* РАБОТЫ!D23*M113","v":0},{"$f":"SUM(I69:K69)","v":0},""]
["Точки канализации","Монтаж системы канализации производится шумопоглощающими трубами Sinicon Россия. Прокладка  под лентой ростверка, с последующим выпуском на 1м за него  (для фундамента типа \"ростверк\")",{"$f":"'ОВиВК ТЕСЕ'!C74","v":0},"шт.",{"$f":"(I70/$J$2)*$J$113","v":0},{"$f":"((J70+K70)/$J$2)*$K$113","v":0},0,null,{"$f":"$C70* УЗЛЫ!C77*L113","v":0},{"$f":"$C70* (РАБОТЫ!C26+(РАБОТЫ!C27*0.5)+(РАБОТЫ!C28*0.1))*M113","v":0},{"$f":"$C70* (РАБОТЫ!D27+РАБОТЫ!D28)*M113","v":0},0,{"$f":"IF(G70=0,\"\",(G70-L70)/G70)","v":""}]
[null,"Земляные работы",{"$f":"'ОВиВК ТЕСЕ'!C75","v":4},"м3",{"$f":"(I71/$J$2)*$J$113","v":0},{"$f":"((J71+K71)/$J$2)*$K$113","v":12489.23076923077},12489.23076923077,null,null,{"$f":"$C71*РАБОТЫ!C28*M113","v":6765},{"$f":"$C71*РАБОТЫ!D28*M113","v":1352.9999999999998},8118,0.35000000000000003]
["Точки вентиляции (без прохода через кровлю ) 100мм","Система естественной вентиляции предназначена для того, что бы регулировать влажность и удалять неприятные запахи из кухни и санузлов. ",{"$f":"'ОВиВК ТЕСЕ'!C76","v":0},"шт.",{"$f":"(K72/$J$2)*$J$113*1.1","v":0},{"$f":"((J72)/$J$2)*$K$113*1.5","v":0},0,null,null,{"$f":"$C72* РАБОТЫ!C29*M113","v":0},{"$f":"$C72* РАБОТЫ!D29*M113","v":0},0,""]
["Точки вентиляции (без прохода через кровлю ) 125мм","Система естественной вентиляции предназначена для того, чтобы регулировать влажность и удалять неприятные запахи из кухни и санузлов. ",{"$f":"'ОВиВК ТЕСЕ'!C77","v":0},"шт.",{"$f":"(K73/0.78)*$J$113*1.1","v":0},{"$f":"((J73)/$J$2)*$K$113*1.5","v":0},0,null,null,{"$f":"$C73*РАБОТЫ!C30*M113","v":0},{"$f":"$C73*РАБОТЫ!D30*M113","v":0},0,""]
["Точки вентиляции (без прохода через кровлю ) 150мм","Система естественной вентиляции предназначена для того, чтобы регулировать влажность и удалять неприятные запахи из кухни и санузлов. ",{"$f":"'ОВиВК ТЕСЕ'!C78","v":0},"шт.",{"$f":"(K74/0.78)*$J$113*1.1","v":0},{"$f":"((J74)/$J$2)*$K$113*1.5","v":0},0,null,null,{"$f":"$C74*РАБОТЫ!C30*M113","v":0},{"$f":"$C74*РАБОТЫ!D31*M113","v":0},0,""]
["Узел на полив","Кран Merril, фитинги, переходники",{"$f":"'ОВиВК ТЕСЕ'!C79","v":0},"шт.",{"$f":"(I75/$J$2)*$J$113","v":0},{"$f":"((J75+K75)/0.4)*$K$113","v":0},0,null,{"$f":"$C75* УЗЛЫ!C80*L113","v":0},{"$f":"$C75* РАБОТЫ!C33*M113","v":0},{"$f":"$C75* РАБОТЫ!D33*M113","v":0},{"$f":"SUM(I75:K75)","v":0},""]
["Трап (точечный)","Только материал (трап точечный, переходник, компенсатор высоты)",{"$f":"'ОВиВК ТЕСЕ'!C80","v":0},"шт.",{"$f":"(I76/$J$2)*$J$113","v":0},{"$f":"((J76+K76)/$J$2)*$K$113","v":0},0,null,{"$f":"$C76*УЗЛЫ!C82*L113","v":0},null,null,0,""]
["Установка трапа (точечного)","Только работа",{"$f":"'ОВиВК ТЕСЕ'!C81","v":0},"Усл.",{"$f":"(I77/$J$2)*$J$113","v":0},{"$f":"((J77+K77)/$J$2)*$K$113","v":0},{"$f":"E77+F77","v":0},null,null,{"$f":"$C77*РАБОТЫ!C34*M113","v":0},{"$f":"$C77*РАБОТЫ!D34*M113","v":0},0,""]
["Трап (линейный) ТЕСЕ","Дренажный трап 700мм, решётка из нержавеющей стали, погружной стакан с мембраной, сифон, комплект опор",{"$f":"'ОВиВК ТЕСЕ'!C82","v":0},"шт.",{"$f":"(I78/0.8)*$J$113","v":0},{"$f":"((J78+K78)/$J$2)*$K$113","v":0},{"$f":"F78+E78","v":0},null,{"$f":"C78*УЗЛЫ!C83*L113","v":0},null,null,{"$f":"SUM(I78:K78)","v":0},""]
["Установка трапа (линейного)","Только работа",{"$f":"'ОВиВК ТЕСЕ'!C83","v":0},"Усл.",{"$f":"(I79/$J$2)*$J$113","v":0},{"$f":"((J79+K79)/$J$2)*$K$113","v":0},{"$f":"E79+F79","v":0},null,null,{"$f":"$C79* РАБОТЫ!C35*M113","v":0},{"$f":"$C79* РАБОТЫ!D35*M113","v":0},0,""]
["Лоток для водоотведения (трап) в гараже","Монтаж пластикового лотка (установка по уровню, крепление, монтаж чугунных оцинкованных решеток) без пескоуловителя",{"$f":"'ОВиВК ТЕСЕ'!C84","v":0},"пог.м.",{"$f":"I80/0.62","v":0},{"$f":"(J80+K80)/0.62","v":0},{"$f":"E80+F80","v":0},null,{"$f":"((C80*УЗЛЫ!C111))+IF(C80>0,УЗЛЫ!C113,0)","v":0},{"$f":"C80*РАБОТЫ!C40*M113","v":0},{"$f":"C80*РАБОТЫ!D40*M113","v":0},{"$f":"SUM(I80:K80)","v":0},""]
[null,"Монтаж пескоуловителя с решеткой",{"$f":"'ОВиВК ТЕСЕ'!C85","v":0},"шт.",{"$f":"I81/0.62","v":0},{"$f":"(J81+K81)/0.62","v":0},0,null,{"$f":"C81*УЗЛЫ!C112*L113","v":0},{"$f":"C81*РАБОТЫ!C41*M113","v":0},{"$f":"C81*РАБОТЫ!D41*M113","v":0},0,""]
[null,"Подключение к закладной",{"$f":"'ОВиВК ТЕСЕ'!C86","v":0},"шт.",{"$f":"I82/0.62","v":0},{"$f":"(J82+K82)/0.62","v":0},0,null,{"$f":"C82*УЗЛЫ!C114*L113","v":0},{"$f":"C82*РАБОТЫ!C42*M113","v":0},{"$f":"C82*РАБОТЫ!D42*M113","v":0},0,""]
["Установка скрытых смесителей","Душ/ ванна/ гиг.душ (комплектующие, сам смеситель покупает заказчик)",{"$f":"'ОВиВК ТЕСЕ'!C87","v":0},"шт.",{"$f":"I83/0.62","v":0},{"$f":"((J83+K83)/$J$2)*$K$113","v":0},{"$f":"E83+F83","v":0},null,{"$f":"C83*УЗЛЫ!C119*L113","v":0},{"$f":"C83*РАБОТЫ!C37*M113","v":0},{"$f":"C83*РАБОТЫ!D37*M113","v":0},0,""]
[null,"Встроенная душевая система с несколькими выводами (комплектующие, сам смеситель покупает заказчик)",{"$f":"'ОВиВК ТЕСЕ'!C88","v":0},"шт.",0,{"$f":"((J84+K84)/$J$2)*$K$113","v":0},{"$f":"E84+F84","v":0},null,{"$f":"C84*УЗЛЫ!C120*L113","v":0},{"$f":"C84*РАБОТЫ!C38*M113","v":0},{"$f":"C84*РАБОТЫ!D38*M113","v":0},0,""]
["Инсталляция (только материал)","Инсталляция встраиваемая в деревянную перегородку. Только материал. (доска 40х140, монтажный комплект инсталляции без унитаза)",{"$f":"'ОВиВК ТЕСЕ'!C89","v":0},"Компл",{"$f":"I85/0.85","v":0},null,{"$f":"E85+F85","v":0},null,{"$f":"C85*УЗЛЫ!C84*L113","v":0},null,null,0,""]
[null,"Инсталляция в коробе на стену (кирпич, металлокаркас, брус) или усиление стены из металлокаркаса. Только материал. (металлический профиль ТЕСЕ, монтажный комплект инсталляции без унитаза)",{"$f":"'ОВиВК ТЕСЕ'!C90","v":0},"Компл",{"$f":"I86/0.85","v":0},null,0,null,{"$f":"C86*УЗЛЫ!C85*L113","v":0},null,null,0,""]
["Короб под инсталяцию (при необходимости)","Только работа",{"$f":"'ОВиВК ТЕСЕ'!C91","v":0},"Усл.",null,{"$f":"((J87+K87)/0.33)*$K$113","v":0},0,null,null,{"$f":"$C87* РАБОТЫ!C39*M113","v":0},{"$f":"$C87* РАБОТЫ!D39*M113","v":0},0,""]
["Установка инсталляции","Только работа, материал заказчика",{"$f":"'ОВиВК ТЕСЕ'!C92","v":0},"Усл.",null,{"$f":"((J88+K88)/0.25)*$K$113","v":0},{"$f":"E88+F88","v":0},null,null,{"$f":"$C88* РАБОТЫ!C39*M113","v":0},{"$f":"$C88* РАБОТЫ!D39*M113","v":0},0,"",{"$f":"(SUM(G89:G90)-SUM(L89:L90))/SUM(G89:G90)","v":0.35000000000000003}]
["Итого материал:",null,null,null,null,null,{"$f":"SUM(E65:E88)","v":0},null,null,null,null,{"$f":"SUM(I65:I88)","v":0},""]
["Работа:     ",{"$f":"РАБОТЫ!A1","v":"Дата"},null,null,null,null,{"$f":"SUM(F65:F88)","v":12489.23076923077},null,null,null,null,{"$f":"SUM(J65:K88)","v":8118},0.35000000000000003]
["Дополнительно"]
["Материалы/услуги","Описание","Кол-во","Ед.изм","Мат-ал, руб","Работа, руб ","Итого, руб"]
["Проходные отверстия в плите","Алмазное сверление",{"$f":"'ОВиВК ТЕСЕ'!C97","v":9},"шт.",null,{"$f":"IF($C$93=0,0,\nIF($C$93<4,9000,\nIF($C$93>3,9000+2300*($C$93-3))))","v":22800},{"$f":"F93+E93","v":22800},null,null,null,{"$f":"IF($C$93=0,0,\nIF($C$93<4,6000,\nIF($C$93>3,6000+1700*($C$93-3))))","v":16200}]
["Штробление ","Выводы под трубопроводы",{"$f":"'ОВиВК ТЕСЕ'!C98","v":0},"шт.",null,{"$f":"(J94+K94)/0.65","v":0},{"$f":"F94+E94","v":0},null,null,{"$f":"C94*РАБОТЫ!C36","v":0},{"$f":"C94*РАБОТЫ!D36","v":0}]
["Закладная для канализации","Устройство ввода канализации в дом",{"$f":"'ОВиВК ТЕСЕ'!C99","v":0},"шт.",{"$f":"C95*4500","v":0},{"$f":"C95*16000","v":0},{"$f":"F95+E95","v":0},null,null,null,{"$f":"12500*C95","v":0}]
["Закладная для воды","Устройство ввода водоснабжения в дом",{"$f":"'ОВиВК ТЕСЕ'!C100","v":0},"шт.",{"$f":"C96*4500","v":0},{"$f":"C96*16000","v":0},{"$f":"F96+E96","v":0},null,null,null,{"$f":"12500*C96","v":0}]
["Вывоз мусора (конетейнер)","Вывоз мусора контейнер (необходим для домов свыше 350 м2)",{"$f":"'ОВиВК ТЕСЕ'!C101","v":0},"Усл.",null,{"$f":"K97/0.8","v":0},{"$f":"F97","v":0},null,null,null,{"$f":"C97*8000","v":0}]
["Подготовительные и накладные расходы","Включают разработку комплекта документов для монтажа, проверку ОТК и приемку каждого этапа работ инженерами технического надзора, соблюдение стандарта компании",{"$f":"'ОВиВК ТЕСЕ'!C102","v":1},"Усл.",null,{"$f":"C98*31000","v":31000},{"$f":"F98","v":31000},null,null,2000,4500,{"$f":"5500+6500","v":12000},"выезды ИТН",null,null,"Стоимость ОВиВК + радиаторы"]
["Транспортные расходы ","Доставка оборудования и материалов на объект",{"$f":"'ОВиВК ТЕСЕ'!C103","v":1},"усл.",null,{"$f":"C99*11000","v":11000},{"$f":"F99","v":11000},null,null,null,null,10000,null,null,null,{"$f":"F106+'ТП Stout '!G46","v":77289.230769230766}]
["Доставка бытовки на объект","Если есть такая необходимость, мы предоставляем бытовку для проживания на объекте строителей. После окончания работ, бытовка вывозится.",{"$f":"'ОВиВК ТЕСЕ'!C104","v":0},"км от мкад",null,null,{"$f":"IF(C100=0,0,\nIF(C100<100,24000,\nIF(C100<150,30000,36000)))","v":0},null,null,null,null,{"$f":"IF(C100=0,0,\nIF(C100<=50,13500,\nIF(C100<=100,17000,\nIF(C100<=150,20500,\nIF(C100<=200,24000,\nIF(C100<=250,27500,\nIF(C100>250,31000,)))))))","v":0}]
["Итого по смете:",null,null,null,null,{"$f":"SUM(G17:G18,G61:G62,G89:G90,G93:G99)","v":77289.230769230766},null,null,{"$f":"SUM(L17,L61,L89)","v":0},{"$f":"SUM(J6:J16,J21:J60,J65:J88,J93:J100)","v":8765},{"$f":"SUM(K6:K16,K21:K60,K65:K88,K93:K100)","v":22053},{"$f":"SUM(I101:K101,L93:L100)-M104","v":52818},{"$f":"IF(F106=0,\"\",(F106-L101)/F106)","v":0.31661889406425414}]
["Вычет по сертификату за систему отопление:",null,null,"м²",{"$f":"(I102/$J$2)*$J$113","v":0},{"$f":"(C102*600)*$K$113","v":0},{"$f":"F102+E102","v":0},null,{"$f":"$C102*(УЗЛЫ!C15)+(IF(C102=0,0,)+IF(C102>1,УЗЛЫ!D17,))","v":0},{"$f":"C102*(РАБОТЫ!C17+РАБОТЫ!C18)/R49","v":0},{"$f":"C102*(РАБОТЫ!D17+РАБОТЫ!D18)/R49","v":0},{"$f":"SUM(I102:K102)","v":0}]
["Вычет по сертификату за систему водоснабжения:",null,null,"точка",{"$f":"(I103/$K$2)*$J$113","v":0},{"$f":"((J103+K103)/$K$2)*$K$113*1.3","v":0},0,null,{"$f":"C103* УЗЛЫ!C70","v":0},{"$f":"$C103*(РАБОТЫ!C23 + (РАБОТЫ!C24/10))","v":0},{"$f":"$C103*(РАБОТЫ!D23 + (РАБОТЫ!D24/10))","v":0},{"$f":"SUM(I103:K103)","v":0}]
["Вычет по сертификату за систему канализации:",null,null,"точка",{"$f":"(I104/$J$2)*$J$113","v":0},{"$f":"((J104+K104)/$J$2)*$K$113","v":0},0,null,{"$f":"$C104* УЗЛЫ!C78","v":0},{"$f":"$C104* (РАБОТЫ!C26+(РАБОТЫ!C27*0.5)+(РАБОТЫ!C28*0.1))","v":0},{"$f":"$C104* (РАБОТЫ!D27+РАБОТЫ!D28)","v":0},0,{"$f":"SUM(L102:L104)","v":0}]
["Корректировка стоимости (скидка):",null,null,null,null,null,0]
["Итого по смете со скидкой:",null,null,null,null,{"$f":"F101-G105-G102-G103-G104","v":77289.230769230766}]
[null,{"$f":"РАБОТЫ!$A$1","v":"Дата"},null,null,null,null,null,null,null,null,"Дом кирпично-деревянный",0]
[null,null,null,null,null,null,null,null,null,null,"(поставить 1)"]
[]
[null,null,null,null,null,null,null,null,null,"Коэффициент для заказчика",null,"Коэффициент для СЕБЕСА дом свыше 350м2 плюс 10%;           мусор-контейнер;        дизайн-проект 10%"]
[null,null,null,null,null,null,null,null,null,null,null,null,null,"* 10% на оплату работ, материал через запрос в проектный"]
[null,null,null,null,null,null,null,null,null,"Мат","Раб","Мат","Раб"]
[null,null,null,null,null,null,null,null,null,1,1,1,1]
[]
[null,null,null,null,null,null,null,null,"Стоим. мат-ла","Стоим. работ бр.","Стоим. работ ПР","Мат-л + работа","Промежут. рента"]
[null,null,null,null,null,null,null,null,null,null,null,null,null,null,"Справочно, в разбивке по этапам:"]
[null,null,null,null,null,null,null,null,{"$f":"I101-I118-I119","v":{"$error":"#REF!"}},{"$f":"J101-J118-J119","v":{"$error":"#REF!"}},{"$f":"K101-K118-K119","v":{"$error":"#REF!"}},{"$f":"L101-L118-L119","v":{"$error":"#REF!"}},{"$f":"IF(Q117=0, \"\", (Q117-L117)/Q117)","v":{"$error":"#REF!"}},null,"Скрытые",null,{"$f":"F101-Q118-Q119","v":{"$error":"#REF!"}}]
[null,null,null,null,null,null,null,null,{"$f":"SUM(#REF!+#REF!+#REF!+#REF!+#REF!+#REF!+#REF!+#REF!+#REF!+#REF!+#REF!+#REF!+#REF!)","v":{"$error":"#REF!"}},{"$f":"SUM(#REF!+#REF!+#REF!++#REF!+#REF!+#REF!+#REF!+#REF!+#REF!+#REF!+#REF!+#REF!+#REF!)","v":{"$error":"#REF!"}},{"$f":"SUM(#REF!+#REF!+#REF!++#REF!+#REF!+#REF!+#REF!+#REF!+#REF!+#REF!+#REF!+#REF!+#REF!)","v":{"$error":"#REF!"}},{"$f":"SUM(#REF!+#REF!+#REF!++#REF!+#REF!+#REF!+#REF!+#REF!+#REF!+#REF!+#REF!+#REF!+#REF!)","v":{"$error":"#REF!"}},{"$f":"IF(Q118=0, \"\", (Q118-L118)/Q118)","v":{"$error":"#REF!"}},null,"Теплые полы",null,{"$f":"SUM(#REF!+#REF!+#REF!+#REF!+#REF!+#REF!+#REF!+#REF!+#REF!+#REF!+#REF!+#REF!+#REF!)","v":{"$error":"#REF!"}}]
[null,null,null,null,null,null,null,null,{"$f":"SUM(I6:I16)","v":0},{"$f":"SUM(J6:J16)","v":0},{"$f":"SUM(K6:K16)","v":0},{"$f":"SUM(L6:L16)","v":0},{"$f":"IF(Q119=0, \"\", (Q119-L119)/Q119)","v":""},null,"Теплотрасса",null,{"$f":"SUM(G6:G16)","v":0}]

{"sheet":"Вентиляция (Приточная)","index":5,"n_rows":85,"n_cols":14,"rows_kept":85,"cut":false,"hidden":false,"merged":[[0,0,0,6],[1,1,1,6],[2,0,2,6],[3,0,3,6],[13,0,13,4],[13,5,13,6],[38,0,38,6],[14,0,14,4],[14,5,14,6],[15,0,15,6],[22,0,22,4],[22,5,22,6],[23,0,23,4],[23,5,23,6],[24,0,24,6],[36,0,36,4],[36,5,36,6],[37,0,37,4],[37,5,37,6],[68,5,68,6],[69,0,69,4],[69,5,69,6],[43,0,43,4],[43,5,43,6],[44,0,44,4],[44,5,44,6],[45,0,45,6],[47,0,52,0],[53,0,61,0],[63,0,65,0],[66,0,67,0],[68,0,68,4],[70,0,70,6],[76,5,76,6],[78,5,78,6],[81,9,82,10],[85,9,86,10]]}
["Приложение №    к Договору подряда №    ______________от_____________",null,null,null,null,null,null,null,"курс €"]
[{"$f":"TODAY()","v":"2024-02-02"},"Данный сметный расчёт действителен 7 календарных дней. По истечению срока, цены могут быть изменены.",null,null,null,null,null,null,{"$f":"'ОВиВК ТЕСЕ'!I2","v":100}]
["Сметный расчет Вентиляция и Дымоходы"]
["Общеобменная вентиляция",null,null,null,null,null,null,null,{"$f":"РАБОТЫ!A1","v":"Дата"}]
["Материалы/услуги","Описание","Кол-во","Ед.изм","Мат-ал, руб","Работа, руб ","Итого, руб",null,"Материал","Бригада","Прораб","Итого","Рента"]
["Точки вытяжной вентиляции (без прохода через кровлю )","Система естественной вытяжной вентиляции предназначена для того, что бы регулировать влажность и удалять неприятные запахи из кухни и санузлов. ",null,"шт.",{"$f":"(K6/0.65)*1.1","v":0},{"$f":"((J6)/0.65)*1.5","v":0},{"$f":"F6+E6","v":0},null,null,{"$f":"C6*РАБОТЫ!C29","v":0},{"$f":"C6*РАБОТЫ!D29","v":0},{"$f":"SUM(I6:K6)","v":0},{"$f":"IF(G6=0, \"\", (G6-L6)/G6)","v":""}]
["Точки вытяжной вентиляции (без прохода через кровлю ) для парных","Система естественной вытяжной вентиляции предназначена для того, что бы регулировать влажность и удалять неприятные запахи. ",null,"шт.",{"$f":"(K7/0.65)","v":0},{"$f":"((J7)/0.65)*1.2","v":0},0,null,null,{"$f":"C7*РАБОТЫ!C32","v":0},{"$f":"C7*РАБОТЫ!D32","v":0},{"$f":"SUM(I7:K7)","v":0},{"$f":"IF(G7=0, \"\", (G7-L7)/G7)","v":""}]
["Приточный клапан 16кп-04","Предназначены для притока наружного воздуха в помещения в системах вентиляции",null,"шт.",{"$f":"((I8*64%)/0.7)","v":0},{"$f":"((I8*36%)/0.5)","v":0},0,null,{"$f":"C8*УЗЛЫ!B288","v":0},null,null,{"$f":"SUM(I8:K8)","v":0},{"$f":"IF(G8=0, \"\", (G8-L8)/G8)","v":""}]
["Установка аэратора VILPE на кровле (проход кровли). Металло-черепица, мягкая кровля, цементно-песчанная кровля","Система естественной вентиляции предназначена для того, что бы регулировать влажность и удалять неприятные запахи из кухни и санузлов. Цвет стандарт. ",null,"шт.",{"$f":"((I9*0.73))*J85","v":0},{"$f":"(C9*15000)*K85","v":0},{"$f":"F9+E9","v":0},null,{"$f":"IF($C$9=0,0,\nIF($C$9=1,C9*УЗЛЫ!B270,\nIF($C$9>1,УЗЛЫ!B270+(C9-1)*УЗЛЫ!C270)))","v":0},null,null,{"$f":"SUM(I9:K9)","v":0},{"$f":"IF(G9=0, \"\", (G9-L9)/G9)","v":""}]
["Установка аэратора VILPE 160 на кровле (проход кровли). Металло-черепица, мягкая кровля, цементно-песчанная кровля","Система естественной вентиляции предназначена для того, чтобы регулировать влажность и удалять неприятные запахи из помещений требующего вывода большего объёма воздуха (гараж и пр.) Цвет стандарт.",null,"шт.",{"$f":"((I10*0.74))*J85","v":0},{"$f":"(C10*15000)*$K$85","v":0},{"$f":"F10+E10","v":0},null,{"$f":"C10*УЗЛЫ!B274","v":0},null,null,{"$f":"SUM(I10:K10)","v":0},{"$f":"IF(G10=0, \"\", (G10-L10)/G10)","v":""}]
["Установка аэратора на кровле VILPE FLOW 125/700  (проход кровли). Металло-черепица, мягкая кровля, цементно-песчанная кровля","Система естественной вентиляции предназначена для того, что бы регулировать влажность и удалять неприятные запахи из кухни и санузлов. Увеличенный КПД.     Цвет стандарт.",null,"шт.",{"$f":"((I11*0.75))*$J$85","v":0},{"$f":"(C11*15000)*$K$85","v":0},0,null,{"$f":"C11*УЗЛЫ!B282","v":0},null,null,0,""]
["Установка аэратора на кровле VILPE FLOW 160/700  (проход кровли).Металло-черепица, мягкая кровля, цементно-песчанная кровля","Система естественной вентиляции предназначена для того, чтобы регулировать влажность и удалять неприятные запахи из помещений требующего вывода большего объёма воздуха (гараж и пр.) Увеличенный КПД. Цвет стандарт.",null,"шт.",{"$f":"((I12*0.95))*$J$85","v":0},{"$f":"(C12*15000)*$K$85","v":0},0,null,{"$f":"C12*УЗЛЫ!B284","v":0},null,null,0,""]
["Система снегозадержания ГрандЛайн (над газ.вент., вент.выходы)","Защищает кровельные аэраторы, газ.вент. и дымоходы от повреждения при сходе снега/льда",{"$f":"IF(I13>0,1,0)","v":0},"компл.",{"$f":"((I13*0.85)/0.72)*J85","v":0},{"$f":"(C9+C10+C11+C12+C18+C19+C20+C21+C31+C32+C42+C43)*1000","v":0},{"$f":"F13+E13","v":0},null,{"$f":"(C9+C10+C11+C12+C18+C19+C20+C21+C31+C32+C42+C43)*УЗЛЫ!B292","v":0},null,null,{"$f":"SUM(I13:K13)","v":0},""]
["Итого материал:                                                                                                                                                                                                                                                ",null,null,null,null,{"$f":"SUM(E6:E13)","v":0},null,null,null,null,null,{"$f":"SUM(I6:I13)","v":0}]
["Работа:                                                                                                                                                                                                                                                        ",null,null,null,null,{"$f":"SUM(F6:F13)","v":0},null,null,null,null,null,{"$f":"SUM(J6:K13)","v":0}]
["Вентиляция газовая (из котельной и кухни)"]
["Материалы/услуги","Описание","Кол-во","Ед.изм","Мат-ал, руб","Работа, руб ","Итого, руб",null,"Материал","Бригада","Прораб","Итого","Рента"]
["Комплект внутренней вентиляции и D150мм ","Соотв. требованиям газовых служб. Нержавеющая сталь, сэндвич",null,"Компл.",{"$f":"K18*$J$85","v":0},{"$f":"(C18*35000)*K85","v":0},{"$f":"F18+E18","v":0},null,null,null,{"$f":"C18*УЗЛЫ!B294","v":0},{"$f":"SUM(I18:K18)","v":0},{"$f":"IF(G18=0, \"\", (G18-L18)/G18)","v":""}]
["Комплект внутренней вентиляции  D200мм ","Соотв. требованиям газовых служб. Нержавеющая сталь, сэндвич",null,"Компл.",{"$f":"K19*$J$85","v":0},{"$f":"(C19*35000)*K85","v":0},{"$f":"F19+E19","v":0},null,null,null,{"$f":"C19*УЗЛЫ!B296","v":0},{"$f":"SUM(I19:K19)","v":0},{"$f":"IF(G19=0, \"\", (G19-L19)/G19)","v":""}]
["Комплект внешней вентиляции  D150мм","Соотв. требованиям газовых служб. Нержавеющая сталь, сэндвич",null,"Компл.",{"$f":"K20*$J$85","v":0},{"$f":"(C20*45000)*K85","v":0},{"$f":"F20+E20","v":0},null,null,null,{"$f":"C20* УЗЛЫ!B298","v":0},{"$f":"SUM(I20:K20)","v":0},{"$f":"IF(G20=0, \"\", (G20-L20)/G20)","v":""}]
["Комплект внешней вентиляции  D200мм ","Соотв. требованиям газовых служб. Нержавеющая сталь, сэндвич",null,"Компл.",{"$f":"K21*$J$85","v":0},{"$f":"(C21*45000)*K85","v":0},{"$f":"F21+E21","v":0},null,null,null,{"$f":"C21*УЗЛЫ!B300","v":0},{"$f":"SUM(I21:K21)","v":0},{"$f":"IF(G21=0, \"\", (G21-L21)/G21)","v":""}]
["Цвет трубы","Покраска верхней части (ТЕМНО КРАСНЫй,  ТЕМНО СЕРЫЙ, КОРРИЧНЕВЫЙ, ТЕМНЫЙ ШОКОЛАД, ЧЕРНЫЙ)",null,"пог.м.",{"$f":"K22*$J$85","v":0},{"$f":"(C22*500)*K85","v":0},{"$f":"F22+E22","v":0},null,null,null,{"$f":"C22*1700","v":0},{"$f":"SUM(I22:K22)","v":0},{"$f":"IF(G22=0, \"\", (G22-L22)/G22)","v":""}]
["Итого материал:                                                                                                                                                                                                                                                ",null,null,null,null,{"$f":"SUM(E18:E22)","v":0}]
["Работа:                                                                                                                                                                                                                                                        ",null,null,null,null,{"$f":"SUM(F18:F22)","v":0},null,null,null,null,null,{"$f":"SUM(L18:L22)","v":0}]
["Система с принудительным вытяжным грибком Е190Р/Е220Р"]
["Материалы/услуги","Описание","Кол-во","Ед.изм","Мат-ал, руб","Работа, руб ","Итого, руб",null,"Материал","Бригада","Прораб","Итого","Рента"]
["Вытяжной канал на одно помещение, для первого этажа","Подключение канала первого этажа на одно помещение. Гофрированный воздуховод, 140х64мм, гладкая внутреннняя поверхность, покрытая специальным антибактериальным и антистатическим раствором.",null,"Компл.",{"$f":"(I27*1.5)*J85","v":0},{"$f":"(K27*1.9)*K85","v":0},{"$f":"E27+F27","v":0},null,{"$f":"$C27*УЗЛЫ!C344","v":0},null,{"$f":"$C27*УЗЛЫ!C316","v":0},{"$f":"I27+K27","v":0},{"$f":"IF(G27=0,\"\",(G27-L27)/G27)","v":""}]
["Вытяжной канал на два помещения, для первого этажа","Подключение канала второго этажа на два помещения. Гофрированный воздуховод, 140х64мм, гладкая внутреннняя поверхность, покрытая специальным антибактериальным и антистатическим раствором.",null,"Компл.",{"$f":"(I28*1.5)*J85","v":0},{"$f":"(K28*1.9)*K85","v":0},{"$f":"E28+F28","v":0},null,{"$f":"$C28*УЗЛЫ!C345","v":0},null,{"$f":"$C28*УЗЛЫ!C317","v":0},0,""]
["Вытяжной канал на одно помещение, для второго этажа","Подключение канала первого этажа на одно помещение. Гофрированный воздуховод, 140х64мм, гладкая внутреннняя поверхность, покрытая специальным антибактериальным и антистатическим раствором.",null,"Компл.",{"$f":"(I29*1.5)*J85","v":0},{"$f":"(K29*1.9)*K85","v":0},0,null,{"$f":"$C29*УЗЛЫ!C346","v":0},null,{"$f":"$C29*УЗЛЫ!C318","v":0},0,""]
["Вытяжной канал на два помещения, для второго этажа","Подключение канала второго этажа на два помещения. Гофрированный воздуховод, 140х64мм, гладкая внутреннняя поверхность, покрытая специальным антибактериальным и антистатическим раствором.",null,"Компл.",{"$f":"(I30*1.5)*J85","v":0},{"$f":"(K30*1.9)*K85","v":0},0,null,{"$f":"$C30*УЗЛЫ!C347","v":0},null,{"$f":"$C30*УЗЛЫ!C319","v":0},0,""]
["Кровельный вентилятор E190P с диммером ","Подключение кровельного грибка E190P, с регулировкой мощности через диммер (до 250 м.кв.)",null,"Компл.",{"$f":"(I31*1)*J85","v":0},{"$f":"(K31*6.5)*K85","v":0},0,null,{"$f":"$C31*УЗЛЫ!C348","v":0},null,{"$f":"$C31*УЗЛЫ!C320","v":0},0,""]
["Кровельный вентилятор E220P с диммером ","Подключение кровельного грибка E220P, с регулировкой мощности через диммер (до 350 м.кв.). ",null,"Компл.",{"$f":"(I32*1)*J85","v":0},{"$f":"(K32*6.5)*K85","v":0},0,null,{"$f":"$C32*УЗЛЫ!C349","v":0},null,{"$f":"$C32*УЗЛЫ!C320","v":0},0,""]
["Подключение распределительной коробки воздуховодов","Распределительный блок объеденяющий в себя 6 воздуховодов, с одним выходом на крышу. ",null,"Компл.",{"$f":"(I33*1.4)*J85","v":0},{"$f":"(K33*1.9)*K85","v":0},0,null,{"$f":"$C33*УЗЛЫ!C352","v":0},null,{"$f":"$C33*УЗЛЫ!C321","v":0},0,{"$f":"IF(G48=0,\"\",(G48-L48)/G48)","v":""}]
["Приточный клапан Velco 110","Приточный клапан Velco 110 с термостатическим элементом, с возможностью механической регулировки, со сменным мембранным фильтром, с белой наружной решеткой.",null,"шт.",{"$f":"(I34*1.5)*J85","v":0},{"$f":"(K34*1.9)*K85","v":0},0,null,{"$f":"$C34*УЗЛЫ!C353","v":0},null,{"$f":"$C34*УЗЛЫ!C322","v":0},0,""]
["Декоративная решетка с возможностью регулировки, стандарт","Декоративная решетка с возможностью регулировки SQair Extraction Стандарт Ø125",null,"шт.",{"$f":"(I35*1.5)*J85","v":0},{"$f":"(K35*1.9)*K85","v":0},0,null,{"$f":"$C35*УЗЛЫ!C354","v":0},null,{"$f":"$C35*УЗЛЫ!C323","v":0},0,""]
["Декоративная решетка с возможностью регулировки, Delux","Декоративная решетка с возможностью регулировки SQair Extraction Deluxe Ø125",null,"шт.",{"$f":"(I36*1.5)*J85","v":0},{"$f":"(K36*1.9)*K85","v":0},0,null,{"$f":"$C36*УЗЛЫ!C355","v":0},null,{"$f":"$C36*УЗЛЫ!C324","v":0},0,""]
["Итого материал:                                                                                                                                                                                                                                                ",null,null,null,null,{"$f":"SUM(E27:E36)","v":0},null,null,null,null,null,{"$f":"SUM(I27:I36)","v":0},{"$f":"IF(F37=0,\"\",(F37-L37)/F37)","v":""}]
["Работа:                                                                                                                                                                                                                                                        ",null,null,null,null,{"$f":"SUM(F27:F36)","v":0},null,null,null,null,null,{"$f":"SUM(K27:K36)","v":0},{"$f":"IF(F38=0,\"\",(F38-L38)/F38)","v":""}]
["Тихая кухня (кухонная вытяжка покупается отдельно после установки кухни)"]
["Материалы/услуги","Описание","Кол-во","Ед.изм","Мат-ал, руб","Работа, руб ","Итого, руб",null,"Материал","Бригада","Прораб","Итого","Рента"]
["Точки вентиляции (без прохода через кровлю ) 125мм","Система естественной вентиляции предназначена для того, чтобы регулировать влажность и удалять неприятные запахи из кухни и санузлов. ",null,"шт.",{"$f":"(K41/0.78)*$J$85*1.1","v":0},{"$f":"((J41)/0.65)*$K$85*1.5","v":0},{"$f":"F41+E41","v":0},null,null,{"$f":"$C41* РАБОТЫ!C30","v":0},{"$f":"$C41*РАБОТЫ!D30","v":0},{"$f":"SUM(I41:K41)","v":0},{"$f":"IF(G41=0,\"\",(G41-L41)/G41)","v":""}]
["Кровельный вентилятор E190P","Подключение кровельного грибка E190P, с регулировкой мощности через кухонную вытяжку (вытяжка покупается отдельно после установки кухни).",null,"Компл.",{"$f":"(I42*1)*J85","v":0},{"$f":"(K42*6)*K85","v":0},{"$f":"E42+F42","v":0},null,{"$f":"$C42*УЗЛЫ!C350","v":0},null,{"$f":"$C42*УЗЛЫ!C320","v":0},{"$f":"I42+K42","v":0},""]
["Кровельный вентилятор E220P","Подключение кровельного грибка E220P, с регулировкой мощности через кухонную вытяжку (вытяжка покупается отдельно после установки кухни). Для островной вытяжки",null,"Компл.",{"$f":"(I43*1)*J85","v":0},{"$f":"(K43*6)*K85","v":0},0,null,{"$f":"$C43*УЗЛЫ!C351","v":0},null,{"$f":"$C43*УЗЛЫ!C320","v":0},0,{"$f":"IF(G43=0,\"\",(G43-L43)/G43)","v":""}]
["Итого материал:                                                                                                                                                                                                                                                ",null,null,null,null,{"$f":"SUM(E41:E43)","v":0},null,null,null,null,null,{"$f":"SUM(I41:I43)","v":0},{"$f":"IF(F44=0,\"\",(F44-L44)/F44)","v":""}]
["Работа:                                                                                                                                                                                                                                                        ",null,null,null,null,{"$f":"SUM(F41:F43)","v":0},null,null,null,null,null,{"$f":"SUM(K41:K43)","v":0},{"$f":"IF(F45=0,\"\",(F45-L45)/F45)","v":""}]
["Приточная вентиляция ЗАПРОС АКТУАЛЬНЫХ ПОЗИЦИЙ И ЦЕН ЧЕРЕЗ ПРОЕКТНЫЙ (ВИКТОР ШАТЕРНИКОВ)"]
["Материалы/услуги","Описание","Кол-во","Ед.изм","Мат-ал, руб","Работа, руб ","Итого, руб",null,"Материал","Бригада","Прораб","Итого","Рента"]
[null,"Воздуховод бухта 50 м.п. d75 ",null,"м.пог",{"$f":"I48/0.8","v":0},{"$f":"(J48+K48)/0.5","v":0},{"$f":"E48+F48","v":0},null,{"$f":"C48*УЗЛЫ!C362","v":0},{"$f":"C48*РАБОТЫ!C261","v":0},{"$f":"C48*РАБОТЫ!D261","v":0},{"$f":"SUM(I48:K48)","v":0},{"$f":"IF(G48=0,\"\",(G48-L48)/G48)","v":""}]
[null,"Диффузор потолочный приточный 125 мм",null,"шт",{"$f":"I49/0.8","v":0},{"$f":"(J49+K49)/0.5","v":0},{"$f":"E49+F49","v":0},null,{"$f":"C49*УЗЛЫ!C363","v":0},{"$f":"C49*РАБОТЫ!C262","v":0},{"$f":"C49*РАБОТЫ!D262","v":0},{"$f":"SUM(I49:K49)","v":0},{"$f":"IF(G49=0,\"\",(G49-L49)/G49)","v":""}]
[null,"Диффузор стеновой приточный",null,"шт",0,0,0,null,{"$f":"C50*УЗЛЫ!C364","v":0},{"$f":"C50*РАБОТЫ!C263","v":0},{"$f":"C50*РАБОТЫ!D263","v":0},0,""]
[null,"Адаптеры",null,"шт",0,0,0,null,{"$f":"C51*УЗЛЫ!C365","v":0},{"$f":"C51*РАБОТЫ!C264","v":0},{"$f":"C51*РАБОТЫ!D264","v":0},0,""]
[null,"Распределительный короб  8-10х диам75мм",null,"шт",0,0,0,null,{"$f":"C52*УЗЛЫ!C366","v":0},{"$f":"C52*РАБОТЫ!C265","v":0},{"$f":"C52*РАБОТЫ!D265","v":0},0,""]
[null,"Отводы, крепления,комплектующие для полужестких гофр. воздуховодов",null,"компл",0,0,0,null,{"$f":"C53*УЗЛЫ!C367","v":0},{"$f":"C53*РАБОТЫ!C266","v":0},{"$f":"C53*РАБОТЫ!D266","v":0},0,""]
["Приточная установка с обвязкой","Приточная установка 400-500м3/ч",null,"шт",0,0,0,null,{"$f":"C54*УЗЛЫ!C368","v":0},{"$f":"C54*РАБОТЫ!C267","v":0},{"$f":"C54*РАБОТЫ!D267","v":0},0,""]
[null,"Приточная установка 250-300м3/ч",null,"шт",0,0,0,null,{"$f":"C55*УЗЛЫ!C369","v":0},{"$f":"C55*РАБОТЫ!C268","v":0},{"$f":"C55*РАБОТЫ!D268","v":0},0,""]
[null,"Пульт управления",null,"шт",0,0,0,null,{"$f":"C56*УЗЛЫ!C370","v":0},{"$f":"C56*РАБОТЫ!C269","v":0},{"$f":"C56*РАБОТЫ!D269","v":0},0,""]
[null,"Шумоглушители, клапана",null,"компл",0,0,0,null,{"$f":"C57*УЗЛЫ!C371","v":0},{"$f":"C57*РАБОТЫ!C270","v":0},{"$f":"C57*РАБОТЫ!D270","v":0},0,""]
[null,"Стеновой приточный элемент",null,"шт",0,0,0,null,{"$f":"C58*УЗЛЫ!C379","v":0},0,{"$f":"C58*(УЗЛЫ!C322*2)","v":0},0,""]
[null,"Крышной приточный элемент",null,"шт",0,0,0,null,{"$f":"C59*УЗЛЫ!C380","v":0},0,{"$f":"C59*РАБОТЫ!D271","v":0},0,""]
[null,"Расходные материалы",null,"компл",0,0,0,null,{"$f":"C60*УЗЛЫ!C372","v":0},{"$f":"C60*РАБОТЫ!C272","v":0},{"$f":"C60*РАБОТЫ!D272","v":0},0,""]
[null,"Электромонтажные работы (подключение установки, датчиков)",null,"компл",0,0,0,null,{"$f":"C61*УЗЛЫ!C373","v":0},{"$f":"C61*РАБОТЫ!C273","v":0},{"$f":"C61*РАБОТЫ!D273","v":0},0,""]
[null,"Пусконаладочные работы **",null,"шт",0,{"$f":"(J62+K62)/0.65","v":0},0,null,{"$f":"C62*УЗЛЫ!C374","v":0},{"$f":"C62*РАБОТЫ!C274","v":0},{"$f":"C62*РАБОТЫ!D274","v":0},0,""]
["Проектирование","разработка документов для монтажа системы вентиляции",null,"компл",0,0,0,null,{"$f":"C63*УЗЛЫ!C375","v":0},{"$f":"C63*РАБОТЫ!C275","v":0},{"$f":"C63*РАБОТЫ!D275","v":0},0,""]
["Проход стен и перекрытий","Сверление отверстий в стене ",null,"шт",0,{"$f":"(J64+K64)/0.6","v":0},0,null,{"$f":"C64*УЗЛЫ!C376","v":0},{"$f":"C64*РАБОТЫ!C276","v":0},{"$f":"C64*РАБОТЫ!D276","v":0},0,""]
[null,"Сверление отверстий в плите",null,"шт",0,{"$f":"(J65+K65)/0.6","v":0},0,null,{"$f":"C65*УЗЛЫ!C377","v":0},{"$f":"C65*РАБОТЫ!C277","v":0},{"$f":"C65*РАБОТЫ!D277","v":0},0,""]
[null,"Сверление отверстий в балках",null,"шт",0,{"$f":"(J66+K66)/0.6","v":0},0,null,{"$f":"C66*УЗЛЫ!C378","v":0},{"$f":"C66*РАБОТЫ!C278","v":0},{"$f":"C66*РАБОТЫ!D278","v":0},0,""]
["Общестроительные работы","Декоративные короба (выполняются при разводке воздуховодов под потолком 1 этажа)",null,"м",{"$f":"I67/0.8","v":0},{"$f":"(J67+K67)/0.6","v":0},0,null,{"$f":"C67*УЗЛЫ!C381","v":0},{"$f":"C67*РАБОТЫ!C279","v":0},{"$f":"C67*РАБОТЫ!D279","v":0},0,""]
[null,"Дополнительный пирог пола (выполняется при разводке воздуховодов в полу 2 этажа) - удорожание по отношению к типовому полу",null,"м2",{"$f":"I68/0.8","v":0},{"$f":"(J68+K68)/0.6","v":0},0,null,{"$f":"C68*УЗЛЫ!C382","v":0},{"$f":"C68*РАБОТЫ!C280","v":0},{"$f":"C68*РАБОТЫ!D280","v":0},0,""]
["Итого материал:                                                                                                                                                                                                                                                ",null,null,null,null,{"$f":"SUM(E48:E68)","v":0},null,null,null,null,null,{"$f":"SUM(I48:I68)","v":0},{"$f":"IF(F69=0,\"\",(F69-L69)/F69)","v":""},{"$f":"1-(L69+L70)/(F69+F70)","v":{"$error":"#DIV/0!"}}]
["Работа:                                                                                                                                                                                                                                                        ",null,null,null,null,{"$f":"SUM(F48:F68)","v":0},null,null,null,null,null,{"$f":"SUM(J48:K68)","v":0},{"$f":"IF(F70=0,\"\",(F70-L70)/F70)","v":""}]
["Дополнительно"]
["Материалы/услуги","Описание","Кол-во","Ед.изм","Мат-ал, руб","Работа, руб ","Итого, руб",null,"Материал","Бригада","Прораб","Итого","Рента"]
["Проходные отверстия в плите","Алмазное сверление (при ЖБ или монолитных перекрытиях)",3,"шт.",null,{"$f":"IF($C$73=0,0,\nIF($C$73<4,9000,\nIF($C$73>3,9000+2300*($C$73-3))))","v":9000},{"$f":"F73","v":9000},null,null,null,{"$f":"IF($C$73=0,0,\nIF($C$73<4,6000,\nIF($C$73>3,6000+1700*($C$73-3))))","v":6000}]
["Подготовительные и накладные расходы","Включают разработку комплекта документов для монтажа, проверку ОТК и приемку каждого этапа работ инженерами технического надзора, соблюдение стандарта компании",1,"Усл.",null,{"$f":"C74*19000","v":19000},{"$f":"F74*C74","v":19000},null,null,null,4000,{"$f":"5500+6500","v":12000}]
["Транспортные расходы ","Доставка оборудования и материалов на объект",1,"усл.",null,{"$f":"ROUNDUP((F14+F15+F23+F24+F37+F38+F69+F70)*0.005+5000,-3)*C75","v":5000},{"$f":"F75","v":5000}]
["Доставка бытовки на объект","Если есть такая необходимость, мы предоставляем бытовку для проживания на объекте строителей. После окончания работ, бытовка вывозится.",null,"км от мкад",null,null,{"$f":"IF(C76=0,0,\nIF(C76<100,24000,\nIF(C76<150,30000,36000)))","v":0},null,null,null,null,{"$f":"IF(C76=0,0,\nIF(C76<=50,13500,\nIF(C76<=100,17000,\nIF(C76<=150,20500,\nIF(C76<=200,24000,\nIF(C76<=250,27500,\nIF(C76>250,31000,)))))))","v":0}]
["Итого по смете:",null,null,null,null,{"$f":"SUM(F14:G15,F23:G24,F37:G38,F44:G45,F69:G70,G73:G76)","v":33000},null,null,{"$f":"SUM(I6:I13,I18:I22,I27:I36,I48:I68,I41:I43)","v":0},{"$f":"SUM(J6:J13,J18:J22,J27:J36,J48:J68,J73:J76,J41:J43)","v":0},{"$f":"SUM(K6:K13,K18:K22,K27:K36,K48:K68,K73:K76,K41:K43)","v":10000},{"$f":"SUM(L73:L76,I77:K77)","v":22000},{"$f":"IF(F79=0,\"\",(F79-L77)/F79)","v":0.33333333333333331}]
["Корректировка стоимости (скидка):"]
["Итого по смете со скидкой:",null,null,null,null,{"$f":"F77-G78","v":33000}]
["* При выполнении разводки под потолком необходимо добавить декоративный короб. При выполнении разводки в межэтажном перекрытии необходима дополнительная обрешётка."]
["** ПНР  выполняется по факту готовности объекта",null,null,null,null,null,{"$f":"РАБОТЫ!A1","v":"Дата"}]
[null,{"$f":"РАБОТЫ!$A$1","v":"Дата"},null,null,null,null,null,null,null,"Коэффициент"]
[]
[null,null,null,null,null,null,null,null,null,"Мат","Раб"]
[null,null,null,null,null,null,null,null,null,1,1]

{"sheet":"Электрика","index":6,"n_rows":106,"n_cols":16,"rows_kept":106,"cut":false,"hidden":false,"merged":[[67,14,68,14],[68,2,68,3],[67,13,68,13],[0,0,0,6],[1,1,1,6],[2,0,2,6],[3,0,3,6],[25,1,26,1],[30,0,31,0],[32,0,33,0],[40,0,41,0],[50,4,50,5],[3,9,3,11],[47,4,47,5],[67,2,67,3],[56,0,63,0],[102,11,103,12],[76,4,76,5],[77,4,77,5],[78,4,78,5],[94,5,94,6],[102,9,103,10],[91,5,91,6],[83,0,83,6],[79,4,79,5],[82,4,82,5],[80,4,80,5],[85,4,85,5],[81,4,81,5],[75,4,75,5],[50,0,51,0],[51,4,51,5],[47,0,49,0],[49,4,49,5],[54,0,54,6],[69,0,69,6],[71,4,71,5],[70,4,70,5],[72,4,72,5],[73,0,74,0],[71,0,72,0],[73,4,73,5],[74,4,74,5],[48,4,48,5]]}
["Приложение №    к Договору подряда №    ______________от_____________"]
[{"$f":"TODAY()","v":"2024-02-02"},"Данный сметный расчёт действителен 7 календарных дней. По истечению срока, цены могут быть изменены."]
["Сметный расчет Электрика",null,null,null,null,null,null,null,null,null,null,null,0.7]
["Электротехнические работы и материалы.**",null,null,null,null,null,null,null,{"$f":"РАБОТЫ!A1","v":"Дата"},"Коэффициент для ренты",null,null,0.4,null,"Кабель итого:",{"$f":"P5+P6+P7+P8+P9+P10+P12+P13","v":0}]
["Материалы/услуги","Описание","Кол-во","Ед.изм","Мат-ал, руб","Работа, руб ","Итого, руб",null,"Материал","Бригада","Прораб","Итого","Рента",null,"Кабель ВВГнг-LS 3х2,5",{"$f":"(C6*13)+(C7*13)+(C8*0.5)+(C16*15)+(C26*16)+(C38*14)","v":0}]
["Электрические точки по купону ","Электроустановочное оборудование не входит",null,"шт.",0,0,{"$f":"SUM(E6:F6)","v":0},13,null,null,null,{"$f":"SUM(I6:K6)","v":0},{"$f":"IF(E6=0, \"\", (E6-L6)/E6)","v":""},null,"Кабель ВВГ нг-LS 5*4",{"$f":"(C9*17)+(C15*18)","v":0}]
["Выводы под розетки","Кабелем ВВГ(А)нг-LS.",null,"шт.",{"$f":"($I7/$M$3)*$J$106","v":0},{"$f":"(($J7+$K7)/$M$4)*$K$106","v":0},{"$f":"SUM(E7:F7)","v":0},13,{"$f":"$C7*((УЗЛЫ!C400*13)+(УЗЛЫ!C427*13)+(УЗЛЫ!C422*13)+(14*УЗЛЫ!C433)+УЗЛЫ!C432)*L106","v":0},{"$f":"$C7*РАБОТЫ!C115*M106","v":0},{"$f":"$C7*РАБОТЫ!D115*M106","v":0},0,{"$f":"IF(G7=0,\"\",(G7-L7)/G7)","v":""},null,"Кабель ПРКС 5х2,5",{"$f":"C10*17","v":0}]
["Выводы под розетки в блоке","2,3,4 розетки в блоках имеющие одну групповую нагрузку",null,"шт.",{"$f":"($I8/$M$3)*$J$106","v":0},{"$f":"(($J8+$K8)/0.55)*$K$106","v":0},0,0.5,{"$f":"$C8*(((УЗЛЫ!C400*0.5)+(2*УЗЛЫ!C433)+УЗЛЫ!C432)*L106)","v":0},{"$f":"$C8* РАБОТЫ!C119*M106","v":0},{"$f":"$C8*РАБОТЫ!D119*M106","v":0},0,"",null,"Кабель SAT 703B+CU/CU (75 Ом) 100 м белый ",{"$f":"(C12*H12)+(C13*H13)","v":0}]
["Силовые выводы в пределах дома ","Сечение  свыше 2,5 мм. (Электрокотел, электроплита) ",null,"шт.",{"$f":"($I9/$M$3)*$J$106","v":0},{"$f":"(($J9+$K9)/$M$4)*$K$106","v":0},{"$f":"SUM(E9:F9)","v":0},17,{"$f":"$C9*((((УЗЛЫ!C396+64)*17)+(УЗЛЫ!C425*17)+(УЗЛЫ!C429*17)+(17*УЗЛЫ!C433))*L106)+IF(C9=0,0,IF(C9>=1,УЗЛЫ!C477))","v":0},{"$f":"$C9* РАБОТЫ!C116*M106","v":0},{"$f":"$C9* РАБОТЫ!D116*M106","v":0},0,"",null,"Кабель ВВГ нг-LS 3x1,5",{"$f":"(C18*H18)+(C20*H20)+(C21*H21)+(C22*H22)+(C23*H23)+(C25*H25)+(C28*H28)+(C29*H29)+(C30*H30)+(C31*H31)+(C32*H32)+(C36*H36)+(C37*H37)","v":0}]
["Силовые выводы в пределах дома ","Сечение  свыше 2,5 мм., жаростойкий кабель ПРКС (Электропечь, сауна) ",null,"шт.",{"$f":"($I10/$M$3)*$J$106","v":0},0,0,17,{"$f":"$C10*(((УЗЛЫ!C397*17)+(УЗЛЫ!C425*17)+(УЗЛЫ!C429*17)+(17*УЗЛЫ!C433))+180)*L106+IF(C10=0,0,IF(C10>=1,УЗЛЫ!C477))","v":0},{"$f":"$C10* РАБОТЫ!C116*M106","v":0},{"$f":"$C10* РАБОТЫ!D116*M106","v":0},0,"",null,"Кабель ПРКС 3х1,5",{"$f":"C19*H19","v":0}]
["Силовые выводы до потребителя","Сечение свыше 2,5мм (кабель ВбБШВ, метраж определяется по месту)",null,"шт.",null,0,0,null,null,{"$f":"$C11* РАБОТЫ!C116*M106","v":0},{"$f":"$C11* РАБОТЫ!D116*M106","v":0},0,""]
["Выводы слаботочных систем","TV, int, audio, UTP.",null,"шт.",{"$f":"($I12/$M$3)*$J$106","v":0},0,0,14,{"$f":"$C12* ((УЗЛЫ!C411*14)+(УЗЛЫ!C426*14)+(УЗЛЫ!C421*14)+(16*УЗЛЫ!C433)+УЗЛЫ!C432)*L106","v":0},{"$f":"$C12*РАБОТЫ!C115*M106","v":0},{"$f":"$C12*РАБОТЫ!D115*M106","v":0},0,"",null,"Кабель ВВГнг-LS 4x1,5",{"$f":"C24*H24","v":0}]
["Выводы слаботочных систем на фасад ","TV антенна, int, audio, UTP.",null,"шт.",{"$f":"($I13/$M$3)*$J$106","v":0},0,0,30,{"$f":"$C13* ((УЗЛЫ!C411*25)+(УЗЛЫ!C426*25)+(УЗЛЫ!C421*25)+(25*УЗЛЫ!C433))*L106","v":0},{"$f":"$C13*РАБОТЫ!C115*M106","v":0},{"$f":"$C13*РАБОТЫ!D115*M106","v":0},0,"",null,"Кабель ВВГ нг-LS 5x10",{"$f":"(C33*H33)+(C34*H34)+(C41*H41)+(C42*H42)","v":0}]
["Выводы слаботочных систем до потребителя","Кабель FTP (метраж определяется по месту)",null,"шт.",null,0,0,null,null,{"$f":"$C14*РАБОТЫ!C115*M106","v":0},{"$f":"$C14*РАБОТЫ!D115*M106","v":0},0,""]
["Выводы силовые на фасад","Сечение  свыше 2,5 мм. (Баня, гараж, электропривод ворот, скважина и т.д.). ",null,"шт.",{"$f":"($I15/$M$3)*$J$106","v":0},0,0,18,{"$f":"$C15* (((УЗЛЫ!C396*18)+(УЗЛЫ!C425*18)+(УЗЛЫ!C429*18)+(21*УЗЛЫ!C433)+(УЗЛЫ!C436)))*L106+IF(C15=0,0,IF(C15>=1,УЗЛЫ!C477))","v":0},{"$f":"$C15* РАБОТЫ!C116*M106","v":0},{"$f":"$C15* РАБОТЫ!D116*M106","v":0},0,""]
["Прочие выводы стандартного сечения в пределах дома и на фасад","Сечение менее 2,5 мм.  (Септик, вытяжка, вентиляторы, ландшафтное осв., насосная гр., и т.д.). ",null,"шт.",{"$f":"($I16/$M$3)*$J$106","v":0},0,0,15,{"$f":"$C16* ((УЗЛЫ!C400*15)+(УЗЛЫ!C427*15)+(УЗЛЫ!C422*15)+(16*УЗЛЫ!C433))*L106","v":0},{"$f":"$C16* РАБОТЫ!C115*M106","v":0},{"$f":"$C16* РАБОТЫ!D115*M106","v":0},0,"",null,"Автоматы ЩР:",{"$f":"P18+P19","v":2}]
["Прочие выводы стандартного сечения до потребителя","Сечение менее 2,5мм (кабель ВбБШВ, метраж определяется по месту)",null,"шт.",null,0,{"$f":"SUM(E17:F17)","v":0},null,null,{"$f":"$C17* РАБОТЫ!C115*M106","v":0},{"$f":"$C17* РАБОТЫ!D115*M106","v":0},{"$f":"SUM(I17:K17)","v":0},""]
["Выводы под осветительные приборы","Кабелем ВВГ(А)нг-LS.",null,"шт.",{"$f":"($I18/$M$3)*$J$106","v":0},0,0,16,{"$f":"$C18* ((УЗЛЫ!C391*16)+(УЗЛЫ!C427*16)+(УЗЛЫ!C422*16)+(16*УЗЛЫ!C433)+УЗЛЫ!C420)*L106","v":0},{"$f":"$C18* РАБОТЫ!C115*M106","v":0},{"$f":"$C18* РАБОТЫ!D115*M106","v":0},0,"",null,"1Р",{"$f":"РАБОТЫ!L116+РАБОТЫ!L130+РАБОТЫ!L139+РАБОТЫ!L169","v":1}]
["Выводы под осветительные приборы","Кабелем ПРКС 3х1,5",null,"шт.",0,0,0,16,{"$f":"$C19* ((УЗЛЫ!C392*16)+(УЗЛЫ!C427*16)+(УЗЛЫ!C422*16)+(16*УЗЛЫ!C433)+УЗЛЫ!C420)*L106","v":0},{"$f":"$C19* РАБОТЫ!C115*M106","v":0},{"$f":"$C19* РАБОТЫ!D115*M106","v":0},0,"",null,"3Р",{"$f":"РАБОТЫ!L122+РАБОТЫ!L135+РАБОТЫ!L155","v":1}]
["Вывод под осветительные приборы 2го подключения","Выводы под потолочные осветительные для одной групповой нагрузки. ",null,"шт.",0,0,0,4,{"$f":"$C20*(((УЗЛЫ!C391*4)+(УЗЛЫ!C427*4)+(УЗЛЫ!C422*4)+(5*УЗЛЫ!C433)+УЗЛЫ!C420)*L106)","v":0},{"$f":"$C20* РАБОТЫ!C117*M106","v":0},{"$f":"$C20* РАБОТЫ!D117*M106","v":0},0,""]
["Выводы подсветки, бра","Выводы под настенные осветительные приборы.",null,"шт.",0,0,{"$f":"SUM(E21:F21)","v":0},16,{"$f":"$C21* (((УЗЛЫ!C391*16)+(УЗЛЫ!C427*16)+(УЗЛЫ!C422*16)+(16*УЗЛЫ!C433)+УЗЛЫ!C420))*L106","v":0},{"$f":"$C21*РАБОТЫ!C115*M106","v":0},{"$f":"$C21*РАБОТЫ!D115*M106","v":0},0,"",null,"УЗО",{"$f":"РАБОТЫ!L117+РАБОТЫ!L129+РАБОТЫ!L134+РАБОТЫ!L156","v":1}]
["Вывод архитектурной подсветки","Кабель ВВГ нг-LS 3x1,5",null,"шт.",0,0,0,25,{"$f":"C22*((УЗЛЫ!C391*25)+(УЗЛЫ!C427*25)+(УЗЛЫ!C422*25)+(УЗЛЫ!C433*25)+УЗЛЫ!C432)*L106","v":0},{"$f":"$C22*РАБОТЫ!C115*M106","v":0},{"$f":"$C22*РАБОТЫ!D115*M106","v":0},0,"",null,"Контактор",{"$f":"РАБОТЫ!L131+РАБОТЫ!L140+РАБОТЫ!L144","v":0}]
["Выводы под датчики движения","Выводы организации управления освещением. ",null,"шт.",0,0,0,16,{"$f":"$C23* ((УЗЛЫ!C391*16)+(УЗЛЫ!C427*16)+(УЗЛЫ!C422*16)+(18*УЗЛЫ!C433))*L106","v":0},{"$f":"$C23*РАБОТЫ!C115*M106","v":0},{"$f":"$C23*РАБОТЫ!D115*M106","v":0},0,""]
["Выводы под рольставни","Выводы питания электрических штор, маркиз.",null,"шт.",0,0,0,16,{"$f":"$C24* ((УЗЛЫ!C401*16)+(УЗЛЫ!C427*16)+(УЗЛЫ!C422*16)+(16*УЗЛЫ!C433))*L106","v":0},{"$f":"$C24*РАБОТЫ!C115*M106","v":0},{"$f":"$C24*РАБОТЫ!D115*M106","v":0},0,""]
["Выводы управления рольставней","Выводы управления электрических штор, маркиз.",null,"шт.",0,0,0,14,{"$f":"$C25* (((УЗЛЫ!C391*14)+(УЗЛЫ!C427*14)+(УЗЛЫ!C422*14)+(16*УЗЛЫ!C433)+УЗЛЫ!C432))*L106","v":0},{"$f":"$C25*РАБОТЫ!C115*M106","v":0},{"$f":"$C25*РАБОТЫ!D115*M106","v":0},0,""]
["Выводы питания обогрева водостоков","Система обогрева водостоков позволит исключить обледенение водосточной системы дома, предовращая ее повреждение.",null,"шт.",0,0,0,16,{"$f":"$C26* ((УЗЛЫ!C400*16)+(УЗЛЫ!C427*16)+(УЗЛЫ!C422*16))*L106","v":0},{"$f":"$C26* РАБОТЫ!C115*M106","v":0},{"$f":"$C26* РАБОТЫ!D115*M106","v":0},0,""]
["Система обогрева водостоков ",null,null,"м.",{"$f":"($I27/$M$3)*2*$J$106","v":0},0,0,null,{"$f":"$C27*УЗЛЫ!C446*L106","v":0},{"$f":"$C27*РАБОТЫ!C118*M106","v":0},{"$f":"$C27*РАБОТЫ!D118*M106","v":0},0,""]
["Выводы под выключатели","Выводы организации управления освещением (одноклавишный, двухклавишный, одноклавишный проходной) ",null,"шт.",{"$f":"($I28/$M$3)*$J$106","v":0},0,0,14,{"$f":"$C28*((УЗЛЫ!C391*14)+(УЗЛЫ!C427*14)+(УЗЛЫ!C422*14)+(16*УЗЛЫ!C433)+УЗЛЫ!C432)*L106","v":0},{"$f":"$C28* РАБОТЫ!C115*M106","v":0},{"$f":"$C28* РАБОТЫ!D115*M106","v":0},0,""]
["Выводы под переключатель ответный","Выводы организации управления освещением (двухклавишный проходной) ",null,"шт.",0,0,0,14,{"$f":"$C29*((УЗЛЫ!C391*14)+(УЗЛЫ!C427*14)+(УЗЛЫ!C422*14)+(16*УЗЛЫ!C433)+УЗЛЫ!C432)*2","v":0},{"$f":"$C29* (РАБОТЫ!C115*2)*M106","v":0},{"$f":"$C29* (РАБОТЫ!D115*2)*M106","v":0},0,""]
["Выводы под диммеры","Выводы организации управления освещением. ",null,"шт.",0,0,0,14,{"$f":"$C30*((УЗЛЫ!C391*14)+(УЗЛЫ!C427*14)+(УЗЛЫ!C422*14)+(16*УЗЛЫ!C433)+УЗЛЫ!C432)*L106","v":0},{"$f":"$C30* РАБОТЫ!C115*M106","v":0},{"$f":"$C30* РАБОТЫ!D115*M106","v":0},0,""]
["Вывод мастер-ключа","Выключатель систем освещения дома. ",null,"шт.",0,0,0,14,{"$f":"$C31*(((УЗЛЫ!C391*14)+(УЗЛЫ!C427*14)+(УЗЛЫ!C422*14)+(16*УЗЛЫ!C433)+УЗЛЫ!C432))*L106","v":0},{"$f":"$C31* РАБОТЫ!C115*M106","v":0},{"$f":"$C31* РАБОТЫ!D115*M106","v":0},0,""]
[null,"Выключатель питания всех систем  дома.",null,"шт.",0,0,0,14,{"$f":"$C32*(((УЗЛЫ!C391*14)+(УЗЛЫ!C427*14)+(УЗЛЫ!C422*14)+(16*УЗЛЫ!C433)+УЗЛЫ!C432))*L106","v":0},{"$f":"$C32* РАБОТЫ!C115*M106","v":0},{"$f":"$C32* РАБОТЫ!D115*M106","v":0},0,""]
["Выводы под генератор на фасад","Резервный источник электропитания дома с автовключнием",null,"шт.",0,0,0,45,{"$f":"$C33*((УЗЛЫ!C398*40)+(УЗЛЫ!C425*45)+(УЗЛЫ!C429*40)+(УЗЛЫ!C400*40)+(УЗЛЫ!C427*40)+(УЗЛЫ!C422*40)+(90*УЗЛЫ!C433))*L106","v":0},{"$f":"$C33* (РАБОТЫ!C116*2)*M106","v":0},{"$f":"$C33* (РАБОТЫ!D116*2)*M106","v":0},0,""]
[null,"Резервный источник электропитания дома. ",null,"шт.",0,0,0,20,{"$f":"$C34*((УЗЛЫ!C398*20)+(УЗЛЫ!C425*20)+(УЗЛЫ!C429*25)+(25*УЗЛЫ!C433))*L106","v":0},{"$f":"$C34* РАБОТЫ!C116*M106","v":0},{"$f":"$C34* РАБОТЫ!D116*M106","v":0},0,""]
["Вывод HDMI","Слаботочный видеовывод. ",null,"шт.",0,0,0,20,{"$f":"$C35* (3000 + (УЗЛЫ!C427*20)+(УЗЛЫ!C422*20)+(20*УЗЛЫ!C433))*L106","v":0},{"$f":"$C35* РАБОТЫ!C115*M106","v":0},{"$f":"$C35* РАБОТЫ!D115*M106","v":0},0,""]
["Комплект выводов для цифрового видеодомофона","Выводы питания и управления вызывной и приемной панели.",null,"шт.",0,0,0,30,{"$f":"$C36* ((УЗЛЫ!C391*30)+(УЗЛЫ!C411*30)+(УЗЛЫ!C427*45)+(УЗЛЫ!C422*45)+(45*УЗЛЫ!C433))*L106","v":0},{"$f":"$C36* (РАБОТЫ!C115*4)*M106","v":0},{"$f":"$C36* (РАБОТЫ!D115*4)*M106","v":0},0,""]
["Комплект выводов для отопительного конвектора","Выводы питания и управления отопительного внутрипольного конвектора.",null,"шт.",0,0,0,35,{"$f":"$C37* ((УЗЛЫ!C391*35)+(УЗЛЫ!C427*35)+(УЗЛЫ!C422*35)+(35*УЗЛЫ!C433))*L106","v":0},{"$f":"$C37* (РАБОТЫ!C115*2)*M106","v":0},{"$f":"$C37* (РАБОТЫ!D115*2)*M106","v":0},0,""]
["Вывод питания контура электрического теплого пола","Вывод питания для установки терморегулятора теплого пола.",null,"шт.",0,0,0,14,{"$f":"$C38* ((УЗЛЫ!C400*14)+(УЗЛЫ!C427*14)+(УЗЛЫ!C422*14)+(16*УЗЛЫ!C433)+УЗЛЫ!C432)*L106","v":0},{"$f":"$C38* РАБОТЫ!C115*M106","v":0},{"$f":"$C38* РАБОТЫ!D115*M106","v":0},0,{"$f":"IF(G38=0,\"\",(G38-L38)/G38)","v":""}]
["Регулятор ТП","Регулятор ТП с закладной под  датчик температуры (закладная под питающий кабель мата) (регулятор Legrand Valena беж.)",null,"шт.",{"$f":"($I39/0.64)*$J$106","v":0},0,0,null,{"$f":"C39*(УЗЛЫ!C450+УЗЛЫ!C560)","v":0},{"$f":"C39*(480+690)","v":0},{"$f":"C39*(80+110)","v":0},0,{"$f":"IF(G39=0,\"\",(G39-L39)/G39)","v":""}]
["Устройство электрического теплого пола","Электрический теплый пол (нагревательный мат под плитку)",null,"кв.м.",{"$f":"($I40/0.8)*$J$106","v":0},0,0,null,{"$f":"($C40*(УЗЛЫ!C452)*L106)","v":0},{"$f":"$C40*( РАБОТЫ!C140)*M106","v":0},{"$f":"$C40*( РАБОТЫ!D140*4)*M106","v":0},0,"","Уточнить снабжение - 140F0451 Devimat DTIF-150 Минимат двухжильный 600Вт 0,45x8м (4 кв.м.)  2м, 4, 6,9   + датчик 4100-4500 (см.письмо Вадим) * на строку выше "]
["Вывод под стабилизатор","Устройство выравнивания перепадов напряжения (около щита). ",null,"шт.",{"$f":"($I41/$M$3)*$J$106","v":0},0,0,10,{"$f":"$C41*((УЗЛЫ!C398*10)+(УЗЛЫ!C425*10)+(УЗЛЫ!C429*10)+(10*УЗЛЫ!C433))*L106","v":0},{"$f":"$C41* РАБОТЫ!C116*M106","v":0},{"$f":"$C41* РАБОТЫ!D116*M106","v":0},0,""]
[null,"Устройство выравнивания перепадов напряжения (под лестницей). ",null,"шт.",{"$f":"($I42/$M$3)*$J$106","v":0},0,0,37,{"$f":"$C42*((УЗЛЫ!C398*37)+(УЗЛЫ!C425*35)+(УЗЛЫ!C429*35)+(35*УЗЛЫ!C433))*L106","v":0},{"$f":"$C42* РАБОТЫ!C116*M106","v":0},{"$f":"$C42* РАБОТЫ!D116*M106","v":0},0,""]
["Вывод под инвертор ","Источник бесперебойного питания для системы отопления.",null,"шт.",{"$f":"($I43/$M$3)*$J$106","v":0},0,0,35,{"$f":"$C43*((УЗЛЫ!C394*35)+(УЗЛЫ!C425*35)+(УЗЛЫ!C429*35)+(УЗЛЫ!C433*35))*L106","v":0},{"$f":"$C43* РАБОТЫ!C116*M106","v":0},{"$f":"$C43* РАБОТЫ!D116*M106","v":0},0,""]
["Штробление под выводы розеток","Под штукатурку",{"$f":"C7","v":0},"шт.",null,0,0,null,null,{"$f":"$C44* РАБОТЫ!C125*M106","v":0},{"$f":"$C44* РАБОТЫ!D125*M106","v":0},0,""]
["Штробление под выводы выключателей/бра","Под штукатурку",{"$f":"C28+C29+C21+C30+C31","v":0},"шт.",null,0,0,null,null,{"$f":"$C45* РАБОТЫ!C125*M106","v":0},{"$f":"$C45* РАБОТЫ!D125*M106","v":0},0,""]
["Штробление стен (2х2)","Под штукатурку",null,"м.",null,0,0,null,null,{"$f":"$C46* (РАБОТЫ!C125*1.5)*M106","v":0},{"$f":"$C46* (РАБОТЫ!D125*1.5)*M106","v":0},0,""]
["Восстановление бруса","Декоративное восстановление проходных отверстий",null,"шт.",null,0,0,null,null,{"$f":"$C47* РАБОТЫ!C149*M106","v":0},{"$f":"$C47* РАБОТЫ!D149*M106","v":0},0,""]
["Заземление модульно-штыревое","Заземление модульно-штыревое с углублением 15м. ",null,"Компл",{"$f":"((I48+J48+K48)/0.65)*J106","v":0},null,{"$f":"E48","v":0},null,{"$f":"$C48*УЗЛЫ!C455*L106","v":0},{"$f":"$C48*РАБОТЫ!C151*M106","v":0},{"$f":"$C48*РАБОТЫ!D151*M106","v":0},0,""]
[null,"Заземление модульно-штыревое на 3 очага",null,"Компл",{"$f":"((I49+J49+K49)/0.65)*J106","v":0},null,{"$f":"E49","v":0},null,{"$f":"$C49*УЗЛЫ!C456*L106","v":0},{"$f":"$C49*РАБОТЫ!C152*M106","v":0},{"$f":"$C49*РАБОТЫ!D152*M106","v":0},0,""]
[null,"КУП элемент системы уравнивания потенциалов (защита от поражения током в помещениях, где человек подвергается наибольшему риску.",null,"шт.",{"$f":"((I50+J50+K50)/0.62)","v":0},null,{"$f":"E50","v":0},null,{"$f":"C50*УЗЛЫ!C458","v":0},{"$f":"C50*(РАБОТЫ!C122+(РАБОТЫ!C123*6))","v":0},{"$f":"C50*(РАБОТЫ!D122+(РАБОТЫ!D123*6))","v":0},0,""]
["Электролитическое заземление EZ-2,5 Г","Электролитическое заземление устанавливают в грунтах с высоким удельным сопротивлением, в том числе в песчаных, скальных, мерзлых. Необходим для безопасной эксплуатации эл.оборуд.",null,"Компл",{"$f":"((I51+J51+K51)/0.65)*J106","v":0},null,{"$f":"E51","v":0},null,{"$f":"C51*УЗЛЫ!C457*L106","v":0},{"$f":"C51*РАБОТЫ!C153*M106","v":0},{"$f":"C51*РАБОТЫ!D153*M106","v":0},0,""]
[null,"КУП элемент системы уравнивания потенциалов (защита от поражения током в помещениях, где человек подвергается наибольшему риску.",null,"шт.",{"$f":"(I52+J52+K52)/0.62","v":0},null,{"$f":"E52","v":0},null,{"$f":"C52*УЗЛЫ!C458","v":0},{"$f":"C52*(РАБОТЫ!C122+(РАБОТЫ!C123*6))","v":0},{"$f":"C52*(РАБОТЫ!D122+(РАБОТЫ!D123*6))","v":0},0,""]
["Лючок впольный двойной","Лючок для встраиваемых в пол розеток на два поста",null,"шт.",{"$f":"($I53/$M$3)*$J$106","v":0},{"$f":"((J53+K53)/$M$4)*$K$106","v":0},{"$f":"F53+E53","v":0},null,{"$f":"$C53*(УЗЛЫ!C461+УЗЛЫ!C460)*L106","v":0},{"$f":"$C53*РАБОТЫ!C150*M106","v":0},{"$f":"$C53*РАБОТЫ!D150*M106","v":0},0,""]
["Лючок впольный четверной","Лючок для встраиваемых в пол розеток на четыре поста",null,"шт.",{"$f":"($I54/$M$3)*$J$106","v":0},{"$f":"((J54+K54)/$M$4)*$K$106","v":0},{"$f":"F54+E54","v":0},null,{"$f":"$C54*(УЗЛЫ!C463)*L106","v":0},{"$f":"$C54* РАБОТЫ!C150*M106","v":0},{"$f":"$C54* РАБОТЫ!D150*M106","v":0},0,""]
["Внешние выводы",null,null,null,null,null,null,null,null,null,null,null,""]
["Материалы/услуги","Описание","Кол-во","Ед.изм","Мат-ал, руб","Работа, руб ","Итого, руб",null,"Материал","Бригада","Прораб","Итого","Рента","Стоимость кабеля, р/м.п."]
["Бронированный кабель (только материал)","Кабель ВббШВ 5 х 10 ",null,"м.",{"$f":"((I57/0.85)*$J$106)","v":0},null,{"$f":"SUM(E57:F57)","v":0},null,{"$f":"C57*N57","v":0},null,null,0,"",{"$f":"УЗЛЫ!D388","v":856.66},"  "]
[null,"Кабель ВБбШв 4 х 16",null,"м.",{"$f":"((I58/0.85)*$J$106)","v":0},null,0,null,{"$f":"C58*N58","v":0},null,null,0,"",733]
[null,"Кабель ВбШв 3 х 1,5",null,"м.",0,null,{"$f":"SUM(E59:F59)","v":0},null,{"$f":"C59*N59","v":0},null,null,0,"",{"$f":"УЗЛЫ!D390","v":112.36}]
[null,"Кабель ВббШВ 3 х 4",null,"м.",0,null,0,null,0,null,null,0,""]
[null,"Кабель ВБбШв 3 х 2,5",null,"м.",0,null,0,null,{"$f":"C61*N61","v":0},null,null,0,"",116.4]
[null,"Кабель ВБбШв 5 х 6",null,"м.",0,null,0,null,0,null,null,0,null,419.45]
[null,"Витая пара FTP 4х2х0,52 кат. 6А уличный",null,"м.",0,null,0,null,0,null,null,0,"",186]
[null,"Кабель КВК-2п 2x0,75мм² (уличный), , труба гофр.ПНД с протяжкой ",null,"м.",0,null,0,null,0,null,null,0,""]
["Подвод / укладка питающего кабеля","Прокладка кабеля в траншее (укладка сигнальной ленты, без прокопки) ",null,"п.м.",{"$f":"((I65/0.6)*$J$106)","v":0},{"$f":"((J65+K65)/M4)*K106","v":0},{"$f":"SUM(E65:F65)","v":0},null,{"$f":"IF(C65=1,УЗЛЫ!C413)+IF(C65>1,УЗЛЫ!C413)","v":0},{"$f":"$C65*РАБОТЫ!C124*M106","v":0},{"$f":"$C65*РАБОТЫ!D124*M106","v":0},{"$f":"SUM(I65:K65)","v":0},""]
["Подвод питающего кабеля по воздуху","Кабель СИП 4х16",null,"м",{"$f":"(I66/M4)*J106","v":0},{"$f":"((J66+K66)/M4)*K106","v":0},{"$f":"SUM(E66:F66)","v":0},null,{"$f":"($C66*90)+IF(C66>=1, УЗЛЫ!D419)","v":0},{"$f":"$C66*(РАБОТЫ!C124*0.7)*M106","v":0},{"$f":"$C66*(РАБОТЫ!D124*0.7)*M106","v":0},{"$f":"SUM(I66:K66)","v":0},""]
["Земляные работы","Производится выемка и обратная засыпка",null,"м3",null,{"$f":"((J67+K67)/0.65)","v":0},{"$f":"F67+E67","v":0},null,null,{"$f":"$C67*РАБОТЫ!C9","v":0},{"$f":"$C67*РАБОТЫ!D9","v":0},{"$f":"SUM(I67:K67)","v":0},""]
["Итого материал:",null,null,null,null,null,{"$f":"SUM(E6:E47,E53,E54,E57:E65,E66:E67)+0.7*(E48)+(0.7*E51)+E50+E52","v":0},null,null,null,null,{"$f":"SUM(I6:I67)","v":0},"",{"$f":"(SUM(G68:G69)-SUM(L68:L69))/SUM(G68:G69)","v":{"$error":"#DIV/0!"}}]
["Работа:     ",null,null,null,null,null,{"$f":"SUM(F6:F47,F53:F67)+0.3*(E48)+(0.3*E51)","v":0},null,null,null,null,{"$f":"SUM(J6:K67)","v":0},""]
["Распределительный щит"]
["Материалы/услуги","Описание","Кол-во","Ед.изм","Материал + Работа, руб",null,"Итого, руб",null,"Материал","Бригада","Прораб","Итого","Рента"]
["Распределительный силовой щит (навесной)","Автоматика Legrand, серии DX3, тип защитных устройств А (с детекцией импульсных токов утечки), со степенью отключающей способности не менее 6кА. ",null,"Компл",{"$f":"((I72+J72+K72)/0.7)*J106","v":0},null,{"$f":"E72","v":0},null,{"$f":"$C72* РАБОТЫ!N173*L106","v":0},{"$f":"$C72* РАБОТЫ!O173*M106+(C72*РАБОТЫ!O176)","v":0},{"$f":"$C72* РАБОТЫ!P173*M106","v":0},{"$f":"SUM(I72:K72)","v":0},{"$f":"IF(G72=0,\"\",(G72-L72)/G72)","v":""}]
[null,"Автоматика IEK ARMAT",null,"Компл",{"$f":"((I73+J73+K73)/0.7)*J106","v":0},null,{"$f":"E73","v":0},null,{"$f":"C73*РАБОТЫ!S173*L106","v":0},{"$f":"$C73*РАБОТЫ!O173*M106+(C73*РАБОТЫ!O176)","v":0},{"$f":"$C73* РАБОТЫ!P173*M106","v":0},{"$f":"SUM(I73:K73)","v":0},{"$f":"IF(G73=0,\"\",(G73-L73)/G73)","v":""}]
["Распределительный силовой щит (встраиваемый)","Автоматика Legrand, серии DX3, тип защитных устройств А (с детекцией импульсных токов утечки), со степенью отключающей способности не менее 6кА. ",null,"Компл",{"$f":"((I74+J74+K74)/0.7)*J106","v":0},null,{"$f":"E74","v":0},null,{"$f":"$C74* РАБОТЫ!N174*L106","v":0},{"$f":"$C74* РАБОТЫ!O174*M106+(C74*РАБОТЫ!O177)","v":0},{"$f":"$C74* РАБОТЫ!P174*M106","v":0},{"$f":"SUM(I74:K74)","v":0},""]
[null,"Автоматика IEK ARMAT",null,"Компл",{"$f":"((I75+J75+K75)/0.7)*J106","v":0},null,{"$f":"E75","v":0},null,{"$f":"C75*РАБОТЫ!S174*L106","v":0},{"$f":"$C75* РАБОТЫ!O174*M106+(C75*РАБОТЫ!O177)","v":0},{"$f":"$C75* РАБОТЫ!P174*M106","v":0},{"$f":"SUM(I75:K75)","v":0},""]
["Распределительный слаботочный щит (навесной)","Предусмотрено электропитание от силового щита 220 В. Щит предназначен для возможного дальнейшего размещения в нем слаботочного электрооборудования       (на 18 модулей)",null,"Компл",{"$f":"((I76+J76+K76)/0.7)*J106","v":0},null,0,null,{"$f":"C76*УЗЛЫ!C547*L106","v":0},{"$f":"C76*РАБОТЫ!C138*M106","v":0},{"$f":"C76*РАБОТЫ!D138*M106","v":0},0,""]
["Распределительный слаботочный щит (встраиваемый)","Предусмотрено электропитание от силового щита 220 В. Щит предназначен для возможного дальнейшего размещения в нем слаботочного электрооборудования       (на 18 модулей)",null,"Компл",{"$f":"((I77+J77+K77)/0.7)*J106","v":0},null,0,null,{"$f":"C77*УЗЛЫ!C548*L106","v":0},{"$f":"C77*РАБОТЫ!C139*M106","v":0},{"$f":"C77*РАБОТЫ!D139*M106","v":0},0,""]
["Щит автоматики котельной DX","Автоматика Legrand, серии DX3, тип защитных устройств А (с детекцией импульсных токов утечки), со степенью отключающей способности не менее 6кА. (на 18 модулей).\n",null,"Компл",{"$f":"((I78+J78+K78)/0.7)*J106","v":0},null,0,null,{"$f":"C78*УЗЛЫ!C550*L106","v":0},{"$f":"C78*РАБОТЫ!C154*M106","v":0},{"$f":"C78*РАБОТЫ!G154*M106","v":0},0,""]
["Щит автоматики котельной","Автоматика IEK ARMAT (на 18 модулей). ",null,"Компл",{"$f":"((I79+J79+K79)/0.7)*J106","v":0},null,0,null,{"$f":"C79*УЗЛЫ!C551*L106","v":0},{"$f":"C79*РАБОТЫ!C155*M106","v":0},{"$f":"C79*РАБОТЫ!G155*M106","v":0},0,""]
["Подключение вводного кабеля в щит в доме","Только работа ",null,"усл.",{"$f":"((J80+K80)/M4)*K106","v":0},null,{"$f":"E80","v":0},null,null,{"$f":"$C80*РАБОТЫ!C142*M106","v":0},{"$f":"$C80*РАБОТЫ!D142*M106","v":0},{"$f":"SUM(I80:K80)","v":0},{"$f":"IF(G80=0,\"\",(G80-L80)/G80)","v":""}]
["Дополнительные модули в щите (навесной)","Резерв 18 модулей",null,"шт.",{"$f":"((I81+J81+K81)/0.7)*K106","v":0},null,{"$f":"E81","v":0},null,{"$f":"C81*РАБОТЫ!N149*L106","v":0},{"$f":"C81*((РАБОТЫ!O148+РАБОТЫ!P148)/2)*M106","v":0},null,{"$f":"SUM(I81:K81)","v":0},{"$f":"IF(G81=0,\"\",(G81-L81)/G81)","v":""}]
["Дополнительные модули в щите (встраиваемый)","Резерв 18 модулей",null,"шт.",{"$f":"((I82+J82+K82)/0.7)*K106","v":0},null,0,null,{"$f":"C82*РАБОТЫ!N148*L106","v":0},null,null,0,""]
["УЗИП","УЗИП для защиты электрических линий коттеджей (класс  I и II)",null,"Компл",{"$f":"((I83+J83+K83)/M4)*J106","v":0},null,{"$f":"E83","v":0},null,{"$f":"$C83*((УЗЛЫ!C476)+(УЗЛЫ!C475))*L106","v":0},{"$f":"$C83* (РАБОТЫ!C131*3)*M106","v":0},{"$f":"$C83* (РАБОТЫ!D131*3)*M106","v":0},{"$f":"SUM(I83:K83)","v":0},{"$f":"IF(G83=0,\"\",(G83-L83)/G83)","v":""}]
["Дополнительно"]
["Материалы/услуги","Описание","Кол-во","Ед.изм","Мат-ал, руб","Работа, руб ","Итого, руб",null,"Материал","Бригада","Прораб","Итого","Рента"]
["Закладная для электрики","Устройство ввода электричества в дом (одна закладная под четыре трубы)",0,"шт.",{"$f":"K86/0.63","v":0},null,{"$f":"F86+E86","v":0},null,null,null,{"$f":"29500*C86","v":0}]
["Проходные отверстия в плите","Алмазное сверление",{"$f":"'ОВиВК ТЕСЕ'!C97","v":9},"шт.",null,{"$f":"IF(C87=0,0,IF(C87<4,9000,IF(C87>3,9000+2300*(C87-3))))","v":22800},{"$f":"F87+E87","v":22800},null,null,null,{"$f":"IF(C87=0,0,IF(C87<4,6000,IF(C87>3,6000+1700*(C87-3))))","v":16200}]
["Вывоз мусора (конетейнер)","Вывоз мусора контейнер (необходим для домов свыше 350 м2)",0,"Усл.",null,{"$f":"K88/0.8","v":0},{"$f":"F88","v":0},null,null,null,{"$f":"C88*8000","v":0}]
["Подготовительные и накладные расходы","Включают разработку комплекта документов для монтажа, проверку ОТК и приемку каждого этапа работ инженерами технического надзора, соблюдение стандарта компании",1,"Усл.",null,{"$f":"C89*31000","v":31000},{"$f":"F89","v":31000},null,null,2000,4500,{"$f":"5500+6500","v":12000}]
["Транспортные расходы ","Доставка оборудования и материалов на объект",1,"усл.",null,{"$f":"C90*11000","v":11000},{"$f":"F90","v":11000},null,null,null,null,10000]
["Доставка бытовки на объект","Если есть такая необходимость, мы предоставляем бытовку для проживания на объекте строителей. После окончания работ, бытовка вывозится.",null,"км от мкад",null,null,{"$f":"IF(C91=0,0,\nIF(C91<100,24000,\nIF(C91<150,30000,36000)))","v":0},null,null,null,null,{"$f":"IF(C91=0,0,\nIF(C91<=50,13500,\nIF(C91<=100,17000,\nIF(C91<=150,20500,\nIF(C91<=200,24000,\nIF(C91<=250,27500,\nIF(C91>250,31000,)))))))","v":0}]
["Итого по смете:",null,null,null,null,{"$f":"SUM(G6:G67,G72:G83,G86:G91)","v":64800},null,null,{"$f":"SUM(I6:I66,I72:I83)","v":0},{"$f":"SUM(J6:J67,J72:J83,J86:J91)","v":2000},{"$f":"SUM(K6:K67,K72:K83,K86:K91)","v":20700},{"$f":"SUM(I92:K92,L86:L91)-L93","v":44700},{"$f":"IF(F95=0,\"\",(F95-L92)/F95)","v":0.31018518518518517}]
["Вычет по сертификату за систему электроснабжения:",null,null,"шт.",{"$f":"($I93/$M$4)*$J$106","v":0},{"$f":"(($J93+$K93)/$M$4)*$K$106","v":0},{"$f":"SUM(E93:F93)","v":0},null,{"$f":"$C93*((УЗЛЫ!C400*12)+(УЗЛЫ!C426*12)+(УЗЛЫ!C421*12)+(14*УЗЛЫ!C433)+УЗЛЫ!C432)","v":0},{"$f":"$C93*РАБОТЫ!C115","v":0},{"$f":"$C93*РАБОТЫ!D115","v":0},{"$f":"SUM(I93:K93)","v":0}]
["Корректировка стоимости (скидка):"]
["Итого по смете со скидкой:",null,null,null,null,{"$f":"F92-G94-G93","v":64800}]
["*Конечная стоимость заземления определяется фактическим замером сопротивления грунта"]
[null,{"$f":"РАБОТЫ!$A$1","v":"Дата"},null,null,null,null,null,null,null,null,"Дом кирпичный",0]
[null,null,null,null,null,null,null,null,null,null,"Дом бетонный",0]
[null,null,null,null,null,null,null,null,null,null,"Дом кирпично-деревянный",0]
[null,null,null,null,null,null,null,null,null,null,null,0]
[null,null,null,null,null,null,null,null,null,null,null,"(поставить 1)"]
[]
[null,null,null,null,null,null,null,null,null,"Коэффициент для заказчика",null,"Коэффициент для СЕБЕСА дом свыше 350м2 плюс 10%;           мусор-контейнер;        дизайн-проект 10%"]
[null,null,null,null,null,null,null,null,null,null,null,null,null,"* 10% на оплату работ, материал через запрос в проектный"]
[null,null,null,null,null,null,null,null,null,"Мат","Раб","Мат","Раб"]
[null,null,null,null,null,null,null,null,null,1,1,1,1]

{"sheet":"ТП REHAU","index":7,"n_rows":111,"n_cols":17,"rows_kept":111,"cut":false,"hidden":false,"merged":[[15,0,24,0],[0,0,0,6],[1,1,1,6],[2,0,2,6],[3,0,3,6],[5,0,14,0],[84,2,84,4],[84,13,85,13],[85,2,85,4],[25,0,34,0],[35,0,44,0],[45,2,45,4],[46,0,46,6],[52,0,53,0],[55,0,56,0],[60,2,60,4],[60,13,61,13],[61,2,61,4],[62,0,62,6],[67,0,76,0],[86,0,86,6],[95,0,95,4],[95,5,95,6],[97,5,97,6],[101,9,102,10],[101,12,102,12],[106,8,107,8],[106,9,107,9],[106,10,107,10],[106,11,107,11],[106,12,107,12],[101,11,102,11]]}
["Приложение №    к Договору подряда №    ______________от_____________",null,null,null,null,null,null,null,null,"КОЭФ для ренты","КОЭФ для ренты"]
[{"$f":"TODAY()","v":"2024-02-02"},"Данный сметный расчёт действителен 7 календарных дней. По истечению срока, цены могут быть изменены.",null,null,null,null,null,null,null,0.65,0.6]
["Сметный расчет ТП REHAU"]
["Отопительные приборы",null,null,null,null,null,null,null,{"$f":"РАБОТЫ!A1","v":"Дата"}]
["Материалы/услуги","Описание","Кол-во","Ед.изм","Мат-ал, руб","Работа, руб ","Итого, руб",null,"Материал","Бригада","Прораб","Итого","Рента","Цена шт.","Курс евро"]
["Радиаторы",null,null,"шт.",{"$f":"I6/0.75","v":0},null,{"$f":"E6","v":0},null,{"$f":"N6*C6","v":0},null,null,{"$f":"SUM(I6:K6)","v":0},{"$f":"IF(G6=0,\"\",(G6-L6)/G6)","v":""},null,106.1]
[null,null,null,"шт.",{"$f":"I7/0.75","v":0},null,{"$f":"E7","v":0},null,{"$f":"N7*C7","v":0},null,null,0,""]
[null,null,null,"шт.",0,null,0,null,0,null,null,0,""]
[null,null,null,"шт.",0,null,0,null,0,null,null,0,""]
[null,null,null,"шт.",0,null,0,null,0,null,null,0,""]
[null,null,null,"шт.",0,null,0,null,0,null,null,0,""]
[null,null,null,"шт.",0,null,0,null,0,null,null,0,""]
[null,null,null,"шт.",0,null,0,null,0,null,null,0,""]
[null,null,null,"шт.",0,null,0,null,0,null,null,0,""]
[null,null,null,"шт.",0,null,0,null,{"$f":"N15*C15","v":0},null,null,0,""]
["Конвектор энергозависимый внутрипольный ",null,null,"шт.",{"$f":"(I16/0.65)*$J$105*0.88","v":0},null,{"$f":"E16","v":0},null,{"$f":"C16*N16*$O$6*0.63*1.02","v":0},null,null,0,""]
[null,null,null,"шт.",{"$f":"(I17/0.65)*$J$105*0.88","v":0},null,0,null,{"$f":"C17*N17*$O$6*0.63*1.02","v":0},null,null,0,""]
[null,null,null,"шт.",0,null,0,null,0,null,null,0,""]
[null,null,null,"шт.",0,null,0,null,0,null,null,0,""]
[null,null,null,"шт.",0,null,0,null,0,null,null,0,""]
[null,null,null,"шт.",0,null,0,null,0,null,null,0,""]
[null,null,null,"шт.",0,null,0,null,0,null,null,0,""]
[null,null,null,"шт.",0,null,0,null,0,null,null,0,""]
[null,null,null,"шт.",0,null,0,null,0,null,null,0,""]
[null,null,null,"шт.",0,null,0,null,0,null,null,0,""]
["Конвектор энергонезависимый внутрипольный влагостойкий корпус",null,null,"шт.",0,null,0,null,0,null,null,0,""]
[null,null,null,"шт.",0,null,0,null,0,null,null,0,""]
[null,null,null,"шт.",0,null,0,null,0,null,null,0,""]
[null,null,null,"шт.",0,null,0,null,0,null,null,0,""]
[null,null,null,"шт.",0,null,0,null,0,null,null,0,""]
[null,null,null,"шт.",0,null,0,null,0,null,null,0,""]
[null,null,null,"шт.",0,null,0,null,0,null,null,0,""]
[null,null,null,"шт.",0,null,0,null,0,null,null,0,""]
[null,null,null,"шт.",0,null,0,null,0,null,null,0,""]
[null,null,null,"шт.",{"$f":"(I35/0.65)*$J$105*0.88","v":0},null,0,null,{"$f":"C35*N35*$O$6*0.63*1.02","v":0},null,null,0,""]
["Конвектор напольный",null,null,"шт.",{"$f":"(I36/0.7)*$J$105*0.87","v":0},null,0,null,{"$f":"C36*N36*$O$6*0.75*1.02","v":0},null,null,0,""]
[null,null,null,"шт.",{"$f":"(I37/0.7)*$J$105*0.87","v":0},null,0,null,{"$f":"C37*N37*$O$6*0.75*1.02","v":0},null,null,0,""]
[null,null,null,"шт.",0,null,0,null,0,null,null,0,""]
[null,null,null,"шт.",0,null,0,null,0,null,null,0,""]
[null,null,null,"шт.",0,null,0,null,0,null,null,0,{"$f":"IF(G40=0,\"\",(G40-L40)/G40)","v":""}]
[null,null,null,"шт.",0,null,0,null,0,null,null,0,""]
[null,null,null,"шт.",0,null,{"$f":"E42","v":0},null,0,null,null,0,""]
[null,null,null,"шт.",0,null,0,null,0,null,null,0,""]
[null,null,null,"шт.",0,null,0,null,0,null,null,0,""]
[null,null,null,"шт.",0,null,0,null,0,null,null,0,""]
["Итого материал:                                                                                                                                                                                                                                                              ",null,null,null,null,null,{"$f":"SUM(G6:G45)","v":0},null,null,null,null,{"$f":"SUM(I6:I45)","v":0},""]
["Отопление"]
["Материалы/услуги","Описание","Кол-во","Ед.изм","Мат-ал, руб","Работа, руб ","Итого, руб",null,"Материал","Бригада","Прораб","Итого","Рента"]
["Комплект декоративной подводки","Для труб из сшитого полиэтилена",null,"компл.",{"$f":"(I49/0.9)*$J$105","v":0},{"$f":"((J49+K49)/$J$2)*$K$105*1.5","v":0},{"$f":"F49+E49","v":0},null,{"$f":"$C49*УЗЛЫ!C22*L105","v":0},{"$f":"$C49* РАБОТЫ!C12","v":0},{"$f":"$C49* РАБОТЫ!D12","v":0},{"$f":"SUM(I49:K49)","v":0},{"$f":"IF(G49=0,\"\",(G49-L49)/G49)","v":""}]
["Монтаж креплений для радиаторов настенный","Монтаж с использованием электронного измерителя уровня",null,"компл.",{"$f":"(I50/$J$2)*$J$119","v":0},{"$f":"((J50+K50)/$J$2)*$K$105*1.3","v":0},0,null,null,{"$f":"$C50*(РАБОТЫ!C13*0.3)","v":0},{"$f":"$C50*( РАБОТЫ!D13*0.3)","v":0},0,{"$f":"IF(G50=0,\"\",(G50-L50)/G50)","v":""}]
["Монтаж креплений для радиаторов напольный","Монтаж с использованием электронного измерителя уровня",null,"компл.",{"$f":"(I51/$J$2)*$J$105","v":0},{"$f":"((J51+K51)/$J$2)*$K$105*1.3","v":0},0,null,{"$f":"C51*УЗЛЫ!D26*L105","v":0},{"$f":"$C51*(РАБОТЫ!C13*0.3)","v":0},{"$f":"$C51*( РАБОТЫ!D13*0.3)","v":0},0,""]
["Монтаж радиатора","Монтаж с использованием электронного измерителя уровня",null,"компл.",{"$f":"(I52/$J$2)*$J$119","v":0},{"$f":"((J52+K52)/0.76)*$K$105*1.3","v":0},0,null,null,{"$f":"$C52* РАБОТЫ!C13","v":0},{"$f":"$C52* РАБОТЫ!D13","v":0},0,""]
["Комплект подключения ","Узел нижнего подключения радиатора прямой из пола (без декор.подводки)",null,"компл.",{"$f":"(I53/0.8)*$J$105*0.7","v":0},{"$f":"(C53*500)*K105","v":0},0,null,{"$f":"$C53*УЗЛЫ!C28*L105","v":0},null,null,0,""]
[null,"Узел нижнего подключения радиатора угловой из стены (без декор. подводки)",null,"компл.",{"$f":"(I54/0.8)*$J$105*0.7","v":0},{"$f":"(C54*590)+(J54+K54)","v":0},0,null,{"$f":"$C54*УЗЛЫ!C30*L105","v":0},{"$f":"C54*((РАБОТЫ!C36*2))","v":0},{"$f":"C54*(РАБОТЫ!D36*2)","v":0},0,""]
["Терморегулятор для радиатора","Термоголовка (Германия), c жидкостным чувствительным элементом. С функцией защиты от замерзания и с блокировкой диапазона настройки.",null,"шт.",{"$f":"1069*C55","v":0},{"$f":"(C55*500)*K105*0.7","v":0},0,null,0,null,null,{"$f":"SUM(I55:K55)","v":0},""]
["Управление внутрипольным конвектором","Настенный регулятор программируемый с сенсорным экраном. Возможность регулировки до 12 приборов (Vartronic Белый)",null,"шт.",{"$f":"(I56/$J$2)*$J$105","v":0},{"$f":"((J56+K56)/$J$2)*K105","v":0},0,null,{"$f":"$C56* УЗЛЫ!C33*L105","v":0},{"$f":"$C56*РАБОТЫ!C15","v":0},{"$f":"$C56*РАБОТЫ!D15","v":0},0,""]
[null,"Настенный регулятор программируемый с сенсорным экраном. Возможность регулировки до 12 приборов (Vartronic Черный)",null,"шт.",{"$f":"(I57/$J$2)*$J$105","v":0},{"$f":"((J57+K57)/$J$2)*K105","v":0},0,null,{"$f":"$C57* УЗЛЫ!C33*L105","v":0},{"$f":"$C57*РАБОТЫ!C15","v":0},{"$f":"$C57*РАБОТЫ!D15","v":0},{"$f":"SUM(I57:K57)","v":0},""]
["Комплектующие для подлючения конвектора внутрипольного","Комплект запорно-регулирующей арматуры.",null,"компл.",{"$f":"(I58/$J$2)*$J$105","v":0},{"$f":"(C58*2300)*K105","v":0},0,null,{"$f":"$C58*УЗЛЫ!C34*L105","v":0},null,null,0,""]
["Монтаж внутрипольного конвектора","Монтаж внутрипольного конвектора",null,"шт.",null,{"$f":"((J59+K59)/$J$2)*$K$105*2","v":0},0,null,null,{"$f":"$C59* РАБОТЫ!$C$16","v":0},{"$f":"$C59* РАБОТЫ!$D$16","v":0},{"$f":"SUM(I59:K59)","v":0},{"$f":"IF(G59=0,\"\",(G59-L59)/G59)","v":""}]
["Монтаж напольного конвектора","Монтаж напольного конвектора",null,"шт.",null,{"$f":"((J60+K60)/$J$2)*$K$105*2","v":0},0,null,null,{"$f":"$C60* РАБОТЫ!C14","v":0},{"$f":"$C60* РАБОТЫ!D14","v":0},{"$f":"SUM(I60:K60)","v":0},{"$f":"IF(G60=0,\"\",(G60-L60)/G60)","v":""}]
["Итого материал:                                                                                                                                                                                                                                                              ",null,null,null,null,null,{"$f":"SUM(E49:E60)","v":0},null,null,null,null,{"$f":"SUM(I49:I60)","v":0},{"$f":"IF(G61=0,\"\",(G61-L61)/G61)","v":""},{"$f":"(SUM(G61:G62)-SUM(L61:L62))/SUM(G61:G62)","v":{"$error":"#DIV/0!"}}]
["Работа:",null,null,null,null,null,{"$f":"SUM(F49:F60)","v":0},null,null,null,null,{"$f":"SUM(J49:K60)","v":0},""]
["Теплые полы",null,null,null,null,null,null,null,{"$f":"РАБОТЫ!A33","v":"Смеситель (обычный)"}]
["Материалы/услуги","Описание","Кол-во","Ед.изм","Мат-ал, руб","Работа, руб ","Итого, руб",null,"Материал","Бригада","Прораб","Итого","Рента"]
["Теплый пол REHAU","Высококачественные трубы  PEX (REHAU, Германия). Опрессовка системы",null,"м²",{"$f":"(I65/$K$2)*$J$105","v":0},{"$f":"((J65+K65)/$K$2)*$K$105","v":0},{"$f":"F65+E65","v":0},null,{"$f":"(C65*(УЗЛЫ!N87*8.4))*L105+(IF(C65>0,УЗЛЫ!C100))*L105","v":0},{"$f":"$C65*(РАБОТЫ!C45)","v":0},{"$f":"$C65*(РАБОТЫ!D45)","v":0},{"$f":"SUM(I65:K65)","v":0},{"$f":"IF(G65=0,\"\",(G65-L65)/G65)","v":""}]
["Трубопровод от коллектора до контуров \"тп\"","Высококачественные трубы  PEX (REHAU, Германия) в утеплителе \"Энергофлекс\". Опрессовка системы",null,"м",{"$f":"(I66/$K$2)*$J$105","v":0},{"$f":"((J66+K66)/$K$2)*$K$105","v":0},0,null,{"$f":"C66*УЗЛЫ!N88*L105","v":0},{"$f":"C66*РАБОТЫ!C46","v":0},{"$f":"C66*РАБОТЫ!D46","v":0},0,""]
["Подключение коллекторного шкафа вне котельной","Трубопроводы (до 25 пог.м), фитинги, арматура",null,"компл.",{"$f":"I67/0.62","v":0},{"$f":"(J67+K67)/0.6","v":0},0,null,{"$f":"C67*(УЗЛЫ!C56+УЗЛЫ!C57)","v":0},{"$f":"C67*РАБОТЫ!C19","v":0},{"$f":"C67*РАБОТЫ!D19","v":0},0,"",null,"Подключения коллекторов ТП вне котельных , продавать на этапе ОВиВК"]
["Коллекторный шкаф ТП","Коллектор, шаровые краны, фиксаторы, прокладки,  фитинги. 3 выхода",null,"компл.",{"$f":"(I68/$K$2)*$J$105*0.7","v":0},{"$f":"((J68+K68)/$K$2)*$K$105*2.7","v":0},0,null,{"$f":"C68*УЗЛЫ!N89*L105","v":0},{"$f":"$C68*(РАБОТЫ!C47)","v":0},{"$f":"$C68*(РАБОТЫ!$D$47)","v":0},0,""]
[null,"Коллектор, шаровые краны, фиксаторы, прокладки,  фитинги. 4 выхода",null,"компл.",0,0,0,null,{"$f":"C69*УЗЛЫ!N90*L105","v":0},{"$f":"$C69*(РАБОТЫ!C47)","v":0},{"$f":"$C69*(РАБОТЫ!$D$47)","v":0},0,""]
[null,"Коллектор, шаровые краны, фиксаторы, прокладки,  фитинги. 5 выходов",null,"компл.",0,0,0,null,{"$f":"C70*УЗЛЫ!N91*L105","v":0},{"$f":"$C70*(РАБОТЫ!C47)","v":0},{"$f":"$C70*(РАБОТЫ!$D$47)","v":0},0,""]
[null,"Коллектор, шаровые краны, фиксаторы, прокладки,  фитинги. 6 выходов",null,"компл.",0,0,0,null,{"$f":"C71*УЗЛЫ!N92*L105","v":0},{"$f":"$C71*(РАБОТЫ!C47)","v":0},{"$f":"$C71*(РАБОТЫ!$D$47)","v":0},0,""]
[null,"Коллектор, шаровые краны, фиксаторы, прокладки,  фитинги. 7 выходов",null,"компл.",0,0,0,null,{"$f":"C72*УЗЛЫ!N93*L105","v":0},{"$f":"$C72*(РАБОТЫ!C47)","v":0},{"$f":"$C72*(РАБОТЫ!$D$47)","v":0},0,""]
[null,"Коллектор, шаровые краны, фиксаторы, прокладки,  фитинги. 8 выходов",null,"компл.",0,0,0,null,{"$f":"C73*УЗЛЫ!N94*L105","v":0},{"$f":"$C73*(РАБОТЫ!C47)","v":0},{"$f":"$C73*(РАБОТЫ!$D$47)","v":0},0,""]
[null,"Коллектор, шаровые краны, фиксаторы, прокладки,  фитинги. 9 выходов",null,"компл.",0,0,0,null,{"$f":"C74*УЗЛЫ!N95*L105","v":0},{"$f":"$C74*(РАБОТЫ!C47)","v":0},{"$f":"$C74*(РАБОТЫ!$D$47)","v":0},0,""]
[null,"Коллектор, шаровые краны, фиксаторы, прокладки,  фитинги. 10 выходов",null,"компл.",0,0,0,null,{"$f":"C75*УЗЛЫ!N96*L105","v":0},{"$f":"$C75*(РАБОТЫ!C47)","v":0},{"$f":"$C75*(РАБОТЫ!$D$47)","v":0},0,""]
[null,"Коллектор, шаровые краны, фиксаторы, прокладки,  фитинги. 11 выходов",null,"компл.",0,0,0,null,{"$f":"C76*УЗЛЫ!N97*L105","v":0},{"$f":"$C76*(РАБОТЫ!C47)","v":0},{"$f":"$C76*(РАБОТЫ!$D$47)","v":0},0,""]
[null,"Коллектор, шаровые краны, фиксаторы, прокладки,  фитинги. 12 выходов",null,"компл.",0,0,0,null,{"$f":"C77*УЗЛЫ!N98*L105","v":0},{"$f":"$C77*(РАБОТЫ!C47)","v":0},{"$f":"$C77*(РАБОТЫ!$D$47)","v":0},0,""]
["REHAU_Терморегулятор с датчиком и комплектом подключения 24В","Служит для контроля и поддержания заданной температуры в помещении при устройстве водяного тёплого пола. В комплект входит Комнатный термостат, датчик температуры пола.",null,"компл.",{"$f":"I78/K2*J105*0.8","v":0},{"$f":"((J78+K78)/$J$2)*$K$105*2.2","v":0},0,null,{"$f":"C78*УЗЛЫ!C104*L105","v":0},{"$f":"C78*РАБОТЫ!C49","v":0},{"$f":"C78*РАБОТЫ!D49","v":0},0,""]
["REHAU_Сервопривод 24В","Необходим для управления отдельными контурами тёплого пола. ",null,"шт.",{"$f":"I79/K2*J105*0.68","v":0},{"$f":"((J79+K79)/$J$2)*$K$105*2.2","v":0},0,null,{"$f":"C79*УЗЛЫ!C107*L105","v":0},{"$f":"C79*РАБОТЫ!C50*0.8","v":0},{"$f":"C79*РАБОТЫ!D50*0.8","v":0},0,""]
["Термостатическая головка ТСГ ВПС-01","Предназначен для точечного регулирования контура ТП",null,"шт.",{"$f":"I80/K2*J105*0.72","v":0},{"$f":"((J80+K80)/$J$2)*$K$105*2.2","v":0},0,null,{"$f":"C80*УЗЛЫ!C108*L105","v":0},{"$f":"C80*РАБОТЫ!C50*0.8","v":0},{"$f":"C80*РАБОТЫ!D50*0.8","v":0},0,""]
["REHAU_Клеммная колодка 10 выходов 24В","Необходим для управления серпоприводами. Не более 6 зон.",null,"шт.",{"$f":"I81/K2*J105*0.68","v":0},{"$f":"((J81+K81)/$J$2)*$K$105*3","v":0},0,null,{"$f":"C81*УЗЛЫ!C110*L105","v":0},{"$f":"C81*РАБОТЫ!C49","v":0},{"$f":"C81*РАБОТЫ!D49","v":0},0,""]
["Unibox RTL","Воздухоотводчик для отдельного контура теплого пола второго этажа (вместо коллектора).",null,"компл.",{"$f":"(I82/$K$2)*$J$105","v":0},{"$f":"((J82+K82)/$K$2)*$K$105","v":0},{"$f":"E82+F82","v":0},null,{"$f":"$C82* УЗЛЫ!C99*L105","v":0},{"$f":"$C82* РАБОТЫ!C48","v":0},{"$f":"$C82* РАБОТЫ!D48","v":0},0,""]
["Подготовка под ТП","Укладка сетки кладочной. Укладка с проклейкой армированным скотчем стыков швов. ",0,"кв.м",{"$f":"(I83/0.75)","v":0},{"$f":"((J83+K83)/0.4)*$K$105","v":0},{"$f":"E83+F83","v":0},null,{"$f":"C83*УЗЛЫ!C689","v":0},{"$f":"C83*УЗЛЫ!C691","v":0},{"$f":"C83*УЗЛЫ!D691","v":0},0,""]
["Пол по плите","Подготовка под стяжку.  Укладка и проклейка пленки, выравнивание поверхности керамзитной крошкой",0,"кв.м",{"$f":"(I84/0.75)","v":0},{"$f":"((J84+K84)/0.55)","v":0},0,null,{"$f":"C84*УЗЛЫ!C690","v":0},{"$f":"C84*УЗЛЫ!C692","v":0},{"$f":"C84*УЗЛЫ!D692","v":0},0,""]
["Итого материал:                                                                                                                                                                                                                                                              ",null,null,null,null,null,{"$f":"SUM(E65:E84)","v":0},null,null,null,null,{"$f":"SUM(I65:I84)","v":0},"",{"$f":"(SUM(G85:G86)-SUM(L85:L86))/SUM(G85:G86)","v":{"$error":"#DIV/0!"}}]
["Работа:",{"$f":"РАБОТЫ!A1","v":"Дата"},null,null,null,null,{"$f":"SUM(F65:F84)","v":0},null,null,null,null,{"$f":"SUM(J65:K84)","v":0},""]
["Дополнительно"]
["Материалы/услуги","Описание","Кол-во","Ед.изм","Мат-ал, руб","Работа, руб ","Итого, руб"]
["Проходные отверстия в плите","Алмазное сверление",3,"шт.",null,{"$f":"IF($C$89=0,0,\nIF($C$89<4,9000,\nIF($C$89>3,9000+2300*($C$89-3))))","v":9000},{"$f":"F89+E89","v":9000},null,null,null,{"$f":"IF($C$89=0,0,\nIF($C$89<4,6000,\nIF($C$89>3,6000+1700*($C$89-3))))","v":6000}]
["Штробление ","Выводы в кухне, с/у",null,"шт.",null,{"$f":"(J90+K90)/0.65","v":0},{"$f":"F90+E90","v":0},null,null,{"$f":"C90*РАБОТЫ!C36","v":0},{"$f":"C90*РАБОТЫ!D36","v":0}]
["Закладная для канализации","Устройство ввода канализации в дом",null,"шт.",{"$f":"C91*4500","v":0},{"$f":"C91*16000","v":0},{"$f":"F91+E91","v":0},null,null,null,{"$f":"12500*C91","v":0}]
["Закладная для воды","Устройство ввода водоснабжения в дом",null,"шт.",{"$f":"C92*4500","v":0},{"$f":"C92*16000","v":0},{"$f":"F92+E92","v":0},null,null,null,{"$f":"12500*C92","v":0}]
["Подготовительные и накладные расходы","Включают разработку комплекта документов для монтажа, проверку ОТК и приемку каждого этапа работ инженерами технического надзора, соблюдение стандарта компании",1,"Усл.",null,{"$f":"C93*31000","v":31000},{"$f":"F93","v":31000},null,null,{"$f":"2000+IF((C83+C84)>0,2000,0)","v":2000},{"$f":"4500+IF((C83+C84)>0,5000,0)","v":4500},{"$f":"5500+6500","v":12000},"выезды ИТН",null,"Стоимость этапа ТП - заказные позиции"]
["Транспортные расходы ","Доставка оборудования и материалов на объект",1,"усл.",null,{"$f":"C94*11000","v":11000},{"$f":"F94","v":11000},null,null,null,null,10000,null,null,{"$f":"F96-G46","v":51000}]
["Доставка бытовки на объект","Если есть такая необходимость, мы предоставляем бытовку для проживания на объекте строителей. После окончания работ, бытовка вывозится.",null,"км от мкад",null,null,{"$f":"IF(C95=0,0,\nIF(C95<100,24000,\nIF(C95<150,30000,36000)))","v":0},null,null,null,null,{"$f":"IF(C95=0,0,\nIF(C95<=50,13500,\nIF(C95<=100,17000,\nIF(C95<=150,20500,\nIF(C95<=200,24000,\nIF(C95<=250,27500,\nIF(C95>250,31000,)))))))","v":0}]
["Итого по смете:",null,null,null,null,{"$f":"SUM(G85:G86,G89:G95,G46,G61:G62)","v":51000},null,null,{"$f":"SUM(L85)+L46+SUM(L61)","v":0},{"$f":"SUM(J65:J84,J89:J95,J49:J60)","v":2000},{"$f":"SUM(K65:K84,K89:K95,K49:K60)","v":10500},{"$f":"SUM(I96:K96,L89:L95)","v":34500},{"$f":"IF(F98=0,\"\",(F98-L96)/F98)","v":0.3235294117647059}]
["Корректировка стоимости (скидка):",null,null,null,null,null,0]
["Итого по смете со скидкой:",null,null,null,null,{"$f":"F96-G97","v":51000}]
[null,{"$f":"РАБОТЫ!$A$1","v":"Дата"},null,null,null,null,null,null,null,null,"Дом кирпично-деревянный",0]
[null,null,null,null,null,null,null,null,null,null,"(поставить 1)"]
[]
[null,null,null,null,null,null,null,null,null,"Коэффициент для заказчика",null,"Коэффициент для себеса материал"]
[]
[null,null,null,null,null,null,null,null,null,"Мат","Раб","Мат"]
[null,null,null,null,null,null,null,null,null,1,1,1]
[]
[null,null,null,null,null,null,null,null,"Стоим. мат-ла","Стоим. работ бр.","Стоим. работ ПР","Мат-л + работа","Промежут. рента"]
[null,null,null,null,null,null,null,null,null,null,null,null,null,null,"Справочно, в разбивке по этапам:"]
[null,null,null,null,null,null,null,null,{"$f":"I96-I110-I111","v":{"$error":"#REF!"}},{"$f":"J96-J110-J111","v":{"$error":"#REF!"}},{"$f":"K96-K110-K111","v":{"$error":"#REF!"}},{"$f":"L96-L110-L111","v":{"$error":"#REF!"}},{"$f":"IF(Q109=0, \"\", (Q109-L109)/Q109)","v":{"$error":"#REF!"}},null,"Скрытые",null,{"$f":"F96-Q110-Q111","v":{"$error":"#REF!"}}]
[null,null,null,null,null,null,null,null,{"$f":"SUM(I65+I66+I68+I69+I70+I71+I72+I73+I74+I75+I76+I77+I82)","v":0},{"$f":"SUM(J65+J66+J68++J69+J70+J71+J72+J73+J74+J75+J76+J77+J82)","v":0},{"$f":"SUM(K65+K66+K68++K69+K70+K71+K72+K73+K74+K75+K76+K77+K82)","v":0},{"$f":"SUM(L65+L66+L68++L69+L70+L71+L72+L73+L74+L75+L76+L77+L82)","v":0},{"$f":"IF(Q110=0, \"\", (Q110-L110)/Q110)","v":""},null,"Теплые полы",null,{"$f":"SUM(G65+G66+G68+G69+G70+G71+G72+G73+G74+G75+G76+G77+G82)","v":0}]
[null,null,null,null,null,null,null,null,{"$f":"SUM(#REF!)","v":{"$error":"#REF!"}},{"$f":"SUM(#REF!)","v":{"$error":"#REF!"}},{"$f":"SUM(#REF!)","v":{"$error":"#REF!"}},{"$f":"SUM(#REF!)","v":{"$error":"#REF!"}},{"$f":"IF(Q111=0, \"\", (Q111-L111)/Q111)","v":{"$error":"#REF!"}},null,"Теплотрасса",null,{"$f":"SUM(#REF!)","v":{"$error":"#REF!"}}]

{"sheet":"ТП ТЕСЕ","index":8,"n_rows":111,"n_cols":17,"rows_kept":111,"cut":false,"hidden":false,"merged":[[106,12,107,12],[101,9,102,10],[101,11,102,11],[106,8,107,8],[106,9,107,9],[106,10,107,10],[106,11,107,11],[0,0,0,6],[1,1,1,6],[2,0,2,6],[3,0,3,6],[67,0,76,0],[62,0,62,6],[5,0,14,0],[15,0,24,0],[25,0,34,0],[35,0,44,0],[45,2,45,4],[46,0,46,6],[52,0,53,0],[55,0,56,0],[60,2,60,4],[60,13,61,13],[61,2,61,4],[101,12,102,12],[97,5,97,6],[84,2,84,4],[84,13,85,13],[85,2,85,4],[86,0,86,6],[95,0,95,4],[95,5,95,6]]}
["Приложение №    к Договору подряда №    ______________от_____________",null,null,null,null,null,null,null,null,"КОЭФ для ренты","КОЭФ для ренты"]
[{"$f":"TODAY()","v":"2024-02-02"},"Данный сметный расчёт действителен 7 календарных дней. По истечению срока, цены могут быть изменены.",null,null,null,null,null,null,null,0.65,0.6]
["Сметный расчет ТП ТЕСЕ"]
["Отопительные приборы",null,null,null,null,null,null,null,{"$f":"РАБОТЫ!A1","v":"Дата"}]
["Материалы/услуги","Описание","Кол-во","Ед.изм","Мат-ал, руб","Работа, руб ","Итого, руб",null,"Материал","Бригада","Прораб","Итого","Рента","Цена шт.","Курс евро"]
["Радиаторы",null,null,"шт.",{"$f":"I6/0.75","v":0},null,{"$f":"E6","v":0},null,{"$f":"N6*C6","v":0},null,null,{"$f":"SUM(I6:K6)","v":0},{"$f":"IF(G6=0,\"\",(G6-L6)/G6)","v":""},null,106.1]
[null,null,null,"шт.",{"$f":"I7/0.75","v":0},null,{"$f":"E7","v":0},null,{"$f":"N7*C7","v":0},null,null,0,""]
[null,null,null,"шт.",0,null,0,null,0,null,null,0,""]
[null,null,null,"шт.",0,null,0,null,0,null,null,0,""]
[null,null,null,"шт.",0,null,0,null,0,null,null,0,""]
[null,null,null,"шт.",0,null,0,null,0,null,null,0,""]
[null,null,null,"шт.",0,null,0,null,0,null,null,0,""]
[null,null,null,"шт.",0,null,0,null,0,null,null,0,""]
[null,null,null,"шт.",0,null,0,null,0,null,null,0,""]
[null,null,null,"шт.",0,null,0,null,{"$f":"N15*C15","v":0},null,null,0,""]
["Конвектор энергозависимый внутрипольный ",null,null,"шт.",{"$f":"(I16/0.65)*$J$105*0.88","v":0},null,{"$f":"E16","v":0},null,{"$f":"C16*N16*$O$6*0.63*1.02","v":0},null,null,0,""]
[null,null,null,"шт.",{"$f":"(I17/0.65)*$J$105*0.88","v":0},null,0,null,{"$f":"C17*N17*$O$6*0.63*1.02","v":0},null,null,0,""]
[null,null,null,"шт.",0,null,0,null,0,null,null,0,""]
[null,null,null,"шт.",0,null,0,null,0,null,null,0,""]
[null,null,null,"шт.",0,null,0,null,0,null,null,0,""]
[null,null,null,"шт.",0,null,0,null,0,null,null,0,""]
[null,null,null,"шт.",0,null,0,null,0,null,null,0,""]
[null,null,null,"шт.",0,null,0,null,0,null,null,0,""]
[null,null,null,"шт.",0,null,0,null,0,null,null,0,""]
[null,null,null,"шт.",0,null,0,null,0,null,null,0,""]
["Конвектор энергонезависимый внутрипольный влагостойкий корпус",null,null,"шт.",0,null,0,null,0,null,null,0,""]
[null,null,null,"шт.",0,null,0,null,0,null,null,0,""]
[null,null,null,"шт.",0,null,0,null,0,null,null,0,""]
[null,null,null,"шт.",0,null,0,null,0,null,null,0,""]
[null,null,null,"шт.",0,null,0,null,0,null,null,0,""]
[null,null,null,"шт.",0,null,0,null,0,null,null,0,""]
[null,null,null,"шт.",0,null,0,null,0,null,null,0,""]
[null,null,null,"шт.",0,null,0,null,0,null,null,0,""]
[null,null,null,"шт.",0,null,0,null,0,null,null,0,""]
[null,null,null,"шт.",{"$f":"(I35/0.65)*$J$105*0.88","v":0},null,0,null,{"$f":"C35*N35*$O$6*0.63*1.02","v":0},null,null,0,""]
["Конвектор напольный",null,null,"шт.",{"$f":"(I36/0.7)*$J$105*0.87","v":0},null,0,null,{"$f":"C36*N36*$O$6*0.75*1.02","v":0},null,null,0,""]
[null,null,null,"шт.",{"$f":"(I37/0.7)*$J$105*0.87","v":0},null,0,null,{"$f":"C37*N37*$O$6*0.75*1.02","v":0},null,null,0,""]
[null,null,null,"шт.",0,null,0,null,0,null,null,0,""]
[null,null,null,"шт.",0,null,0,null,0,null,null,0,""]
[null,null,null,"шт.",0,null,0,null,0,null,null,0,{"$f":"IF(G40=0,\"\",(G40-L40)/G40)","v":""}]
[null,null,null,"шт.",0,null,0,null,0,null,null,0,""]
[null,null,null,"шт.",0,null,{"$f":"E42","v":0},null,0,null,null,0,""]
[null,null,null,"шт.",0,null,0,null,0,null,null,0,""]
[null,null,null,"шт.",0,null,0,null,0,null,null,0,""]
[null,null,null,"шт.",0,null,0,null,0,null,null,0,""]
["Итого материал:                                                                                                                                                                                                                                                              ",null,null,null,null,null,{"$f":"SUM(G6:G45)","v":0},null,null,null,null,{"$f":"SUM(I6:I45)","v":0},{"$f":"IF(G46=0,\"\",(G46-L46)/G46)","v":""}]
["Отопление"]
["Материалы/услуги","Описание","Кол-во","Ед.изм","Мат-ал, руб","Работа, руб ","Итого, руб",null,"Материал","Бригада","Прораб","Итого","Рента"]
["Комплект декоративной подводки","Для труб из сшитого полиэтилена",null,"компл.",{"$f":"(I49/0.9)*$J$105","v":0},{"$f":"((J49+K49)/$J$2)*$K$105*1.5","v":0},{"$f":"F49+E49","v":0},null,{"$f":"$C49*УЗЛЫ!C22*L105","v":0},{"$f":"$C49* РАБОТЫ!C12","v":0},{"$f":"$C49* РАБОТЫ!D12","v":0},{"$f":"SUM(I49:K49)","v":0},{"$f":"IF(G49=0,\"\",(G49-L49)/G49)","v":""}]
["Монтаж креплений для радиаторов настенный","Монтаж с использованием электронного измерителя уровня",null,"компл.",{"$f":"(I50/$J$2)*$J$119","v":0},{"$f":"((J50+K50)/$J$2)*$K$105*1.3","v":0},0,null,null,{"$f":"$C50*(РАБОТЫ!C13*0.3)","v":0},{"$f":"$C50*( РАБОТЫ!D13*0.3)","v":0},0,{"$f":"IF(G50=0,\"\",(G50-L50)/G50)","v":""}]
["Монтаж креплений для радиаторов напольный","Монтаж с использованием электронного измерителя уровня",null,"компл.",{"$f":"(I51/$J$2)*$J$105","v":0},{"$f":"((J51+K51)/$J$2)*$K$105*1.3","v":0},0,null,{"$f":"C51*УЗЛЫ!D26*L105","v":0},{"$f":"$C51*(РАБОТЫ!C13*0.3)","v":0},{"$f":"$C51*( РАБОТЫ!D13*0.3)","v":0},0,""]
["Монтаж радиатора","Монтаж с использованием электронного измерителя уровня",null,"компл.",{"$f":"(I52/$J$2)*$J$119","v":0},{"$f":"((J52+K52)/0.76)*$K$105*1.3","v":0},0,null,null,{"$f":"$C52* РАБОТЫ!C13","v":0},{"$f":"$C52* РАБОТЫ!D13","v":0},0,""]
["Комплект подключения ","Узел нижнего подключения радиатора прямой из пола (без декор.подводки)",null,"компл.",{"$f":"(I53/0.8)*$J$105*0.7","v":0},{"$f":"(C53*500)*K105","v":0},0,null,{"$f":"$C53*УЗЛЫ!C28*L105","v":0},null,null,0,""]
[null,"Узел нижнего подключения радиатора угловой из стены (без декор. подводки)",null,"компл.",{"$f":"(I54/0.8)*$J$105*0.7","v":0},{"$f":"(C54*590)+(J54+K54)","v":0},0,null,{"$f":"$C54*УЗЛЫ!C30*L105","v":0},{"$f":"C54*((РАБОТЫ!C36*2))","v":0},{"$f":"C54*(РАБОТЫ!D36*2)","v":0},0,""]
["Терморегулятор для радиатора","Термоголовка (Германия), c жидкостным чувствительным элементом. С функцией защиты от замерзания и с блокировкой диапазона настройки.",null,"шт.",{"$f":"1069*C55","v":0},{"$f":"(C55*500)*K105*0.7","v":0},0,null,0,null,null,{"$f":"SUM(I55:K55)","v":0},""]
["Управление внутрипольным конвектором","Настенный регулятор программируемый с сенсорным экраном. Возможность регулировки до 12 приборов (Vartronic Белый)",null,"шт.",{"$f":"(I56/$J$2)*$J$105","v":0},{"$f":"((J56+K56)/$J$2)*K105","v":0},0,null,{"$f":"$C56* УЗЛЫ!C33*L105","v":0},{"$f":"$C56*РАБОТЫ!C15","v":0},{"$f":"$C56*РАБОТЫ!D15","v":0},0,""]
[null,"Настенный регулятор программируемый с сенсорным экраном. Возможность регулировки до 12 приборов (Vartronic Черный)",null,"шт.",{"$f":"(I57/$J$2)*$J$105","v":0},{"$f":"((J57+K57)/$J$2)*K105","v":0},0,null,{"$f":"$C57* УЗЛЫ!C33*L105","v":0},{"$f":"$C57*РАБОТЫ!C15","v":0},{"$f":"$C57*РАБОТЫ!D15","v":0},{"$f":"SUM(I57:K57)","v":0},""]
["Комплектующие для подлючения конвектора внутрипольного","Комплект запорно-регулирующей арматуры.",null,"компл.",{"$f":"(I58/$J$2)*$J$105","v":0},{"$f":"(C58*2300)*K105","v":0},0,null,{"$f":"$C58*УЗЛЫ!C34*L105","v":0},null,null,0,""]
["Монтаж внутрипольного конвектора","Монтаж внутрипольного конвектора",null,"шт.",null,{"$f":"((J59+K59)/$J$2)*$K$105*2","v":0},0,null,null,{"$f":"$C59* РАБОТЫ!$C$16","v":0},{"$f":"$C59* РАБОТЫ!$D$16","v":0},{"$f":"SUM(I59:K59)","v":0},{"$f":"IF(G59=0,\"\",(G59-L59)/G59)","v":""}]
["Монтаж напольного конвектора","Монтаж напольного конвектора",null,"шт.",null,{"$f":"((J60+K60)/$J$2)*$K$105*2","v":0},0,null,null,{"$f":"$C60* РАБОТЫ!C14","v":0},{"$f":"$C60* РАБОТЫ!D14","v":0},{"$f":"SUM(I60:K60)","v":0},{"$f":"IF(G60=0,\"\",(G60-L60)/G60)","v":""}]
["Итого материал:                                                                                                                                                                                                                                                              ",null,null,null,null,null,{"$f":"SUM(E49:E60)","v":0},null,null,null,null,{"$f":"SUM(I49:I60)","v":0},{"$f":"IF(G61=0,\"\",(G61-L61)/G61)","v":""},{"$f":"(SUM(G61:G62)-SUM(L61:L62))/SUM(G61:G62)","v":{"$error":"#DIV/0!"}}]
["Работа:",null,null,null,null,null,{"$f":"SUM(F49:F60)","v":0},null,null,null,null,{"$f":"SUM(J49:K60)","v":0},""]
["Теплые полы",null,null,null,null,null,null,null,{"$f":"РАБОТЫ!A33","v":"Смеситель (обычный)"}]
["Материалы/услуги","Описание","Кол-во","Ед.изм","Мат-ал, руб","Работа, руб ","Итого, руб",null,"Материал","Бригада","Прораб","Итого","Рента"]
["Теплый пол ТЕСЕ","Высококачественные трубы  PEX (ТЕСЕ Германия). Опрессовка системы",null,"м²",{"$f":"(I65/$K$2)*$J$105","v":0},{"$f":"((J65+K65)/$K$2)*$K$105","v":0},{"$f":"F65+E65","v":0},null,{"$f":"(C65*(УЗЛЫ!N87*8.4))*L105+(IF(C65>0,УЗЛЫ!C100))*L105","v":0},{"$f":"$C65*(РАБОТЫ!C45)","v":0},{"$f":"$C65*(РАБОТЫ!D45)","v":0},{"$f":"SUM(I65:K65)","v":0},{"$f":"IF(G65=0,\"\",(G65-L65)/G65)","v":""}]
["Трубопровод от коллектора до контуров \"тп\"","Высококачественные трубы  PEX (ТЕСЕ Германия) в утеплителе \"Энергофлекс\". Опрессовка системы",null,"м",{"$f":"(I66/$K$2)*$J$105","v":0},{"$f":"((J66+K66)/$K$2)*$K$105","v":0},0,null,{"$f":"C66*УЗЛЫ!N88*L105","v":0},{"$f":"C66*РАБОТЫ!C46","v":0},{"$f":"C66*РАБОТЫ!D46","v":0},0,""]
["Подключение коллекторного шкафа вне котельной","Трубопроводы (до 25 пог.м), фитинги, арматура",null,"компл.",{"$f":"I67/0.62","v":0},{"$f":"(J67+K67)/0.6","v":0},0,null,{"$f":"C67*(УЗЛЫ!C56+УЗЛЫ!C57)","v":0},{"$f":"C67*РАБОТЫ!C19","v":0},{"$f":"C67*РАБОТЫ!D19","v":0},0,"",null,"Подключения коллекторов ТП вне котельных , продавать на этапе ОВиВК"]
["Коллекторный шкаф ТП","Коллектор, шаровые краны, фиксаторы, прокладки,  фитинги. 3 выхода",null,"компл.",{"$f":"(I68/$K$2)*$J$105*0.7","v":0},{"$f":"((J68+K68)/$K$2)*$K$105*2.7","v":0},0,null,{"$f":"C68*УЗЛЫ!N89*L105","v":0},{"$f":"$C68*(РАБОТЫ!C47)","v":0},{"$f":"$C68*(РАБОТЫ!$D$47)","v":0},0,""]
[null,"Коллектор, шаровые краны, фиксаторы, прокладки,  фитинги. 4 выхода",null,"компл.",0,0,0,null,{"$f":"C69*УЗЛЫ!N90*L105","v":0},{"$f":"$C69*(РАБОТЫ!C47)","v":0},{"$f":"$C69*(РАБОТЫ!$D$47)","v":0},0,""]
[null,"Коллектор, шаровые краны, фиксаторы, прокладки,  фитинги. 5 выходов",null,"компл.",0,0,0,null,{"$f":"C70*УЗЛЫ!N91*L105","v":0},{"$f":"$C70*(РАБОТЫ!C47)","v":0},{"$f":"$C70*(РАБОТЫ!$D$47)","v":0},0,""]
[null,"Коллектор, шаровые краны, фиксаторы, прокладки,  фитинги. 6 выходов",null,"компл.",0,0,0,null,{"$f":"C71*УЗЛЫ!N92*L105","v":0},{"$f":"$C71*(РАБОТЫ!C47)","v":0},{"$f":"$C71*(РАБОТЫ!$D$47)","v":0},0,""]
[null,"Коллектор, шаровые краны, фиксаторы, прокладки,  фитинги. 7 выходов",null,"компл.",0,0,0,null,{"$f":"C72*УЗЛЫ!N93*L105","v":0},{"$f":"$C72*(РАБОТЫ!C47)","v":0},{"$f":"$C72*(РАБОТЫ!$D$47)","v":0},0,""]
[null,"Коллектор, шаровые краны, фиксаторы, прокладки,  фитинги. 8 выходов",null,"компл.",0,0,0,null,{"$f":"C73*УЗЛЫ!N94*L105","v":0},{"$f":"$C73*(РАБОТЫ!C47)","v":0},{"$f":"$C73*(РАБОТЫ!$D$47)","v":0},0,""]
[null,"Коллектор, шаровые краны, фиксаторы, прокладки,  фитинги. 9 выходов",null,"компл.",0,0,0,null,{"$f":"C74*УЗЛЫ!N95*L105","v":0},{"$f":"$C74*(РАБОТЫ!C47)","v":0},{"$f":"$C74*(РАБОТЫ!$D$47)","v":0},0,""]
[null,"Коллектор, шаровые краны, фиксаторы, прокладки,  фитинги. 10 выходов",null,"компл.",0,0,0,null,{"$f":"C75*УЗЛЫ!N96*L105","v":0},{"$f":"$C75*(РАБОТЫ!C47)","v":0},{"$f":"$C75*(РАБОТЫ!$D$47)","v":0},0,""]
[null,"Коллектор, шаровые краны, фиксаторы, прокладки,  фитинги. 11 выходов",null,"компл.",0,0,0,null,{"$f":"C76*УЗЛЫ!N97*L105","v":0},{"$f":"$C76*(РАБОТЫ!C47)","v":0},{"$f":"$C76*(РАБОТЫ!$D$47)","v":0},0,""]
[null,"Коллектор, шаровые краны, фиксаторы, прокладки,  фитинги. 12 выходов",null,"компл.",0,0,0,null,{"$f":"C77*УЗЛЫ!N98*L105","v":0},{"$f":"$C77*(РАБОТЫ!C47)","v":0},{"$f":"$C77*(РАБОТЫ!$D$47)","v":0},0,""]
["REHAU_Терморегулятор с датчиком и комплектом подключения 24В","Служит для контроля и поддержания заданной температуры в помещении при устройстве водяного тёплого пола. В комплект входит Комнатный термостат, датчик температуры пола.",null,"компл.",{"$f":"I78/K2*J105*0.8","v":0},{"$f":"((J78+K78)/$J$2)*$K$105*2.2","v":0},0,null,{"$f":"C78*УЗЛЫ!C104*L105","v":0},{"$f":"C78*РАБОТЫ!C49","v":0},{"$f":"C78*РАБОТЫ!D49","v":0},0,""]
["REHAU_Сервопривод 24В","Необходим для управления отдельными контурами тёплого пола. ",null,"шт.",{"$f":"I79/K2*J105*0.68","v":0},{"$f":"((J79+K79)/$J$2)*$K$105*2.2","v":0},0,null,{"$f":"C79*УЗЛЫ!C107*L105","v":0},{"$f":"C79*РАБОТЫ!C50*0.8","v":0},{"$f":"C79*РАБОТЫ!D50*0.8","v":0},0,""]
["Термостатическая головка ТСГ ВПС-01","Предназначен для точечного регулирования контура ТП",null,"шт.",{"$f":"I80/K2*J105*0.72","v":0},{"$f":"((J80+K80)/$J$2)*$K$105*2.2","v":0},0,null,{"$f":"C80*УЗЛЫ!C108*L105","v":0},{"$f":"C80*РАБОТЫ!C50*0.8","v":0},{"$f":"C80*РАБОТЫ!D50*0.8","v":0},0,""]
["REHAU_Клеммная колодка 10 выходов 24В","Необходим для управления серпоприводами. Не более 6 зон.",null,"шт.",{"$f":"I81/K2*J105*0.68","v":0},{"$f":"((J81+K81)/$J$2)*$K$105*3","v":0},0,null,{"$f":"C81*УЗЛЫ!C110*L105","v":0},{"$f":"C81*РАБОТЫ!C49","v":0},{"$f":"C81*РАБОТЫ!D49","v":0},0,""]
["Unibox RTL","Воздухоотводчик для отдельного контура теплого пола второго этажа (вместо коллектора).",null,"компл.",{"$f":"(I82/$K$2)*$J$105","v":0},{"$f":"((J82+K82)/$K$2)*$K$105","v":0},{"$f":"E82+F82","v":0},null,{"$f":"$C82* УЗЛЫ!C99*L105","v":0},{"$f":"$C82* РАБОТЫ!C48","v":0},{"$f":"$C82* РАБОТЫ!D48","v":0},0,""]
["Подготовка под ТП","Укладка сетки кладочной. Укладка с проклейкой армированным скотчем стыков швов. ",0,"кв.м",{"$f":"(I83/0.75)","v":0},{"$f":"((J83+K83)/0.4)*$K$105","v":0},{"$f":"E83+F83","v":0},null,{"$f":"C83*УЗЛЫ!C689","v":0},{"$f":"C83*УЗЛЫ!C691","v":0},{"$f":"C83*УЗЛЫ!D691","v":0},0,""]
["Пол по плите","Подготовка под стяжку.  Укладка и проклейка пленки, выравнивание поверхности керамзитной крошкой",0,"кв.м",{"$f":"(I84/0.75)","v":0},{"$f":"((J84+K84)/0.55)","v":0},0,null,{"$f":"C84*УЗЛЫ!C690","v":0},{"$f":"C84*УЗЛЫ!C692","v":0},{"$f":"C84*УЗЛЫ!D692","v":0},0,""]
["Итого материал:                                                                                                                                                                                                                                                              ",null,null,null,null,null,{"$f":"SUM(E65:E84)","v":0},null,null,null,null,{"$f":"SUM(I65:I84)","v":0},"",{"$f":"(SUM(G85:G86)-SUM(L85:L86))/SUM(G85:G86)","v":{"$error":"#DIV/0!"}}]
["Работа:",{"$f":"РАБОТЫ!A1","v":"Дата"},null,null,null,null,{"$f":"SUM(F65:F84)","v":0},null,null,null,null,{"$f":"SUM(J65:K84)","v":0},""]
["Дополнительно"]
["Материалы/услуги","Описание","Кол-во","Ед.изм","Мат-ал, руб","Работа, руб ","Итого, руб"]
["Проходные отверстия в плите","Алмазное сверление",3,"шт.",null,{"$f":"IF($C$89=0,0,\nIF($C$89<4,9000,\nIF($C$89>3,9000+2300*($C$89-3))))","v":9000},{"$f":"F89+E89","v":9000},null,null,null,{"$f":"IF($C$89=0,0,\nIF($C$89<4,6000,\nIF($C$89>3,6000+1700*($C$89-3))))","v":6000}]
["Штробление ","Выводы в кухне, с/у",null,"шт.",null,{"$f":"(J90+K90)/0.65","v":0},{"$f":"F90+E90","v":0},null,null,{"$f":"C90*РАБОТЫ!C36","v":0},{"$f":"C90*РАБОТЫ!D36","v":0}]
["Закладная для канализации","Устройство ввода канализации в дом",null,"шт.",{"$f":"C91*4500","v":0},{"$f":"C91*16000","v":0},{"$f":"F91+E91","v":0},null,null,null,{"$f":"12500*C91","v":0}]
["Закладная для воды","Устройство ввода водоснабжения в дом",null,"шт.",{"$f":"C92*4500","v":0},{"$f":"C92*16000","v":0},{"$f":"F92+E92","v":0},null,null,null,{"$f":"12500*C92","v":0}]
["Подготовительные и накладные расходы","Включают разработку комплекта документов для монтажа, проверку ОТК и приемку каждого этапа работ инженерами технического надзора, соблюдение стандарта компании",1,"Усл.",null,{"$f":"C93*31000","v":31000},{"$f":"F93","v":31000},null,null,{"$f":"2000+IF((C83+C84)>0,2000,0)","v":2000},{"$f":"4500+IF((C83+C84)>0,5000,0)","v":4500},{"$f":"5500+6500","v":12000},"выезды ИТН",null,"Стоимость этапа ТП - заказные позиции"]
["Транспортные расходы ","Доставка оборудования и материалов на объект",1,"усл.",null,{"$f":"C94*11000","v":11000},{"$f":"F94","v":11000},null,null,null,null,10000,null,null,{"$f":"F96-G46","v":51000}]
["Доставка бытовки на объект","Если есть такая необходимость, мы предоставляем бытовку для проживания на объекте строителей. После окончания работ, бытовка вывозится.",null,"км от мкад",null,null,{"$f":"IF(C95=0,0,\nIF(C95<100,24000,\nIF(C95<150,30000,36000)))","v":0},null,null,null,null,{"$f":"IF(C95=0,0,\nIF(C95<=50,13500,\nIF(C95<=100,17000,\nIF(C95<=150,20500,\nIF(C95<=200,24000,\nIF(C95<=250,27500,\nIF(C95>250,31000,)))))))","v":0}]
["Итого по смете:",null,null,null,null,{"$f":"SUM(G85:G86,G89:G95,G46,G61:G62)","v":51000},null,null,{"$f":"SUM(L85)+L46+SUM(L61)","v":0},{"$f":"SUM(J65:J84,J89:J95,J49:J60)","v":2000},{"$f":"SUM(K65:K84,K89:K95,K49:K60)","v":10500},{"$f":"SUM(I96:K96,L89:L95)","v":34500},{"$f":"IF(F98=0,\"\",(F98-L96)/F98)","v":0.3235294117647059}]
["Корректировка стоимости (скидка):",null,null,null,null,null,0]
["Итого по смете со скидкой:",null,null,null,null,{"$f":"F96-G97","v":51000}]
[null,{"$f":"РАБОТЫ!$A$1","v":"Дата"},null,null,null,null,null,null,null,null,"Дом кирпично-деревянный",0]
[null,null,null,null,null,null,null,null,null,null,"(поставить 1)"]
[]
[null,null,null,null,null,null,null,null,null,"Коэффициент для заказчика",null,"Коэффициент для себеса материал"]
[]
[null,null,null,null,null,null,null,null,null,"Мат","Раб","Мат"]
[null,null,null,null,null,null,null,null,null,1,1,1]
[]
[null,null,null,null,null,null,null,null,"Стоим. мат-ла","Стоим. работ бр.","Стоим. работ ПР","Мат-л + работа","Промежут. рента"]
[null,null,null,null,null,null,null,null,null,null,null,null,null,null,"Справочно, в разбивке по этапам:"]
[null,null,null,null,null,null,null,null,{"$f":"I96-I110-I111","v":{"$error":"#REF!"}},{"$f":"J96-J110-J111","v":{"$error":"#REF!"}},{"$f":"K96-K110-K111","v":{"$error":"#REF!"}},{"$f":"L96-L110-L111","v":{"$error":"#REF!"}},{"$f":"IF(Q109=0, \"\", (Q109-L109)/Q109)","v":{"$error":"#REF!"}},null,"Скрытые",null,{"$f":"F96-Q110-Q111","v":{"$error":"#REF!"}}]
[null,null,null,null,null,null,null,null,{"$f":"SUM(I65+I66+I68+I69+I70+I71+I72+I73+I74+I75+I76+I77+I82)","v":0},{"$f":"SUM(J65+J66+J68++J69+J70+J71+J72+J73+J74+J75+J76+J77+J82)","v":0},{"$f":"SUM(K65+K66+K68++K69+K70+K71+K72+K73+K74+K75+K76+K77+K82)","v":0},{"$f":"SUM(L65+L66+L68++L69+L70+L71+L72+L73+L74+L75+L76+L77+L82)","v":0},{"$f":"IF(Q110=0, \"\", (Q110-L110)/Q110)","v":""},null,"Теплые полы",null,{"$f":"SUM(G65+G66+G68+G69+G70+G71+G72+G73+G74+G75+G76+G77+G82)","v":0}]
[null,null,null,null,null,null,null,null,{"$f":"SUM(#REF!)","v":{"$error":"#REF!"}},{"$f":"SUM(#REF!)","v":{"$error":"#REF!"}},{"$f":"SUM(#REF!)","v":{"$error":"#REF!"}},{"$f":"SUM(#REF!)","v":{"$error":"#REF!"}},{"$f":"IF(Q111=0, \"\", (Q111-L111)/Q111)","v":{"$error":"#REF!"}},null,"Теплотрасса",null,{"$f":"SUM(#REF!)","v":{"$error":"#REF!"}}]

{"sheet":"ТП Stout ","index":9,"n_rows":111,"n_cols":17,"rows_kept":111,"cut":false,"hidden":false,"merged":[[0,0,0,6],[1,1,1,6],[2,0,2,6],[106,11,107,11],[62,0,62,5],[97,5,97,6],[101,9,102,10],[106,8,107,8],[106,9,107,9],[106,10,107,10],[67,0,76,0],[101,11,102,11],[3,0,3,6],[5,0,14,0],[15,0,24,0],[25,0,34,0],[81,13,84,13],[84,2,84,4],[85,2,85,4],[95,0,95,4],[95,5,95,6],[86,0,86,6],[60,2,60,4],[60,13,61,13],[61,2,61,4],[35,0,44,0],[45,2,45,4],[46,0,46,6],[52,0,53,0],[55,0,56,0]]}
["Приложение №    к Договору подряда №    ______________от_____________",null,null,null,null,null,null,null,null,"КОЭФ для ренты","КОЭФ для ренты"]
[{"$f":"TODAY()","v":"2024-02-02"},"Данный сметный расчёт действителен 7 календарных дней. По истечению срока, цены могут быть изменены.",null,null,null,null,null,null,null,0.65,0.6]
["Сметный расчет ТП Stout"]
["Отопительные приборы",null,null,null,null,null,null,null,{"$f":"РАБОТЫ!A1","v":"Дата"}]
["Материалы/услуги","Описание","Кол-во","Ед.изм","Мат-ал, руб","Работа, руб ","Итого, руб",null,"Материал","Бригада","Прораб","Итого","Рента","Цена шт.","Курс евро"]
["Радиаторы",null,null,"шт.",{"$f":"I6/0.75","v":0},null,{"$f":"E6","v":0},null,{"$f":"N6*C6","v":0},null,null,{"$f":"SUM(I6:K6)","v":0},{"$f":"IF(G6=0,\"\",(G6-L6)/G6)","v":""},null,106.1]
[null,null,null,"шт.",{"$f":"I7/0.75","v":0},null,{"$f":"E7","v":0},null,{"$f":"N7*C7","v":0},null,null,0,""]
[null,null,null,"шт.",0,null,0,null,0,null,null,0,""]
[null,null,null,"шт.",0,null,0,null,0,null,null,0,""]
[null,null,null,"шт.",0,null,0,null,0,null,null,0,""]
[null,null,null,"шт.",0,null,0,null,0,null,null,0,""]
[null,null,null,"шт.",0,null,0,null,0,null,null,0,""]
[null,null,null,"шт.",0,null,0,null,0,null,null,0,""]
[null,null,null,"шт.",0,null,0,null,0,null,null,0,""]
[null,null,null,"шт.",0,null,0,null,{"$f":"N15*C15","v":0},null,null,0,""]
["Конвектор энергозависимый внутрипольный ",null,null,"шт.",{"$f":"(I16/0.65)*$J$105*0.88","v":0},null,{"$f":"E16","v":0},null,{"$f":"C16*N16*$O$6*0.63*1.02","v":0},null,null,0,""]
[null,null,null,"шт.",{"$f":"(I17/0.65)*$J$105*0.88","v":0},null,0,null,{"$f":"C17*N17*$O$6*0.63*1.02","v":0},null,null,0,""]
[null,null,null,"шт.",0,null,0,null,{"$f":"C18*N18*$O$6*0.63*1.02","v":0},null,null,0,""]
[null,null,null,"шт.",0,null,0,null,0,null,null,0,""]
[null,null,null,"шт.",0,null,0,null,0,null,null,0,""]
[null,null,null,"шт.",0,null,0,null,0,null,null,0,""]
[null,null,null,"шт.",0,null,0,null,0,null,null,0,""]
[null,null,null,"шт.",0,null,0,null,0,null,null,0,""]
[null,null,null,"шт.",0,null,0,null,0,null,null,0,""]
[null,null,null,"шт.",0,null,0,null,0,null,null,0,""]
["Конвектор энергонезависимый внутрипольный влагостойкий корпус",null,null,"шт.",0,null,0,null,0,null,null,0,""]
[null,null,null,"шт.",0,null,0,null,0,null,null,0,""]
[null,null,null,"шт.",0,null,0,null,0,null,null,0,""]
[null,null,null,"шт.",0,null,0,null,0,null,null,0,""]
[null,null,null,"шт.",0,null,0,null,0,null,null,0,""]
[null,null,null,"шт.",0,null,0,null,0,null,null,0,""]
[null,null,null,"шт.",0,null,0,null,0,null,null,0,""]
[null,null,null,"шт.",0,null,0,null,0,null,null,0,""]
[null,null,null,"шт.",0,null,0,null,{"$f":"C34*N34*$O$6*0.63*1.02","v":0},null,null,0,""]
[null,null,null,"шт.",{"$f":"(I35/0.65)*$J$105*0.88","v":0},null,0,null,{"$f":"C35*N35*$O$6*0.63*1.02","v":0},null,null,0,""]
["Конвектор напольный",null,null,"шт.",{"$f":"(I36/0.7)*$J$105*0.87","v":0},null,0,null,{"$f":"C36*N36*$O$6*0.75*1.02","v":0},null,null,0,""]
[null,null,null,"шт.",{"$f":"(I37/0.7)*$J$105*0.87","v":0},null,0,null,{"$f":"C37*N37*$O$6*0.75*1.02","v":0},null,null,0,""]
[null,null,null,"шт.",0,null,0,null,{"$f":"C38*N38*$O$6*0.75*1.02","v":0},null,null,0,""]
[null,null,null,"шт.",0,null,0,null,0,null,null,0,""]
[null,null,null,"шт.",0,null,0,null,0,null,null,0,{"$f":"IF(G40=0,\"\",(G40-L40)/G40)","v":""}]
[null,null,null,"шт.",0,null,0,null,0,null,null,0,""]
[null,null,null,"шт.",0,null,{"$f":"E42","v":0},null,0,null,null,0,""]
[null,null,null,"шт.",0,null,0,null,0,null,null,0,""]
[null,null,null,"шт.",0,null,0,null,0,null,null,0,""]
[null,null,null,"шт.",0,null,0,null,0,null,null,0,""]
["Итого материал:                                                                                                                                                                                                                                                              ",null,null,null,null,null,{"$f":"SUM(G6:G45)","v":0},null,null,null,null,{"$f":"SUM(I6:I45)","v":0},{"$f":"IF(G46=0,\"\",(G46-L46)/G46)","v":""}]
["Отопление"]
["Материалы/услуги","Описание","Кол-во","Ед.изм","Мат-ал, руб","Работа, руб ","Итого, руб",null,"Материал","Бригада","Прораб","Итого","Рента"]
["Комплект декоративной подводки","Для труб из сшитого полиэтилена",null,"компл.",{"$f":"(I49/0.9)*$J$105","v":0},{"$f":"((J49+K49)/$J$2)*$K$105*1.5","v":0},{"$f":"F49+E49","v":0},null,{"$f":"$C49*УЗЛЫ!C22*L105","v":0},{"$f":"$C49* РАБОТЫ!C12","v":0},{"$f":"$C49* РАБОТЫ!D12","v":0},{"$f":"SUM(I49:K49)","v":0},{"$f":"IF(G49=0,\"\",(G49-L49)/G49)","v":""}]
["Монтаж креплений для радиаторов настенный","Монтаж с использованием электронного измерителя уровня",null,"компл.",{"$f":"(I50/$J$2)*$J$119","v":0},{"$f":"((J50+K50)/$J$2)*$K$105*1.3","v":0},0,null,null,{"$f":"$C50*(РАБОТЫ!C13*0.3)","v":0},{"$f":"$C50*( РАБОТЫ!D13*0.3)","v":0},0,{"$f":"IF(G50=0,\"\",(G50-L50)/G50)","v":""}]
["Монтаж креплений для радиаторов напольный","Монтаж с использованием электронного измерителя уровня",null,"компл.",{"$f":"(I51/$J$2)*$J$105","v":0},{"$f":"((J51+K51)/$J$2)*$K$105*1.3","v":0},0,null,{"$f":"C51*УЗЛЫ!D26*L105","v":0},{"$f":"$C51*(РАБОТЫ!C13*0.3)","v":0},{"$f":"$C51*( РАБОТЫ!D13*0.3)","v":0},0,""]
["Монтаж радиатора","Монтаж с использованием электронного измерителя уровня",null,"компл.",{"$f":"(I52/$J$2)*$J$119","v":0},{"$f":"((J52+K52)/0.76)*$K$105*1.3","v":0},0,null,null,{"$f":"$C52* РАБОТЫ!C13","v":0},{"$f":"$C52* РАБОТЫ!D13","v":0},0,""]
["Комплект подключения ","Узел нижнего подключения радиатора прямой из пола (без декор.подводки)",null,"компл.",{"$f":"(I53/0.8)*$J$105*0.7","v":0},{"$f":"(C53*500)*K105","v":0},0,null,{"$f":"$C53*УЗЛЫ!C28*L105","v":0},null,null,0,""]
[null,"Узел нижнего подключения радиатора угловой из стены (без декор. подводки)",null,"компл.",{"$f":"(I54/0.8)*$J$105*0.7","v":0},{"$f":"(C54*590)+(J54+K54)","v":0},0,null,{"$f":"$C54*УЗЛЫ!C30*L105","v":0},{"$f":"C54*((РАБОТЫ!C36*2))","v":0},{"$f":"C54*(РАБОТЫ!D36*2)","v":0},0,""]
["Терморегулятор для радиатора","Термоголовка (Германия), c жидкостным чувствительным элементом. С функцией защиты от замерзания и с блокировкой диапазона настройки.",null,"шт.",{"$f":"1069*C55","v":0},{"$f":"(C55*500)*K105*0.7","v":0},0,null,0,null,null,{"$f":"SUM(I55:K55)","v":0},""]
["Управление внутрипольным конвектором","Настенный регулятор программируемый с сенсорным экраном. Возможность регулировки до 12 приборов (Vartronic Белый)",null,"шт.",{"$f":"(I56/$J$2)*$J$105","v":0},{"$f":"((J56+K56)/$J$2)*K105","v":0},0,null,{"$f":"$C56* УЗЛЫ!C33*L105","v":0},{"$f":"$C56*РАБОТЫ!C15","v":0},{"$f":"$C56*РАБОТЫ!D15","v":0},0,""]
[null,"Настенный регулятор программируемый с сенсорным экраном. Возможность регулировки до 12 приборов (Vartronic Черный)",null,"шт.",{"$f":"(I57/$J$2)*$J$105","v":0},{"$f":"((J57+K57)/$J$2)*K105","v":0},0,null,{"$f":"$C57* УЗЛЫ!C33*L105","v":0},{"$f":"$C57*РАБОТЫ!C15","v":0},{"$f":"$C57*РАБОТЫ!D15","v":0},{"$f":"SUM(I57:K57)","v":0},""]
["Комплектующие для подлючения конвектора внутрипольного","Комплект запорно-регулирующей арматуры.",null,"компл.",{"$f":"(I58/$J$2)*$J$105","v":0},{"$f":"(C58*2300)*K105","v":0},0,null,{"$f":"$C58*УЗЛЫ!C34*L105","v":0},null,null,0,""]
["Монтаж внутрипольного конвектора","Монтаж внутрипольного конвектора",null,"шт.",null,{"$f":"((J59+K59)/$J$2)*$K$105*2","v":0},0,null,null,{"$f":"$C59* РАБОТЫ!$C$16","v":0},{"$f":"$C59* РАБОТЫ!$D$16","v":0},{"$f":"SUM(I59:K59)","v":0},{"$f":"IF(G59=0,\"\",(G59-L59)/G59)","v":""}]
["Монтаж напольного конвектора","Монтаж напольного конвектора",null,"шт.",null,{"$f":"((J60+K60)/$J$2)*$K$105*2","v":0},0,null,null,{"$f":"$C60* РАБОТЫ!C14","v":0},{"$f":"$C60* РАБОТЫ!D14","v":0},{"$f":"SUM(I60:K60)","v":0},{"$f":"IF(G60=0,\"\",(G60-L60)/G60)","v":""}]
["Итого материал:                                                                                                                                                                                                                                                              ",null,null,null,null,null,{"$f":"SUM(E49:E60)","v":0},null,null,null,null,{"$f":"SUM(I49:I60)","v":0},"",{"$f":"(SUM(G61:G62)-SUM(L61:L62))/SUM(G61:G62)","v":{"$error":"#DIV/0!"}}]
["Работа:",null,null,null,null,null,{"$f":"SUM(F49:F60)","v":0},null,null,null,null,{"$f":"SUM(J49:K60)","v":0},""]
["Теплые полы",null,null,null,null,null,null,null,{"$f":"РАБОТЫ!A1","v":"Дата"}]
["Материалы/услуги","Описание","Кол-во","Ед.изм","Мат-ал, руб","Работа, руб ","Итого, руб",null,"Материал","Бригада","Прораб","Итого","Рента"]
["Теплый пол Stout","Трубопроводы системы внутрипольного отопления   -   высококачественные трубы  PE-Xa  (Трубы Stout, Испания -  поперечно сшитый полиэтилен) ",{"$f":"'ТП ТЕСЕ'!C65","v":0},"м²",{"$f":"(I65/$K$2)*$J$105","v":0},{"$f":"((J65+K65)/$K$2)*$K$105","v":0},{"$f":"F65+E65","v":0},null,{"$f":"C65*(УЗЛЫ!H87*8.4)*L105+(IF(C65>0,УЗЛЫ!C105))*L105","v":0},{"$f":"$C65*(РАБОТЫ!C45)","v":0},{"$f":"$C65*(РАБОТЫ!D45)","v":0},{"$f":"SUM(I65:K65)","v":0},{"$f":"IF(G65=0,\"\",(G65-L65)/G65)","v":""}]
["Магистрали от коллектора до \"тп\"","Трубопроводы системы внутрипольного отопления   -   высококачественные трубы  PE-Xa  (Трубы Stout, Испания -  поперечно сшитый полиэтилен) в утеплителе \"Энергофлекс\"",{"$f":"'ТП ТЕСЕ'!C66","v":0},"м",{"$f":"(I66/$K$2)*$J$105","v":0},{"$f":"((J66+K66)/$K$2)*$K$105","v":0},0,null,{"$f":"C66*УЗЛЫ!H88*L105","v":0},{"$f":"C66*РАБОТЫ!C46","v":0},{"$f":"C66*РАБОТЫ!D46","v":0},0,{"$f":"IF(G66=0,\"\",(G66-L66)/G66)","v":""}]
["Подключение коллекторного шкафа вне котельной","Трубопроводы (до 25 пог.м), фитинги, арматура",{"$f":"'ТП ТЕСЕ'!C67","v":0},"компл.",{"$f":"I67/0.62","v":0},{"$f":"(J67+K67)/0.6","v":0},0,null,{"$f":"C67*(УЗЛЫ!C54+УЗЛЫ!C55)","v":0},{"$f":"C67*РАБОТЫ!C19","v":0},{"$f":"C67*РАБОТЫ!D19","v":0},0,"",null,"Подключения коллекторов ТП вне котельных , продавать на этапе ОВВВК"]
["Коллекторный шкаф ТП ","Коллектор, шаровые краны, фиксаторы, прокладки,  фитинги. 3 выхода",{"$f":"'ТП ТЕСЕ'!C68","v":0},"компл.",{"$f":"(I68/$K$2)*$J$105*0.7","v":0},{"$f":"((J68+K68)/$K$2)*$K$105*2.7","v":0},0,null,{"$f":"C68*УЗЛЫ!H89*L105","v":0},{"$f":"$C68*(РАБОТЫ!C47)","v":0},{"$f":"$C68*(РАБОТЫ!$D$47)","v":0},0,""]
[null,"Коллектор, шаровые краны, фиксаторы, прокладки,  фитинги. 4 выхода",{"$f":"'ТП ТЕСЕ'!C69","v":0},"компл.",0,0,0,null,{"$f":"C69*УЗЛЫ!H90*L105","v":0},{"$f":"$C69*(РАБОТЫ!C47)","v":0},{"$f":"$C69*(РАБОТЫ!$D$47)","v":0},0,""]
[null,"Коллектор, шаровые краны, фиксаторы, прокладки,  фитинги. 5 выходов",{"$f":"'ТП ТЕСЕ'!C70","v":0},"компл.",0,0,0,null,{"$f":"C70*УЗЛЫ!H91*L105","v":0},{"$f":"$C70*(РАБОТЫ!C47)","v":0},{"$f":"$C70*(РАБОТЫ!$D$47)","v":0},0,""]
[null,"Коллектор, шаровые краны, фиксаторы, прокладки,  фитинги. 6 выходов",{"$f":"'ТП ТЕСЕ'!C71","v":0},"компл.",0,0,0,null,{"$f":"C71*УЗЛЫ!H92*L105","v":0},{"$f":"$C71*(РАБОТЫ!C47)","v":0},{"$f":"$C71*(РАБОТЫ!$D$47)","v":0},0,""]
[null,"Коллектор, шаровые краны, фиксаторы, прокладки,  фитинги. 7 выходов",{"$f":"'ТП ТЕСЕ'!C72","v":0},"компл.",0,0,0,null,{"$f":"C72*УЗЛЫ!H93*L105","v":0},{"$f":"$C72*(РАБОТЫ!C47)","v":0},{"$f":"$C72*(РАБОТЫ!$D$47)","v":0},0,""]
[null,"Коллектор, шаровые краны, фиксаторы, прокладки,  фитинги. 8 выходов",{"$f":"'ТП ТЕСЕ'!C73","v":0},"компл.",0,0,0,null,{"$f":"C73*УЗЛЫ!H94*L105","v":0},{"$f":"$C73*(РАБОТЫ!C47)","v":0},{"$f":"$C73*(РАБОТЫ!$D$47)","v":0},0,""]
[null,"Коллектор, шаровые краны, фиксаторы, прокладки,  фитинги. 9 выходов",{"$f":"'ТП ТЕСЕ'!C74","v":0},"компл.",0,0,0,null,{"$f":"C74*УЗЛЫ!H95*L105","v":0},{"$f":"$C74*(РАБОТЫ!C47)","v":0},{"$f":"$C74*(РАБОТЫ!$D$47)","v":0},0,""]
[null,"Коллектор, шаровые краны, фиксаторы, прокладки,  фитинги. 10 выходов",{"$f":"'ТП ТЕСЕ'!C75","v":0},"компл.",0,0,0,null,{"$f":"C75*УЗЛЫ!H96*L105","v":0},{"$f":"$C75*(РАБОТЫ!C47)","v":0},{"$f":"$C75*(РАБОТЫ!$D$47)","v":0},0,""]
[null,"Коллектор, шаровые краны, фиксаторы, прокладки,  фитинги. 11 выходов",{"$f":"'ТП ТЕСЕ'!C76","v":0},"компл.",0,0,0,null,{"$f":"C76*УЗЛЫ!H97*L105","v":0},{"$f":"$C76*(РАБОТЫ!C47)","v":0},{"$f":"$C76*(РАБОТЫ!$D$47)","v":0},0,""]
[null,"Коллектор, шаровые краны, фиксаторы, прокладки,  фитинги. 12 выходов",{"$f":"'ТП ТЕСЕ'!C77","v":0},"компл.",0,0,0,null,{"$f":"C77*УЗЛЫ!H98*L105","v":0},{"$f":"$C77*(РАБОТЫ!C47)","v":0},{"$f":"$C77*(РАБОТЫ!$D$47)","v":0},0,""]
["Терморегулятор тёплого пола REHAU NEA HCT 230 В","Служит для контроля и поддержания заданной температуры в помещении при устройстве водяного тёплого пола. В комплект входит терморегулятор Nea HCT 230 В, выносной датчик Nea 230 В, комплект подключения датчика к терморегулятору.",{"$f":"'ТП ТЕСЕ'!C78","v":0},"компл.",{"$f":"I78/K2*J105*0.8","v":0},{"$f":"((J78+K78)/$J$2)*$K$105*2.2","v":0},0,null,{"$f":"C78*УЗЛЫ!C104*L105","v":0},{"$f":"C78*РАБОТЫ!C49","v":0},{"$f":"C78*РАБОТЫ!D49","v":0},0,""]
["Сервопривод REHAU UNI 230 В","Необходим для управления отдельными контурами тёплого пола. ",{"$f":"'ТП ТЕСЕ'!C79","v":0},"шт.",{"$f":"I79/K2*J105*0.68","v":0},{"$f":"((J79+K79)/$J$2)*$K$105*2.2","v":0},0,null,{"$f":"C79*УЗЛЫ!C107*L105","v":0},{"$f":"C79*РАБОТЫ!C50*0.8","v":0},{"$f":"C79*РАБОТЫ!D50*0.8","v":0},0,""]
["Термостатическая головка ТСГ ВПС-01","Предназначен для точечного регулирования контура ТП",{"$f":"'ТП ТЕСЕ'!C80","v":0},"шт.",{"$f":"I80/K2*J105*0.72","v":0},{"$f":"((J80+K80)/$J$2)*$K$105*2.2","v":0},0,null,{"$f":"C80*УЗЛЫ!C108*L105","v":0},{"$f":"C80*РАБОТЫ!C50*0.8","v":0},{"$f":"C80*РАБОТЫ!D50*0.8","v":0},0,""]
["Клеммная колодка REHAU Nea HС 230 В","Необходим для управления серпоприводами. Не более 6 зон.",{"$f":"'ТП ТЕСЕ'!C81","v":0},"шт.",{"$f":"I81/K2*J105*0.68","v":0},{"$f":"((J81+K81)/$J$2)*$K$105*3","v":0},0,null,{"$f":"C81*УЗЛЫ!C110*L105","v":0},{"$f":"C81*РАБОТЫ!C49","v":0},{"$f":"C81*РАБОТЫ!D49","v":0},0,""]
["Unibox RTL","Воздухоотводчик для отдельного контура теплого пола второго этажа (вместо коллектора).",{"$f":"'ТП ТЕСЕ'!C82","v":0},"компл.",{"$f":"(I82/$K$2)*$J$105","v":0},{"$f":"((J82+K82)/$K$2)*$K$105","v":0},{"$f":"E82+F82","v":0},null,{"$f":"C82*УЗЛЫ!H99*L105","v":0},{"$f":"$C82* РАБОТЫ!C48","v":0},{"$f":"$C82* РАБОТЫ!D48","v":0},0,"",{"$f":"(SUM(G85:G86)-SUM(L85:L86))/SUM(G85:G86)","v":{"$error":"#DIV/0!"}}]
["Подготовка под ТП","Укладка сетки кладочной. Укладка с проклейкой армированным скотчем стыков швов. ",{"$f":"'ТП ТЕСЕ'!C83","v":0},"кв.м",{"$f":"(I83/0.75)","v":0},{"$f":"((J83+K83)/0.4)*$K$105","v":0},{"$f":"E83+F83","v":0},null,{"$f":"C83*УЗЛЫ!C689","v":0},{"$f":"C83*УЗЛЫ!C691","v":0},{"$f":"C83*УЗЛЫ!D691","v":0},0,""]
["Пол по плите","Подготовка под стяжку.  Укладка и проклейка пленки, выравнивание поверхности керамзитной крошкой",{"$f":"'ТП ТЕСЕ'!C84","v":0},"кв.м",{"$f":"(I84/0.75)","v":0},{"$f":"((J84+K84)/0.55)","v":0},0,null,{"$f":"C84*УЗЛЫ!C690","v":0},{"$f":"C84*УЗЛЫ!C692","v":0},{"$f":"C84*УЗЛЫ!D692","v":0},0,""]
["Итого материал:                                                                                                                                                                                                                                                              ",null,null,null,null,null,{"$f":"SUM(E65:E84)","v":0},null,null,null,null,{"$f":"SUM(I65:I84)","v":0},""]
["Работа:",{"$f":"РАБОТЫ!A1","v":"Дата"},null,null,null,null,{"$f":"SUM(F65:F84)","v":0},null,null,null,null,{"$f":"SUM(J65:K84)","v":0},""]
["Дополнительно"]
["Материалы/услуги","Описание","Кол-во","Ед.изм","Мат-ал, руб","Работа, руб ","Итого, руб"]
["Проходные отверстия в плите","Алмазное сверление",{"$f":"'ТП ТЕСЕ'!C89","v":3},"шт.",null,{"$f":"IF($C$89=0,0,\nIF($C$89<4,9000,\nIF($C$89>3,9000+2300*($C$89-3))))","v":9000},{"$f":"F89+E89","v":9000},null,null,null,{"$f":"IF($C$89=0,0,\nIF($C$89<4,6000,\nIF($C$89>3,6000+1700*($C$89-3))))","v":6000}]
["Штробление ","Выводы в кухне, с/у",{"$f":"'ТП ТЕСЕ'!C90","v":0},"шт.",null,{"$f":"(J90+K90)/0.65","v":0},{"$f":"F90+E90","v":0},null,null,{"$f":"C90*РАБОТЫ!C36","v":0},{"$f":"C90*РАБОТЫ!D36","v":0}]
["Закладная для канализации","Устройство ввода канализации в дом",{"$f":"'ТП ТЕСЕ'!C91","v":0},"шт.",{"$f":"C91*4500","v":0},{"$f":"C91*16000","v":0},{"$f":"F91+E91","v":0},null,null,null,{"$f":"12500*C91","v":0}]
["Закладная для воды","Устройство ввода водоснабжения в дом",{"$f":"'ТП ТЕСЕ'!C92","v":0},"шт.",{"$f":"C92*4500","v":0},{"$f":"C92*16000","v":0},{"$f":"F92+E92","v":0},null,null,null,{"$f":"12500*C92","v":0}]
["Подготовительные и накладные расходы","Включают разработку комплекта документов для монтажа, проверку ОТК и приемку каждого этапа работ инженерами технического надзора, соблюдение стандарта компании",{"$f":"'ТП ТЕСЕ'!C93","v":1},"Усл.",null,{"$f":"C93*31000","v":31000},{"$f":"F93","v":31000},null,null,{"$f":"2000+IF((C83+C84)>0,2000,0)","v":2000},{"$f":"4500+IF((C83+C84)>0,5000,0)","v":4500},{"$f":"5500+6500","v":12000},"выезды ИТН",null,"Стоимость этапа ТП - заказные позиции"]
["Транспортные расходы ","Доставка оборудования и материалов на объект",{"$f":"'ТП ТЕСЕ'!C94","v":1},"усл.",null,{"$f":"C94*11000","v":11000},{"$f":"F94","v":11000},null,null,null,null,10000,null,null,{"$f":"F96-G46","v":51000}]
["Доставка бытовки на объект","Если есть такая необходимость, мы предоставляем бытовку для проживания на объекте строителей. После окончания работ, бытовка вывозится.",{"$f":"'ТП ТЕСЕ'!C95","v":0},"км от мкад",null,null,{"$f":"IF(C95=0,0,\nIF(C95<100,24000,\nIF(C95<150,30000,36000)))","v":0},null,null,null,null,{"$f":"IF(C95=0,0,\nIF(C95<=50,13500,\nIF(C95<=100,17000,\nIF(C95<=150,20500,\nIF(C95<=200,24000,\nIF(C95<=250,27500,\nIF(C95>250,31000,)))))))","v":0}]
["Итого по смете:",null,null,null,null,{"$f":"SUM(G85:G86,G89:G94,G46,G61:G62)","v":51000},null,null,{"$f":"SUM(L85,L61,L46)","v":0},{"$f":"SUM(J65:J84,J89:J95,J49:J60)","v":2000},{"$f":"SUM(K65:K84,K89:K95,K49:K60)","v":10500},{"$f":"SUM(I96:K96,L89:L95)","v":34500},{"$f":"IF(F98=0,\"\",(F98-L96)/F98)","v":0.3235294117647059}]
["Корректировка стоимости (скидка):",null,null,null,null,null,0]
["Итого по смете со скидкой:",null,null,null,null,{"$f":"F96-G97","v":51000}]
[null,{"$f":"РАБОТЫ!$A$1","v":"Дата"},null,null,null,null,null,null,null,null,"Дом кирпично-деревянный",0]
[null,null,null,null,null,null,null,null,null,null,"(поставить 1)"]
[]
[null,null,null,null,null,null,null,null,null,"Коэффициент для заказчика",null,"Коэффициент для себеса материал"]
[]
[null,null,null,null,null,null,null,null,null,"Мат","Раб","Мат"]
[null,null,null,null,null,null,null,null,null,1,1,1]
[]
[null,null,null,null,null,null,null,null,"Стоим. мат-ла","Стоим. работ бр.","Стоим. работ ПР","Мат-л + работа","Промежут. рента"]
[null,null,null,null,null,null,null,null,null,null,null,null,null,null,"Справочно, в разбивке по этапам:"]
[null,null,null,null,null,null,null,null,{"$f":"I96-I110-I111","v":{"$error":"#REF!"}},{"$f":"J96-J110-J111","v":{"$error":"#REF!"}},{"$f":"K96-K110-K111","v":{"$error":"#REF!"}},{"$f":"L96-L110-L111","v":{"$error":"#REF!"}},{"$f":"IF(Q109=0, \"\", (Q109-L109)/Q109)","v":{"$error":"#REF!"}},null,"Скрытые",null,{"$f":"F96-Q110-Q111","v":{"$error":"#REF!"}}]
[null,null,null,null,null,null,null,null,{"$f":"SUM(I65+I66+I68+I69+I70+I71+I72+I73+I74+I75+I76+I77+I82)","v":0},{"$f":"SUM(J65+J66+J68++J69+J70+J71+J72+J73+J74+J75+J76+J77+J82)","v":0},{"$f":"SUM(K65+K66+K68++K69+K70+K71+K72+K73+K74+K75+K76+K77+K82)","v":0},{"$f":"SUM(L65+L66+L68++L69+L70+L71+L72+L73+L74+L75+L76+L77+L82)","v":0},{"$f":"IF(Q110=0, \"\", (Q110-L110)/Q110)","v":""},null,"Теплые полы",null,{"$f":"SUM(G65+G66+G68+G69+G70+G71+G72+G73+G74+G75+G76+G77+G82)","v":0}]
[null,null,null,null,null,null,null,null,{"$f":"SUM(#REF!)","v":{"$error":"#REF!"}},{"$f":"SUM(#REF!)","v":{"$error":"#REF!"}},{"$f":"SUM(#REF!)","v":{"$error":"#REF!"}},{"$f":"SUM(#REF!)","v":{"$error":"#REF!"}},{"$f":"IF(Q111=0, \"\", (Q111-L111)/Q111)","v":{"$error":"#REF!"}},null,"Теплотрасса",null,{"$f":"SUM(#REF!)","v":{"$error":"#REF!"}}]

{"sheet":"Кот PPR (бюджет)","index":10,"n_rows":79,"n_cols":14,"rows_kept":79,"cut":false,"hidden":false,"merged":[[0,0,0,6],[1,1,1,6],[2,0,2,6],[3,7,4,7],[9,0,9,6],[3,0,3,6],[10,0,17,0],[34,0,40,0],[79,9,80,10],[18,0,25,0],[26,0,30,0],[31,0,33,0],[50,13,52,13],[60,0,60,6],[67,0,67,4],[71,9,72,10],[67,5,67,6],[69,0,69,4],[69,5,69,6],[71,11,72,12],[71,0,71,1]]}
["Приложение №    к Договору подряда №    ______________от_____________",null,null,null,null,null,null,null,{"$f":"РАБОТЫ!A1","v":"Дата"}]
[{"$f":"TODAY()","v":"2024-02-02"},"Данный сметный расчёт действителен 7 календарных дней. По истечению срока, цены могут быть изменены.",null,null,null,null,null,"курс €","для узлов \"/\"","для Котлов \"/\"","для Бойлеров \"/\"","для Ecosystem \"/\""]
["Сметный расчет Котельная (FV)",null,null,null,null,null,null,{"$f":"'ОВиВК ТЕСЕ'!I2","v":100},0.45,0.93,0.93,0.8]
["Теплотрасса",null,null,null,null,null,null,null,{"$f":"РАБОТЫ!A2","v":"2,5% размазаная себестомость ( Амортизация, расходники, надбавка за разряд, гсп прораба) "}]
["Материалы/услуги","Описание","Кол-во","Ед.изм","Мат-ал, руб","Работа, руб ","Итого, руб",null,"Материал","Бригада","Прораб","Итого","Рента"]
["Узел  ТТ1 до150м2 ","Обвязка теплотрассы, подключение к коллекторам и насосам",null,"компл",{"$f":"(I6/0.65)*J75","v":0},{"$f":"((J6+K6)/0.65)*$K$75","v":0},{"$f":"F6+E6","v":0},null,{"$f":"$C6*(УЗЛЫ!C8*0.5)*L75","v":0},{"$f":"$C6*РАБОТЫ!C7*M75","v":0},{"$f":"$C6*РАБОТЫ!D7*M75","v":0},{"$f":"SUM(I6:K6)","v":0},{"$f":"IF(G6=0,\"\",(G6-L6)/G6)","v":""},"* Обвязка с одной стороны, в случае обвязки с двух сторон - 2 компл."]
["Узел ТТ2 150-200м2 ","Обвязка теплотрассы, подключение к коллекторам и насосам",null,"компл",{"$f":"(I7/0.65)*$J$75","v":0},{"$f":"((J7+K7)/0.65)*$K$75","v":0},0,null,{"$f":"$C7* (УЗЛЫ!C9*0.5)*L75","v":0},{"$f":"$C7*РАБОТЫ!C7*M75","v":0},{"$f":"$C7*РАБОТЫ!D7*M75","v":0},0,""]
["Греющий кабель для узла ввода воды","Греющий кабель ",null,"шт.",{"$f":"I8/0.8*$J$75","v":0},{"$f":"(SUM(J8:K8)/$I$3)*$K$75","v":0},0,null,{"$f":"C8*УЗЛЫ!C198*L75","v":0},{"$f":"C8*((РАБОТЫ!C102)*0.4)*M75","v":0},{"$f":"C8*((РАБОТЫ!D102)*0.4)*M75","v":0},0,""]
["Автоматика","Датчик температуры МЛ-722 (DS)",null,"шт.",{"$f":"(I9/0.65)*$J$75","v":0},{"$f":"((J9+K9)/0.65)*$K$75","v":0},0,null,{"$f":"$C9* УЗЛЫ!C12*L75","v":0},{"$f":"($C9*РАБОТЫ!C8)*M75","v":0},{"$f":"$C9*РАБОТЫ!D8*M75","v":0},0,""]
["Котельная (Для каркасных перегородок необходимо усиление)"]
["Котел газовый (мощность выбирается на 10 кв.м - 1,2 кВт, если дом деревянный)","Газовый котел Baxi LUNA 3 comfort (1.240 Fi кВт) (Одноконтурный, настенный, турб.)",null,"шт.",{"$f":"I11/0.9","v":0},null,{"$f":"E11+F11","v":0},"↗",{"$f":"C11*УЗЛЫ!C133","v":0},null,null,{"$f":"SUM(I11:K11)","v":0},{"$f":"IF(G11=0,\"\",(G11-L11)/G11)","v":""}]
[null,"Газовый котел Baxi LUNA 3 comfort (1.310 Fi кВт) (Одноконтурный, настенный, турб.)",null,"шт.",{"$f":"I12/0.9","v":0},null,0,"↗",{"$f":"C12*УЗЛЫ!C134","v":0},null,null,{"$f":"SUM(I12:K12)","v":0},{"$f":"IF(G12=0,\"\",(G12-L12)/G12)","v":""}]
[null,"Газовый котел Baxi LUNA 3 comfort (1.240 Fi кВт) (Двухконтурный, настенный, турб.)",null,"шт.",{"$f":"I13/0.9","v":0},null,0,"↗",{"$f":"C13*УЗЛЫ!C135","v":0},null,null,{"$f":"SUM(I13:K13)","v":0},{"$f":"IF(G13=0,\"\",(G13-L13)/G13)","v":""}]
[null,"Газовый котел Baxi LUNA 3 comfort (1.310 Fi кВт) (Двухконтурный, настенный, турб.)",null,"шт.",{"$f":"I14/0.9","v":0},null,0,"↗",{"$f":"C14*УЗЛЫ!C136","v":0},null,null,{"$f":"SUM(I14:K14)","v":0},""]
[null,"Узел подключения одноконтурного/двухконтурого котла",null,"компл.",{"$f":"I15/0.6*$J$75","v":0},{"$f":"(SUM(J15:K15)/0.6)*$K$75","v":0},{"$f":"E15+F15","v":0},null,{"$f":"C15*УЗЛЫ!C199*L75","v":0},{"$f":"C15*РАБОТЫ!C54*M75","v":0},{"$f":"C15*РАБОТЫ!D54*M75","v":0},0,""]
[null,"Узел общей обвязки котельной для двухконтурного котла",null,"компл.",{"$f":"I16/0.6*$J$75","v":0},{"$f":"(SUM(J16:K16)/0.6)*$K$75","v":0},0,null,{"$f":"C16*(УЗЛЫ!C208+УЗЛЫ!C210+УЗЛЫ!C221)*L75","v":0},{"$f":"C16*РАБОТЫ!C65","v":0},{"$f":"C16*РАБОТЫ!D65","v":0},0,""]
[null,"Узел общей обвязки котельной для одноконтурного котла",null,"компл.",{"$f":"I17/0.6*$J$75","v":0},{"$f":"(SUM(J17:K17)/0.6)*$K$75","v":0},0,null,{"$f":"C17*(УЗЛЫ!C207+УЗЛЫ!C210+УЗЛЫ!C221)*L75","v":0},{"$f":"C17*РАБОТЫ!C65","v":0},{"$f":"C17*РАБОТЫ!D65","v":0},0,""]
[null,"Узел Минерит+Лист нержи. (Только для брусовой котельной)",null,"компл.",{"$f":"I18/$I$3*$J$75","v":0},{"$f":"(SUM(J18:K18)/$I$3)*$K$75","v":0},0,null,{"$f":"C18*УЗЛЫ!C209*L75","v":0},{"$f":"C18*(РАБОТЫ!C54*0.2)*M75","v":0},{"$f":"C18*(РАБОТЫ!D54*0.2)*M75","v":0},0,""]
["Котёл электрический                                                                  (Резервный котёл предназначен для поддержания положительной температуры в доме ((Не является заменой основному теплогениратору). Не сможет обеспечить прогревание воды до оптимальной температуры и прогрев всего дома)","STOUT котёл электрический 9 кВт",null,"шт.",{"$f":"I19/$J$3*$J$75","v":0},null,0,null,{"$f":"C19*УЗЛЫ!C141","v":0},null,null,0,""]
[null,"STOUT котёл электрический 12 кВт",null,"шт.",{"$f":"I20/$J$3*$J$75","v":0},null,0,null,{"$f":"C20*УЗЛЫ!C142","v":0},null,null,0,""]
[null,"STOUT котёл электрический 14 кВт",null,"шт.",{"$f":"I21/$J$3*$J$75","v":0},null,0,null,{"$f":"C21*УЗЛЫ!C143","v":0},null,null,0,""]
[null,"STOUT котёл электрический 18 кВт",null,"шт.",{"$f":"I22/$J$3*$J$75","v":0},null,0,null,{"$f":"C22*УЗЛЫ!C144","v":0},null,null,0,""]
[null,"Подключение основного Электрического котла (Отопление + ГВС)",null,"шт.",{"$f":"I23/0.6*$J$75","v":0},{"$f":"(SUM(J23:K23)/0.6)*$K$75","v":0},{"$f":"E23+F23","v":0},null,{"$f":"C23*УЗЛЫ!C213*L75","v":0},{"$f":"C23*(РАБОТЫ!C54+РАБОТЫ!C64)","v":0},{"$f":"C23*(РАБОТЫ!D54+РАБОТЫ!D64)","v":0},0,""]
[null,"Подключение основного Электрического котла (Отопление)",null,"шт.",{"$f":"I24/0.6*$J$75","v":0},{"$f":"(SUM(J24:K24)/0.6)*$K$75","v":0},{"$f":"E24+F24","v":0},null,{"$f":"C24*УЗЛЫ!C214*L75","v":0},{"$f":"C24*(РАБОТЫ!C54*0.9)*M75","v":0},{"$f":"C24*(РАБОТЫ!D54*0.9)*M75","v":0},0,""]
[null,"Подключение резервного Электрического котла (Отопление + ГВС)",null,"шт.",{"$f":"I25/0.6*$J$75","v":0},{"$f":"(SUM(J25:K25)/0.6)*$K$75","v":0},0,null,{"$f":"C25*УЗЛЫ!C215*L75","v":0},{"$f":"C25*(РАБОТЫ!C54+РАБОТЫ!C64)","v":0},{"$f":"C25*(РАБОТЫ!D54+РАБОТЫ!D64)","v":0},0,""]
[null,"Подключение резервного Электрического котла (Отопление)",null,"шт.",{"$f":"I26/0.6*$J$75","v":0},{"$f":"(SUM(J26:K26)/0.6)*$K$75","v":0},0,null,{"$f":"C26*УЗЛЫ!C216*L75","v":0},{"$f":"C26*(РАБОТЫ!C54*0.9)*M75","v":0},{"$f":"C26*(РАБОТЫ!D54*0.9)*M75","v":0},0,""]
["Автоматика Zont","Zont Climatic 1.3 (741) Погодозависимый автоматический регулятор для многоконтурных систем отопления (1прямой + 3смесительных контура) Zont Плата цифровой шины для Zont Climatic **",null,"шт.",{"$f":"I27/J3","v":0},{"$f":"(SUM(J27:K27)/0.5)*$K$75","v":0},0,null,{"$f":"C27*(УЗЛЫ!C145+УЗЛЫ!C146)","v":0},{"$f":"(C27*РАБОТЫ!C74)+(C27*2900)","v":0},{"$f":"(C27*РАБОТЫ!G74)+(C27*600)","v":0},0,""]
[null,"Zont Climatic 1.3 (741) Погодозависимый автоматический регулятор для многоконтурных систем отопления (1прямой + 3смесительных контура) Zont Плата цифровой шины  для Zont Climatic (2шт.) **",null,"шт.",{"$f":"I28/J3","v":0},{"$f":"(SUM(J28:K28)/0.53)*$K$75","v":0},0,null,{"$f":"C28*(УЗЛЫ!C145+УЗЛЫ!C146+УЗЛЫ!C146)","v":0},{"$f":"(C28*РАБОТЫ!C75)+(C28*2900)","v":0},{"$f":"(C28*РАБОТЫ!D75)++(C28*600)","v":0},0,""]
[null,"Zont Smart 2.0 (744) Отопительный  GSM / WiFi контроллер для газовых и электрических котлов. Адаптер для подключения по цифровой шине **",null,"шт.",{"$f":"I29/J3","v":0},{"$f":"(SUM(J29:K29)/0.6)*$K$75","v":0},0,null,{"$f":"C29*(УЗЛЫ!C147+УЗЛЫ!C148)","v":0},{"$f":"(C29*РАБОТЫ!C76)++(C29*2900)","v":0},{"$f":"(C29*РАБОТЫ!D76)++(C29*600)","v":0},0,""]
[null,"Комплект беспроводных датчиков для автоматики (наружный + внутренний)",null,"шт.",{"$f":"I30/0.8","v":0},{"$f":"(SUM(J30:K30)/0.65)*$K$75","v":0},{"$f":"E30+F30","v":0},null,{"$f":"C30*УЗЛЫ!C149","v":0},{"$f":"C30*РАБОТЫ!C77","v":0},{"$f":"C30*РАБОТЫ!D77","v":0},0,""]
[null,"Датчик температуры комнатный (проводной)",null,"шт.",{"$f":"I31/0.93","v":0},{"$f":"(SUM(J31:K31)/0.65)*$K$75","v":0},0,null,{"$f":"C31*УЗЛЫ!C150","v":0},{"$f":"C31*РАБОТЫ!C77","v":0},{"$f":"C31*РАБОТЫ!D77","v":0},0,""]
[null,"Коаксиальный дымоход с проходом через кровлю  80/125",null,"шт.",{"$f":"I32/0.6*$J$75","v":0},{"$f":"(SUM(J32:K32)/0.5)*$K$75","v":0},0,null,{"$f":"C32*УЗЛЫ!C212*L75","v":0},{"$f":"$C32* РАБОТЫ!C80*M75","v":0},{"$f":"$C32* РАБОТЫ!D80*M75","v":0},0,""]
[null,"Коаксиальный дымоход с проходом через кровлю для 1 этажного дома",null,"шт.",{"$f":"I33/0.6*$J$75","v":0},{"$f":"(SUM(J33:K33)/0.5)*$K$75","v":0},0,null,{"$f":"C33*УЗЛЫ!C590*L75","v":0},{"$f":"C33*РАБОТЫ!C82*M75","v":0},{"$f":"C33*РАБОТЫ!D82*M75","v":0},0,""]
[null,"Коаксиальный дымоход с проходом через стену",null,"шт.",{"$f":"I34/0.6*$J$75","v":0},{"$f":"(SUM(J34:K34)/0.4)*$K$75","v":0},0,null,{"$f":"C34*УЗЛЫ!C211*L75","v":0},{"$f":"$C34* РАБОТЫ!C83*M75","v":0},{"$f":"$C34* РАБОТЫ!D83*M75","v":0},0,""]
["Монтаж бойлера косвенного нагрева","Бойлер 150 Stout",null,"шт.",{"$f":"I35*$J$75/$L$3","v":0},null,0,"↗",{"$f":"$C35* УЗЛЫ!C162","v":0},null,null,0,""]
[null,"Бойлер 200 Stout",null,"шт.",{"$f":"I36*$J$75/$L$3","v":0},null,0,"↗",{"$f":"$C36* УЗЛЫ!C163","v":0},null,null,0,""]
[null,"Бойлер 300  Stout",null,"шт.",{"$f":"I37*$J$75/$L$3","v":0},null,0,"↗",{"$f":"C37*УЗЛЫ!C165","v":0},null,null,0,""]
[null,"Водонагреватель Thermex ЭдЭ001694 Thermex НЭВН Нержавейка THERMEX MK 80 V Плоский MECHANIK - MK Нержавейка",null,"шт.",{"$f":"I38*$J$75/$K$3","v":0},null,0,"↗",{"$f":"C38*УЗЛЫ!C173*L75","v":0},null,null,0,""]
[null,"Узел подключения электрического бойлера 100л",null,"компл.",{"$f":"I39/0.6*$J$75","v":0},{"$f":"(SUM(J39:K39)/0.6)*$K$75","v":0},0,null,{"$f":"C39*УЗЛЫ!C174*L75","v":0},{"$f":"C39*РАБОТЫ!C95*M75","v":0},{"$f":"C39*РАБОТЫ!D95*M75","v":0},0,""]
[null,"Узел подключения бойлера косвенного нагрева 150/200 л",null,"компл.",{"$f":"I40/0.6*$J$75","v":0},{"$f":"(SUM(J40:K40)/0.6)*$K$75","v":0},0,null,{"$f":"C40*УЗЛЫ!C166*L75","v":0},{"$f":"C40*РАБОТЫ!C86*M75","v":0},{"$f":"C40*РАБОТЫ!D86*M75","v":0},0,""]
[null,"Узел подключения бойлера косвенного нагрева 300 л",null,"компл.",{"$f":"I41/0.6*$J$75","v":0},{"$f":"(SUM(J41:K41)/0.6)*$K$75","v":0},0,null,{"$f":"C41*УЗЛЫ!C167*L75","v":0},{"$f":"C41*РАБОТЫ!C87*M75","v":0},{"$f":"C41*РАБОТЫ!D87*M75","v":0},0,""]
["Рециркуляция ГВС (опционально)","Узел подключения насоса циркуляции к бойлеру косвенного нагрева",null,"компл.",{"$f":"I42/$I$3*$J$75","v":0},{"$f":"(SUM(J42:K42)/$I$3)*$K$75","v":0},0,null,{"$f":"C42*УЗЛЫ!C205*L75","v":0},{"$f":"C42*РАБОТЫ!C96*M75","v":0},{"$f":"C42*РАБОТЫ!D96*M75","v":0},0,""]
["Байпас для водоподготовки / фильтра","Узел подключения байпаса водоподготовки к узлу ввода воды",null,"компл.",{"$f":"I43/$I$3*$J$75","v":0},{"$f":"(SUM(J43:K43)/$I$3)*$K$75","v":0},0,null,{"$f":"C43*УЗЛЫ!C203*L75","v":0},{"$f":"C43*((РАБОТЫ!C103)*0.5)*M75","v":0},{"$f":"C43*((РАБОТЫ!D103)*0.5)*M75","v":0},0,""]
["Полив","Узел подключения вывода на полив к узлу ввода воды",null,"компл.",{"$f":"I44/$I$3*$J$75","v":0},{"$f":"(SUM(J44:K44)/$I$3)*$K$75","v":0},0,null,{"$f":"C44*УЗЛЫ!C200*L75","v":0},{"$f":"C44*((РАБОТЫ!C102)*0.4)*M75","v":0},{"$f":"C44*((РАБОТЫ!D102)*0.4)*M75","v":0},0,""]
["Расширительный бак ","Узел подключения расширительного бака отопления к системе",null,"компл.",{"$f":"I45/$I$3*$J$75","v":0},{"$f":"(SUM(J45:K45)/$I$3)*$K$75","v":0},0,null,{"$f":"C45*УЗЛЫ!C201*L75","v":0},{"$f":"C45*РАБОТЫ!C102*M75","v":0},{"$f":"C45*РАБОТЫ!D102*M75","v":0},0,""]
["Теплый пол","Узел подключения насосной группы теплого пола к системе отопления",null,"компл.",{"$f":"I46/0.55*$J$75","v":0},{"$f":"(SUM(J46:K46)/0.35)*$K$75","v":0},0,null,{"$f":"C46*УЗЛЫ!C188*L75","v":0},{"$f":"C46*РАБОТЫ!C101*M75","v":0},{"$f":"C46*РАБОТЫ!D101*M75","v":0},0,""]
["Узел ввода воды от скважины (В КОТЕЛЬНОЙ) с гидроаккумулятором","Материалы, Гидроаккумулятор, Реле давления скважины, Грязевой фильтр, Редуктор, Полипропилен.",null,"компл.",{"$f":"I47/$I$3*$J$75","v":0},{"$f":"(SUM(J47:K47)/$I$3)*$K$75","v":0},0,null,{"$f":"C47*УЗЛЫ!C196*L75","v":0},{"$f":"C47*(РАБОТЫ!C102+РАБОТЫ!C103)*M75","v":0},{"$f":"C47*(РАБОТЫ!D102+РАБОТЫ!D103)*M75","v":0},0,""]
["Узел ввода воды от скважины (В КОТЕЛЬНОЙ) без гидроаккумулятора","Материалы, Редуктор, Грязевой фильтр, Полипропилен.",null,"компл.",{"$f":"I48/$I$3*$J$75","v":0},0,0,null,{"$f":"C48*УЗЛЫ!C195*L75","v":0},{"$f":"C48*((РАБОТЫ!C102+РАБОТЫ!C103)*0.7)*M75","v":0},{"$f":"C48*((РАБОТЫ!D102+РАБОТЫ!D103)*0.7)*M75","v":0},0,""]
["Узел ввода воды из центрального водоснабжения (В КОТЕЛЬНОЙ)","Материалы, Счетчик ХВС, Редуктор, Грязевой фильтр, Полипропилен.",null,"компл.",{"$f":"I49/$I$3*$J$75","v":0},0,0,null,{"$f":"C49*УЗЛЫ!C197*L75","v":0},{"$f":"C49*((РАБОТЫ!C102+РАБОТЫ!C103)*0.85)*M75","v":0},{"$f":"C49*((РАБОТЫ!D102+РАБОТЫ!D103)*0.85)*M75","v":0},0,""]
["Греющий кабель для узла ввода воды","Греющий кабель ",null,"шт.",{"$f":"I50/0.8*$J$75","v":0},0,0,null,{"$f":"C50*УЗЛЫ!C198*L75","v":0},{"$f":"C50*((РАБОТЫ!C102)*0.4)*M75","v":0},{"$f":"C50*((РАБОТЫ!D102)*0.4)*M75","v":0},0,""]
["Защита от протечек воды в доме.","Автоматический запорный кран для защиты от протечек с 4 радиодатчиками и WiFi  модуль (настройка системы и запуск производится на пуско-наладочных работах котельной) ",null,"компл.",{"$f":"I51/$I$3*$J$75*0.6","v":0},0,0,null,{"$f":"$C51* УЗЛЫ!C192*L75","v":0},{"$f":"$C51*( РАБОТЫ!C105+ РАБОТЫ!C106)*M75","v":0},{"$f":"$C51* (РАБОТЫ!D105+ РАБОТЫ!D106)*M75","v":0},0,""]
["Flamko Сепаратор","Flamko Сепаратор воздуха и шлама Flamcovent Clean Smart 3/4",null,"шт.",{"$f":"(I52/$I$3)*$J$75","v":0},0,0,"↗",{"$f":"C52*УЗЛЫ!C219*L75","v":0},{"$f":"C52*РАБОТЫ!C110*M75","v":0},{"$f":"C52*РАБОТЫ!D110*M75","v":0},0,""]
["Стабилизатор напряжения (рекомендуется производителями газовых котлов).","Стабилизатор необходим для защиты котла от перепадов напряжения",1,"шт.",{"$f":"(I53/0.97)*$J$75","v":14313.814432989691},1297.877777777778,15611.692210767469,"↗",{"$f":"$C53* УЗЛЫ!C193","v":13884.4},{"$f":"$C53* РАБОТЫ!C107*M75","v":490.46250000000003},{"$f":"$C53* РАБОТЫ!D107*M75","v":93.58250000000001},14468.445,7.3230191534199324E-2]
["Монтаж электрики для котельного оборудования","Силовые Электрические подключения в котельной (монтаж кабель-каналов, установка и и расключение финишных розеток, установка проводов и вилок на насосы и котлы (не требующие подключения в автоматику управления) ,монтаж заземления КШ, коллекторов , бойлера, котла.",1,"усл",{"$f":"I54/0.9","v":17768.888888888887},{"$f":"(J54+K54)/0.8","v":9000},{"$f":"E54+F54","v":26768.888888888887},null,{"$f":"C54*РАБОТЫ!F255","v":15992},{"$f":"C54*РАБОТЫ!C255","v":6000},{"$f":"C54*РАБОТЫ!D255","v":1200},{"$f":"SUM(I54:K54)","v":23192},0.13362111904366589]
["Беспроводная GSM - Розетка (материал)","Дистанционно управляемая розетка. GSM-розетка поможет предупредить отключение электроотопительного оборудования и, как следствие, промерзание дома и коммуникаций зимой. Прибор отправляет сигналы в отдел сервиса GOOD WOOD. Аварийный сигнал дублируется в ленте личного кабинета клиента и отправляется через SMS",1,"шт.",{"$f":"I55/0.8","v":5875},null,{"$f":"E55+F55","v":5875},null,{"$f":"C55*РАБОТЫ!F253","v":4700},{"$f":"C55*РАБОТЫ!C253","v":500},null,{"$f":"SUM(I55:K55)","v":5200},0.1148936170212766]
["Беламос Реле давления PS-02C (М) ","Оповещает о падении давления в системе отопления. ",{"$f":"C55","v":1},"шт. ",{"$f":"I56/0.9","v":669.50000000000011},null,669.50000000000011,null,{"$f":"C56*УЗЛЫ!C222","v":602.55000000000007},null,null,602.55000000000007,0.10000000000000005]
["Место под установку планируемого настенного котла","Разметка, подготовка места с установкой фитингов под планируемый котёл",null,"усл",{"$f":"(I57/0.8)*$J$75","v":0},{"$f":"(SUM(J57:K57)/0.61)*$K$75","v":0},0,null,{"$f":"C57*УЗЛЫ!C220","v":0},{"$f":"C57*РАБОТЫ!C109","v":0},{"$f":"C57*РАБОТЫ!D109","v":0},0,""]
["Комплект для перехода на С/Г при наличии газгольдера","Комплект для перенастройки котлов на сжиженный газ ",null,"компл.",{"$f":"(I58/$I$3)*$J$75","v":0},{"$f":"(SUM(J58:K58)/$I$3)*$K$75","v":0},0,"↗",{"$f":"$C58* УЗЛЫ!C194*L75","v":0},{"$f":"$C58* РАБОТЫ!C108*M75","v":0},{"$f":"$C58* РАБОТЫ!D108*M75","v":0},0,""]
["Итого материал:                                                                                                                                                                                                                                                              ",null,null,null,null,null,{"$f":"SUM(E11:E58,E6:E9)","v":38627.20332187858},null,null,null,null,{"$f":"SUM(I11:I58)","v":35178.950000000004},8.9270074593401208E-2]
["Работа:                                                                                                                                                                                                                                                                              ",null,null,null,null,null,{"$f":"SUM(F11:F58,F6:F9)","v":10297.877777777778},null,null,null,null,{"$f":"SUM(J11:K58)","v":8284.0450000000001},0.19555803838762895]
["Дополнительно",null,null,null,null,null,null,null,null,null,null,null,""]
["Материалы/услуги","Описание","Кол-во","Ед.изм","Мат-ал, руб","Работа, руб ","Итого, руб"]
["Закладная гильза","Гильза устанавливается в \"пироге пола\" для дальнейшего ввода коммуникаций",null,"шт.",0,{"$f":"C63*2500","v":0},{"$f":"F63+E63","v":0},null,null,null,{"$f":"1250*C63","v":0}]
["Проходные отверстия в плите","Алмазное сверление",null,"шт.",{"$f":"0*C64","v":0},{"$f":"IF($C$64=0,0,\nIF($C$64<4,9000,\nIF($C$64>3,9000+2300*($C$64-3))))","v":0},{"$f":"F64+E64","v":0},null,null,null,{"$f":"IF($C$64=0,0,\nIF($C$64<4,6000,\nIF($C$64>3,6000+1700*($C$64-3))))","v":0}]
["Подготовительные и накладные расходы","Включают разработку комплекта документов для монтажа, проверку ОТК и приемку каждого этапа работ инженерами технического надзора, соблюдение стандарта компании",1,"Усл.",null,{"$f":"C65*33000","v":33000},{"$f":"F65*C65","v":33000},null,{"$f":"IF(ПНР!L18=0,30000,ПНР!L18)","v":3800},2000,4500,{"$f":"5500+6500","v":12000}]
["Транспортные расходы ","Доставка оборудования и материалов на объект",1,"усл.",null,{"$f":"C66*19500","v":19500},{"$f":"F66","v":19500},null,null,null,null,10000]
["Доставка бытовки на объект","Если есть такая необходимость, мы предоставляем бытовку для проживания на объекте строителей. После окончания работ бытовка вывозится.",null,"км от мкад",null,null,{"$f":"IF(C67=0,0,\nIF(C67<100,24000,\nIF(C67<150,30000,36000)))","v":0},null,null,null,null,{"$f":"IF(C67=0,0,\nIF(C67<=50,13500,\nIF(C67<=100,17000,\nIF(C67<=150,20500,\nIF(C67<=200,24000,\nIF(C67<=250,27500,\nIF(C67>250,31000,)))))))","v":0}]
["Итого по смете:",null,null,null,null,{"$f":"SUM(G59:G60,G63:G67)","v":101425.08109965635},null,null,{"$f":"SUM(I11:I58,I63:I67,I6:I9)","v":38978.950000000004},{"$f":"SUM(J12:J58,J63:J67,J6:J9)","v":8990.4624999999996},{"$f":"SUM(K12:K58,K63:K67,K6:K9)","v":5793.5825000000004},{"$f":"SUM(I68:K68,L63:L67)","v":75762.99500000001},{"$f":"IF(F68=0,\"\",(F70-L68)/F70)","v":0.25301518935382239}]
["Корректировка стоимости (скидка):"]
["Итого по смете с учетом скидки:",null,null,null,null,{"$f":"F68-G69","v":101425.08109965635}]
[]
["** Полноценная настройка автоматики возможна только при наличии интернета WiFi или 2G.GSM.\n ",null,null,null,null,null,null,null,null,"Коэффициент для заказчика",null,"Коэффициент для СЕБЕСА (дом свыше 350м2)"]
[null,{"$f":"РАБОТЫ!$A$1","v":"Дата"}]
[null,null,null,null,null,null,null,null,null,"Мат","Раб","Мат","Раб"]
[null,null,null,null,null,null,null,null,null,1,1,1,1]
["Заказчик:"]
[]
[]
["Подрядчик:"]

{"sheet":"Кот ППР 23","index":11,"n_rows":79,"n_cols":14,"rows_kept":79,"cut":false,"hidden":false,"merged":[[75,0,75,1],[75,9,76,10],[75,11,76,12],[83,9,84,10],[55,13,56,13],[64,0,64,6],[71,0,71,4],[71,5,71,6],[73,0,73,4],[73,5,73,6],[3,7,4,7],[9,0,9,6],[47,0,50,0],[0,0,0,6],[1,1,1,6],[2,0,2,6],[3,0,3,6],[10,0,20,0],[21,0,25,0],[32,0,34,0],[35,0,42,0],[26,0,31,0]]}
["Приложение №    к Договору подряда №    ______________от_____________",null,null,null,null,null,null,null,{"$f":"РАБОТЫ!A1","v":"Дата"}]
[{"$f":"TODAY()","v":"2024-02-02"},"Данный сметный расчёт действителен 7 календарных дней. По истечению срока, цены могут быть изменены.",null,null,null,null,null,"курс €","для узлов \"/\"","для Котлов \"/\"","для Бойлеров \"/\"","для Ecosystem \"/\""]
["Сметный расчет Котельная ППР ",null,null,null,null,null,null,{"$f":"'ОВиВК ТЕСЕ'!I2","v":100},0.45,0.93,0.93,0.8]
["Теплотрасса",null,null,null,null,null,null,"Ссылка на маркет",{"$f":"РАБОТЫ!A1","v":"Дата"}]
["Материалы/услуги","Описание","Кол-во","Ед.изм","Мат-ал, руб","Работа, руб ","Итого, руб",null,"Материал","Бригада","Прораб","Итого","Рента"]
["Узел  ТТ1 до150м2 ","Обвязка теплотрассы, подключение к коллекторам и насосам",null,"компл",{"$f":"(I6/0.65)*J79","v":0},{"$f":"((J6+K6)/0.65)*K79","v":0},{"$f":"F6+E6","v":0},null,{"$f":"$C6*(УЗЛЫ!C8*0.5)*L79","v":0},{"$f":"$C6*РАБОТЫ!C7*M79","v":0},{"$f":"$C6*РАБОТЫ!D7*M79","v":0},{"$f":"SUM(I6:K6)","v":0},{"$f":"IF(G6=0,\"\",(G6-L6)/G6)","v":""},"* Обвязка с одной стороны, в случае обвязки с двух сторон - 2 компл."]
["Узел ТТ2 150-200м2 ","Обвязка теплотрассы, подключение к коллекторам и насосам",null,"компл",{"$f":"(I7/0.65)*$J$79","v":0},{"$f":"((J7+K7)/0.65)*$K$79","v":0},0,null,{"$f":"$C7* (УЗЛЫ!C9*0.5)*L79","v":0},{"$f":"$C7*РАБОТЫ!C7*M79","v":0},{"$f":"$C7*РАБОТЫ!D7*M79","v":0},0,""]
["Греющий кабель для узла ввода воды","Ввод воды с греющим кабелем ",null,"шт.",{"$f":"I8/0.8*$J$79","v":0},{"$f":"(SUM(J8:K8)/$I$3)*$K$79","v":0},0,null,{"$f":"C8*(+УЗЛЫ!C615)*L79","v":0},{"$f":"C8*((РАБОТЫ!C102)*0.4)*M79","v":0},{"$f":"C8*((РАБОТЫ!D102)*0.4)*M79","v":0},0,""]
["Автоматика","Датчик температуры МЛ-722 (DS)",null,"шт.",{"$f":"(I9/0.65)*$J$79","v":0},{"$f":"((J9+K9)/0.65)*$K$79","v":0},0,null,{"$f":"$C9* УЗЛЫ!C587*L79","v":0},{"$f":"($C9*РАБОТЫ!C8)*M79","v":0},{"$f":"$C9*РАБОТЫ!D8*M79","v":0},0,""]
["Котельная (Для каркасных перегородок необходимо усиление)"]
["Котел газовый (мощность выбирается на 10 кв.м - 1,2 кВт, если дом деревянный)","Газовый котел Baxi LUNA 3 comfort (1.240 Fi кВт) (Одноконтурный, настенный, турб.)",null,"шт.",{"$f":"I11/0.9","v":0},null,{"$f":"E11+F11","v":0},"↗",{"$f":"C11*УЗЛЫ!C567","v":0},null,null,{"$f":"SUM(I11:K11)","v":0},{"$f":"IF(G11=0,\"\",(G11-L11)/G11)","v":""}]
[null,"Газовый котел Baxi LUNA 3 comfort (1.310 Fi кВт) (Одноконтурный, настенный, турб.)",null,"шт.",{"$f":"I12/0.9","v":0},null,0,"↗",{"$f":"C12*УЗЛЫ!C568","v":0},null,null,{"$f":"SUM(I12:K12)","v":0},{"$f":"IF(G12=0,\"\",(G12-L12)/G12)","v":""}]
[null,"Газовый котел Baxi LUNA 3 comfort (1.240 Fi кВт) (Двухконтурный, настенный, турб.)",null,"шт.",{"$f":"I13/0.9","v":0},null,0,"↗",{"$f":"C13*УЗЛЫ!C569","v":0},null,null,{"$f":"SUM(I13:K13)","v":0},{"$f":"IF(G13=0,\"\",(G13-L13)/G13)","v":""}]
[null,"Газовый котел Baxi LUNA 3 comfort (1.310 Fi кВт) (Двухконтурный, настенный, турб.)",null,"шт.",{"$f":"I14/0.9","v":0},null,0,"↗",{"$f":"C14*УЗЛЫ!C570","v":0},null,null,{"$f":"SUM(I14:K14)","v":0},""]
[null,"Подключение газового котла ППР  БАКСИ",null,"компл.",{"$f":"I15/0.6*$J$79","v":0},{"$f":"(SUM(J15:K15)/0.6)*$K$79","v":0},0,null,{"$f":"C15*УЗЛЫ!C571*L79","v":0},{"$f":"C15*РАБОТЫ!C55*M79","v":0},{"$f":"C15*РАБОТЫ!D55*M79","v":0},0,""]
[null,"Общая обвязка котельного обрудования, включающая в себя трубопроводы, отводы, хомуты, лён, пасту, бирки и тд",null,"компл.",{"$f":"I16/$I$3*$J$79","v":0},null,0,null,{"$f":"C16*(УЗЛЫ!C572/3+УЗЛЫ!C576)","v":0},null,null,0,""]
[null,"Общая обвязка котельного обрудования, включающая в себя трубопроводы, отводы, хомуты, лён, пасту, бирки и тд (2 насоса)",null,"компл.",0,null,0,null,{"$f":"C17*(УЗЛЫ!C572+УЗЛЫ!$C$576)","v":0},null,null,{"$f":"SUM(I17:K17)","v":0},""]
[null,"Общая обвязка котельного обрудования, включающая в себя трубопроводы, отводы, хомуты, лён, пасту, бирки и тд (3 насоса)",null,"компл.",0,null,0,null,{"$f":"C18*(УЗЛЫ!C573+УЗЛЫ!$C$576)","v":0},null,null,0,""]
[null,"Общая обвязка котельного обрудования, включающая в себя трубопроводы, отводы, хомуты, лён, пасту, бирки и тд (4 насоса)",null,"компл.",0,null,0,null,{"$f":"C19*(УЗЛЫ!C574+УЗЛЫ!$C$576)","v":0},null,null,0,""]
[null,"Общая обвязка котельного обрудования, включающая в себя трубопроводы, отводы, хомуты, лён, пасту, бирки и тд (5 насосов)",null,"компл.",0,null,0,null,{"$f":"C20*(УЗЛЫ!C575+УЗЛЫ!$C$576)","v":0},null,null,0,""]
[null,"Узел Минерит+Лист нержавеющей стали  (Только для брусовой котельной!)",null,"компл.",0,{"$f":"(SUM(J21:K21)/$I$3)*$K$79","v":0},0,null,{"$f":"C21*УЗЛЫ!C577*L79","v":0},{"$f":"C21*(РАБОТЫ!C54*0.2)*M79","v":0},{"$f":"C21*(РАБОТЫ!D54*0.2)*M79","v":0},0,""]
["Котёл электрический                                                               (Резервный котёл предназначен для поддержания положительной температуры в доме ((Не является заменой основному теплогениратору). Не сможет обеспечить прогревание воды до оптимальной температуры и прогрев всего дома)","STOUT котёл электрический 9 кВт",null,"шт.",{"$f":"I22/$J$3*$J$79","v":0},null,0,null,{"$f":"C22*УЗЛЫ!C578","v":0},null,null,0,""]
[null,"STOUT котёл электрический 12 кВт",null,"шт.",{"$f":"I23/$J$3*$J$79","v":0},null,0,null,{"$f":"C23*УЗЛЫ!C579","v":0},null,null,0,""]
[null,"STOUT котёл электрический 14 кВт",null,"шт.",{"$f":"I24/$J$3*$J$79","v":0},null,0,null,{"$f":"C24*УЗЛЫ!C580","v":0},null,null,0,""]
[null,"STOUT котёл электрический 18 кВт",null,"шт.",{"$f":"I25/$J$3*$J$79","v":0},null,0,null,{"$f":"C25*УЗЛЫ!C581","v":0},null,null,0,""]
[null,"Подключение резервного электрического котла ППР",null,"шт.",{"$f":"I26/0.6*$J$79","v":0},{"$f":"(SUM(J26:K26)/0.6)*$K$79","v":0},{"$f":"E26+F26","v":0},null,{"$f":"C26*УЗЛЫ!C582*L79","v":0},{"$f":"C26*РАБОТЫ!C61*M79","v":0},{"$f":"C26*РАБОТЫ!D61*M79","v":0},0,""]
["Автоматика Zont","Zont Climatic 1.3 (741) Погодозависимый автоматический регулятор для многоконтурных систем отопления (1прямой + 3смесительных контура) Zont Плата цифровой шины для Zont Climatic **",null,"шт.",{"$f":"I27/J3","v":0},{"$f":"(SUM(J27:K27)/0.5)*$K$79","v":0},0,null,{"$f":"C27*(УЗЛЫ!C583+УЗЛЫ!C584)","v":0},{"$f":"(C27*РАБОТЫ!C74)+(C27*2900)","v":0},{"$f":"(C27*РАБОТЫ!D74)+(C27*600)","v":0},0,""]
[null,"Zont Climatic 1.3 (741) Погодозависимый автоматический регулятор для многоконтурных систем отопления (1прямой + 3смесительных контура) Zont Плата цифровой шины для Zont Climatic (2шт.) **",null,"шт.",{"$f":"I28/J3","v":0},{"$f":"(SUM(J28:K28)/0.53)*$K$79","v":0},0,null,{"$f":"C28*(УЗЛЫ!C583+УЗЛЫ!C584+УЗЛЫ!C584)","v":0},{"$f":"(C28*РАБОТЫ!C75)+(C28*2900)","v":0},{"$f":"(C28*РАБОТЫ!D75)+(C28*600)","v":0},0,""]
[null,"Zont Smart 2.0 (744) Отопительный  GSM / WiFi контроллер для газовых и электрических котлов. Адаптер для подключения по цифровой шине  **",null,"шт.",{"$f":"I29/J3","v":0},{"$f":"(SUM(J29:K29)/0.6)*$K$79","v":0},0,null,{"$f":"C29*(УЗЛЫ!C585+УЗЛЫ!C586)","v":0},{"$f":"(C29*РАБОТЫ!C76)+(C29*2900)","v":0},{"$f":"(C29*РАБОТЫ!D76)+(C29*600)","v":0},0,""]
[null,"Комплект беспроводных датчиков для автоматики (наружный + внутренний)",null,"шт.",{"$f":"I30/0.8","v":0},{"$f":"(SUM(J30:K30)/0.65)*$K$79","v":0},0,null,{"$f":"C30*УЗЛЫ!C588","v":0},{"$f":"C30*РАБОТЫ!C77","v":0},{"$f":"C30*РАБОТЫ!D77","v":0},0,""]
[null,"Датчик температуры комнатный ",null,"шт.",{"$f":"I31/0.93","v":0},{"$f":"(SUM(J31:K31)/0.65)","v":0},0,null,{"$f":"C31*УЗЛЫ!C587","v":0},{"$f":"C31*РАБОТЫ!C77","v":0},{"$f":"C31*РАБОТЫ!D77","v":0},0,""]
[null,"Блок расширения ЕХ-77 для Zont Climatic 1.3 / Блок питания 12-24V",null,"шт.",{"$f":"I32/0.8","v":0},{"$f":"(SUM(J32:K32)/0.6)","v":0},0,null,{"$f":"C32*(УЗЛЫ!C623+УЗЛЫ!C624)","v":0},{"$f":"C32*РАБОТЫ!C78","v":0},{"$f":"C32*РАБОТЫ!D78","v":0},0,""]
[null,"Коаксиальный дымоход с проходом через кровлю для 2 этажного дома",null,"шт.",{"$f":"I33/0.6*$J$79","v":0},{"$f":"(SUM(J33:K33)/0.5)*$K$79","v":0},0,null,{"$f":"C33*УЗЛЫ!C589*L79","v":0},{"$f":"$C33* РАБОТЫ!C80*M79","v":0},{"$f":"$C33* РАБОТЫ!D80*M79","v":0},0,""]
[null,"Коаксиальный дымоход с проходом через кровлю для 1 этажного дома",null,"шт.",{"$f":"I34/0.6*$J$79","v":0},{"$f":"(SUM(J34:K34)/0.5)*$K$79","v":0},0,null,{"$f":"C34*УЗЛЫ!C590*L79","v":0},{"$f":"C34*РАБОТЫ!C82*M79","v":0},{"$f":"C34*РАБОТЫ!D82*M79","v":0},0,""]
[null,"Коаксиальный дымоход с проходом через стену",null,"шт.",{"$f":"I35/0.6*$J$79","v":0},{"$f":"(SUM(J35:K35)/0.4)*$K$79","v":0},0,null,{"$f":"C35*УЗЛЫ!C591*L79","v":0},{"$f":"$C35* РАБОТЫ!C83*M79","v":0},{"$f":"$C35* РАБОТЫ!D83*M79","v":0},0,""]
["Монтаж бойлера косвенного нагрева","Бойлер напольный 150 Stout",null,"шт.",{"$f":"I36*$J$79/$L$3","v":0},null,0,"↗",{"$f":"$C36* УЗЛЫ!C592","v":0},null,null,0,""]
[null,"Бойлер напольный 200  Stout",null,"шт.",{"$f":"I37*$J$79/$L$3","v":0},null,0,"↗",{"$f":"$C37* УЗЛЫ!C593","v":0},null,null,0,""]
[null,"Бойлер напольный 300 Stout",null,"шт.",{"$f":"I38*$J$79/$L$3","v":0},null,0,"↗",{"$f":"$C38* УЗЛЫ!C594","v":0},null,null,0,""]
[null,"Бойлер настенный 150 Stout",null,"шт.",{"$f":"I39*$J$79/$L$3","v":0},null,0,null,{"$f":"$C39* УЗЛЫ!C595","v":0},null,null,0,""]
[null,"Бойлер настенный 200  Stout",null,"шт.",{"$f":"I40*$J$79/$L$3","v":0},null,0,null,{"$f":"$C40* УЗЛЫ!C596","v":0},null,null,0,""]
[null,"Подключение напольного бойлера Stout  150л/200л ППР",null,"компл.",{"$f":"I41/0.6*$J$79","v":0},{"$f":"(SUM(J41:K41)/0.6)*$K$79","v":0},0,"↗",{"$f":"C41*(УЗЛЫ!C598)*L79","v":0},{"$f":"C41*РАБОТЫ!C85*M79","v":0},{"$f":"C41*РАБОТЫ!D85*M79","v":0},0,""]
[null,"Подключение настенного бойлера  Stout 150л /200л ППР",null,"компл.",{"$f":"I42/0.6*$J$79","v":0},{"$f":"(SUM(J42:K42)/0.6)*$K$79","v":0},0,null,{"$f":"C42*(УЗЛЫ!C598+УЗЛЫ!C602)*L79","v":0},{"$f":"C42*(РАБОТЫ!C86+1000)*M79","v":0},{"$f":"C42*(РАБОТЫ!D86+200)*M79","v":0},0,""]
[null,"Подключение напольного бойлера Stout 300л ППР",null,"компл.",{"$f":"I43/0.6*$J$79","v":0},{"$f":"(SUM(J43:K43)/0.6)*$K$79","v":0},0,null,{"$f":"C43*(УЗЛЫ!C599)*L79","v":0},{"$f":"C43*РАБОТЫ!C87*M79","v":0},{"$f":"C43*РАБОТЫ!D87*M79","v":0},0,""]
["Рециркуляция ГВС (опционально)","Узел подключения насоса циркуляции к бойлеру косвенного нагрева ППР",null,"компл.",{"$f":"I44/$I$3*$J$79","v":0},{"$f":"(SUM(J44:K44)/$I$3)*$K$79","v":0},0,null,{"$f":"C44*УЗЛЫ!C604*L79","v":0},{"$f":"C44*РАБОТЫ!C96*M79","v":0},{"$f":"C44*РАБОТЫ!D96*M79","v":0},0,""]
["Байпас для водоподготовки / фильтра","Узел подключения байпаса водоподготовки к узлу ввода воды",null,"компл.",{"$f":"I45/$I$3*$J$79","v":0},{"$f":"(SUM(J45:K45)/$I$3)*$K$79","v":0},0,null,{"$f":"C45*УЗЛЫ!C605*L79","v":0},{"$f":"C45*((РАБОТЫ!C103)*0.5)*M79","v":0},{"$f":"C45*((РАБОТЫ!D103)*0.5)*M79","v":0},0,""]
["Полив","Узел подключения вывода на полив к узлу ввода воды",null,"компл.",{"$f":"I46/$I$3*$J$79","v":0},{"$f":"(SUM(J46:K46)/$I$3)*$K$79","v":0},0,null,{"$f":"C46*УЗЛЫ!C606*L79","v":0},{"$f":"C46*((РАБОТЫ!C102)*0.4)*M79","v":0},{"$f":"C46*((РАБОТЫ!D102)*0.4)*M79","v":0},0,""]
["Общая обвязка (монтаж)","Обвязка котельного оборудования без насосных групп ",null,"услуга",null,{"$f":"(SUM(J47:K47)/0.6)","v":0},0,null,null,{"$f":"C47*РАБОТЫ!C65","v":0},{"$f":"C47*РАБОТЫ!D65","v":0},0,""]
["Гидравлическая обвязка насосных групп на котллекторе с гидрострелкой","Монтаж насосных групп с коллектором и гидрострелкой, включает в себя 1 прямую насосную группу и 1 смесительную (2 насосные группы), расширительный бак, ППР",null,"компл.",{"$f":"I48/0.65*$J$79","v":0},{"$f":"(SUM(J48:K48)/$I$3)*$K$79","v":0},0,null,{"$f":"C48*УЗЛЫ!C607*L79","v":0},{"$f":"((C48*РАБОТЫ!C98)*3)+(C48*2719)*M79","v":0},{"$f":"((C48*РАБОТЫ!D98)*3)+(C48*516)*M79","v":0},{"$f":"SUM(I48:K48)","v":0},""]
[null,"Монтаж насосных групп с коллектором и гидрострелкой, включает в себя 1 прямую насосную группу и 2 смесительных (3 насосных группы) расширительный бак, ППР",null,"компл.",{"$f":"I49/0.65*$J$79","v":0},0,0,null,{"$f":"C49*УЗЛЫ!C608*L79","v":0},{"$f":"((C49*РАБОТЫ!C98)*4)+(C49*2719)*M79","v":0},{"$f":"((C49*РАБОТЫ!D98)*4)+(C49*516)*M79","v":0},0,""]
[null,"Монтаж насосных групп с коллектором и гидрострелкой, включает в себя 1 прямую насосную группу и 3 смесительных (4 насосных группы) расширительный бак, ППР",null,"компл.",{"$f":"I50/0.65*$J$79","v":0},0,0,null,{"$f":"C50*УЗЛЫ!C609*L79","v":0},{"$f":"((C50*РАБОТЫ!C99)*5)+(C50*2719)*M79","v":0},{"$f":"((C50*РАБОТЫ!D99)*5)+(C50*516)*M79","v":0},0,""]
[null,"Монтаж насосных групп с коллектором и гидрострелкой, включает в себя 1 прямую насосную группу и 4 смесительных (5 насосных группы) расширительный бак, ППР",null,"компл.",{"$f":"I51/0.65*$J$79","v":0},0,0,null,{"$f":"C51*УЗЛЫ!C610*L79","v":0},{"$f":"((C51*РАБОТЫ!C100)*6)+(C51*2719)*M79","v":0},{"$f":"((C51*РАБОТЫ!D100)*6)+(C51*516)*M79","v":0},0,""]
["Узел ввода воды от скважины (В КОТЕЛЬНОЙ) с гидроаккумулятором","Материалы, Гидроаккумулятор, Реле давления скважины, Грязевой фильтр, Редуктор, Полипропилен.",null,"компл.",{"$f":"I52/$I$3*$J$79","v":0},0,0,null,{"$f":"C52*УЗЛЫ!C611*L79","v":0},{"$f":"C52*(РАБОТЫ!C102+РАБОТЫ!C103)*M79","v":0},{"$f":"C52*(РАБОТЫ!D102+РАБОТЫ!D103)*M79","v":0},0,""]
["Узел ввода воды от скважины (В КОТЕЛЬНОЙ) без гидроаккумулятора","Материалы, Редуктор, Грязевой фильтр, Полипропилен.",null,"компл.",{"$f":"I53/$I$3*$J$79","v":0},0,0,null,{"$f":"C53*УЗЛЫ!C612*L79","v":0},{"$f":"C53*((РАБОТЫ!C102+РАБОТЫ!C103)*0.7)*M79","v":0},{"$f":"C53*((РАБОТЫ!D102+РАБОТЫ!D103)*0.7)*M79","v":0},0,""]
["Узел ввода воды из центрального водоснабжения (В КОТЕЛЬНОЙ)","Материалы, Счетчик ХВС, Редуктор, Грязевой фильтр, Полипропилен.",null,"компл.",{"$f":"I54/$I$3*$J$79","v":0},0,0,null,{"$f":"C54*УЗЛЫ!C613*L79","v":0},{"$f":"C54*((РАБОТЫ!C102+РАБОТЫ!C103)*0.85)*M79","v":0},{"$f":"C54*((РАБОТЫ!D102+РАБОТЫ!D103)*0.85)*M79","v":0},0,""]
["Греющий кабель для узла ввода воды","Греющий кабель",null,"шт.",{"$f":"I55/0.8*$J$79","v":0},0,0,null,{"$f":"C55*УЗЛЫ!C614*L79","v":0},{"$f":"C55*((РАБОТЫ!C102)*0.4)*M79","v":0},{"$f":"C55*((РАБОТЫ!D102)*0.4)*M79","v":0},0,""]
["Защита от протечек воды в доме.","Автоматический запорный кран для защиты от протечек с 4 радиодатчиками и WiFi  модуль (настройка системы и запуск производится на пуско-наладочных работах котельной) ",null,"компл.",{"$f":"I56/$I$3*$J$79*0.6","v":0},0,0,null,{"$f":"$C56*УЗЛЫ!C616*L79","v":0},{"$f":"$C56*( РАБОТЫ!C105+РАБОТЫ!C106)*M79","v":0},{"$f":"$C56*( РАБОТЫ!D105+РАБОТЫ!D106)*M79","v":0},0,""]
["Стабилизатор напряжения (рекомендуется производителями газовых котлов).","Стабилизатор необходим для защиты котла от перепадов напряжения",1,"шт.",{"$f":"(I57/0.97)*$J$79","v":14865.9793814433},1297.877777777778,16163.857159221077,"↗",{"$f":"$C57* УЗЛЫ!C617","v":14420},{"$f":"$C57* РАБОТЫ!C107*M79","v":490.46250000000003},{"$f":"$C57* РАБОТЫ!D107*M79","v":93.58250000000001},15004.045,7.1753427897587763E-2]
["Монтаж электрики для котельного оборудования","Силовые Электрические подключения в котельной (монтаж кабель-каналов, установка и и расключение финишных розеток, установка проводов и вилок на насосы и котлы (не требующие подключения в автоматику управления) ,монтаж заземления КШ, коллекторов , бойлера, котла.",1,"усл",{"$f":"I58/0.9","v":15450},{"$f":"(J58+K58)/0.8","v":9000},{"$f":"E58+F58","v":24450},null,{"$f":"C58*УЗЛЫ!C618","v":13905},{"$f":"C58*РАБОТЫ!C255","v":6000},{"$f":"C58*РАБОТЫ!D255","v":1200},{"$f":"SUM(I58:K58)","v":21105},0.13680981595092023]
["Беспроводная GSM - Розетка (материал)","Дистанционно управляемая розетка. GSM-розетка поможет предупредить отключение электроотопительного оборудования и, как следствие, промерзание дома и коммуникаций зимой. Прибор отправляет сигналы в отдел сервиса GOOD WOOD. Аварийный сигнал дублируется в ленте личного кабинета клиента и отправляется через SMS",1,"шт.",{"$f":"I59/0.8","v":7725},null,{"$f":"E59+F59","v":7725},null,{"$f":"C59*УЗЛЫ!C619","v":6180},{"$f":"C59*РАБОТЫ!C253","v":500},null,6680,0.13527508090614887]
["Беламос Реле давления PS-02C (М) ","Оповещает о падении давления в системе отопления. ",1,"шт.",{"$f":"I60/0.9","v":801.11111111111109},null,801.11111111111109,null,{"$f":"C60*УЗЛЫ!C620","v":721},null,null,721,9.9999999999999978E-2]
["Место под установку планируемого настенного котла","Разметка, подготовка места с установкой фитингов под планируемый котёл",null,"усл",{"$f":"(I61/0.8)*$J$79","v":0},{"$f":"(SUM(J61:K61)/0.61)*$K$79","v":0},0,null,{"$f":"C61*УЗЛЫ!C621","v":0},{"$f":"C61*РАБОТЫ!C109","v":0},{"$f":"C61*РАБОТЫ!D109","v":0},0,""]
["Комплект для перехода на С/Г при наличии газгольдера","Комплект для перенастройки котлов на сжиженный газ ",null,"компл.",{"$f":"I62/$I$3*$J$79","v":0},{"$f":"(SUM(J62:K62)/$I$3)*$K$79","v":0},0,"↗",{"$f":"$C62*УЗЛЫ!C622*L79","v":0},{"$f":"$C62* РАБОТЫ!C108*M79","v":0},{"$f":"$C62* РАБОТЫ!D108*M79","v":0},0,""]
["Итого материал:                                                                                                                                                                                                                                                              ",null,null,null,null,null,{"$f":"SUM(E11:E62,E6:E9)","v":38842.090492554409},null,null,null,null,{"$f":"SUM(I11:I62)","v":35226},9.3097216104976968E-2]
["Работа:                                                                                                                                                                                                                                                                              ",null,null,null,null,null,{"$f":"SUM(F11:F62,F6:F9)","v":10297.877777777778},null,null,null,null,{"$f":"SUM(J11:K62)","v":8284.0450000000001},0.19555803838762895]
["Дополнительно",null,null,null,null,null,null,null,null,null,null,null,""]
["Материалы/услуги","Описание","Кол-во","Ед.изм","Мат-ал, руб","Работа, руб ","Итого, руб"]
["Закладная гильза","Гильза устанавливается в \"пироге пола\" для дальнейшего ввода коммуникаций",null,"шт.",0,{"$f":"C67*2500","v":0},{"$f":"F67+E67","v":0},null,null,null,{"$f":"1250*C67","v":0}]
["Проходные отверстия в плите","Алмазное сверление",null,"шт.",{"$f":"0*C68","v":0},{"$f":"IF($C$68=0,0,\nIF($C$68<4,9000,\nIF($C$68>3,9000+2300*($C$68-3))))","v":0},{"$f":"F68+E68","v":0},null,null,null,{"$f":"IF($C$68=0,0,\nIF($C$68<4,6000,\nIF($C$68>3,6000+1700*($C$68-3))))","v":0}]
["Подготовительные и накладные расходы","Включают разработку комплекта документов для монтажа, проверку ОТК и приемку каждого этапа работ инженерами технического надзора, соблюдение стандарта компании",1,"Усл.",null,{"$f":"C69*33000","v":33000},{"$f":"F69*C69","v":33000},null,{"$f":"IF(ПНР!L18=0,30000,ПНР!L18)","v":3800},2000,4500,{"$f":"5500+6500","v":12000}]
["Транспортные расходы ","Доставка оборудования и материалов на объект",1,"усл.",null,{"$f":"C70*19500","v":19500},{"$f":"F70","v":19500},null,null,null,null,10000]
["Доставка бытовки на объект","Если есть такая необходимость, мы предоставляем бытовку для проживания на объекте строителей. После окончания работ бытовка вывозится.",null,"км от мкад",null,null,{"$f":"IF(C71=0,0,\nIF(C71<100,24000,\nIF(C71<150,30000,36000)))","v":0},null,null,null,null,{"$f":"IF(C71=0,0,\nIF(C71<=50,13500,\nIF(C71<=100,17000,\nIF(C71<=150,20500,\nIF(C71<=200,24000,\nIF(C71<=250,27500,\nIF(C71>250,31000,)))))))","v":0}]
["Итого по смете:",null,null,null,null,{"$f":"SUM(G63:G64,G67:G71)","v":101639.96827033219},null,null,{"$f":"SUM(I11:I62,I67:I71,I6:I9)","v":39026},{"$f":"SUM(J12:J62,J67:J71,J6:J9)","v":8990.4624999999996},{"$f":"SUM(K12:K62,K67:K71,K6:K9)","v":5793.5825000000004},{"$f":"SUM(I72:K72,L67:L71)","v":75810.044999999998},{"$f":"IF(F72=0,\"\",(F74-L72)/F74)","v":0.2541315558229244}]
["Корректировка стоимости (скидка):"]
["Итого по смете с учетом скидки:",null,null,null,null,{"$f":"F72-G73","v":101639.96827033219}]
[]
["** Полноценная настройка автоматики возможна только при наличии интернета WiFi или 2G.GSM.\n ",null,null,null,null,null,null,null,null,"Коэффициент для заказчика",null,"Коэффициент для СЕБЕСА (дом свыше 350м2)"]
[null,{"$f":"РАБОТЫ!$A$1","v":"Дата"}]
[null,null,null,null,null,null,null,null,null,"Мат","Раб","Мат","Раб"]
[null,null,null,null,null,null,null,null,null,1,1,1,1]

{"sheet":"Кот Медь 23","index":12,"n_rows":79,"n_cols":14,"rows_kept":79,"cut":false,"hidden":false,"merged":[[75,0,75,1],[75,9,76,10],[75,11,76,12],[83,9,84,10],[47,0,50,0],[55,13,56,13],[64,0,64,6],[71,0,71,4],[71,5,71,6],[73,0,73,4],[73,5,73,6],[10,0,20,0],[21,0,25,0],[32,0,34,0],[35,0,39,0],[26,0,31,0],[3,7,4,7],[9,0,9,6],[0,0,0,6],[1,1,1,6],[2,0,2,6],[3,0,3,6]]}
["Приложение №    к Договору подряда №    ______________от_____________",null,null,null,null,null,null,null,{"$f":"РАБОТЫ!A1","v":"Дата"}]
[{"$f":"TODAY()","v":"2024-02-02"},"Данный сметный расчёт действителен 7 календарных дней. По истечению срока, цены могут быть изменены.",null,null,null,null,null,"курс €","для узлов \"/\"","для Котлов \"/\"","для Бойлеров \"/\"","для Ecosystem \"/\""]
["Сметный расчет Котельная Медь",null,null,null,null,null,null,{"$f":"'ОВиВК ТЕСЕ'!I2","v":100},0.45,0.93,0.93,0.8]
["Теплотрасса",null,null,null,null,null,null,"Ссылка на маркет",{"$f":"РАБОТЫ!A2","v":"2,5% размазаная себестомость ( Амортизация, расходники, надбавка за разряд, гсп прораба) "}]
["Материалы/услуги","Описание","Кол-во","Ед.изм","Мат-ал, руб","Работа, руб ","Итого, руб",null,"Материал","Бригада","Прораб","Итого","Рента"]
["Узел  ТТ1 до150м2 ","Обвязка теплотрассы, подключение к коллекторам и насосам",null,"компл",{"$f":"(I6/0.65)*J79","v":0},{"$f":"((J6+K6)/0.65)*$K$79","v":0},{"$f":"F6+E6","v":0},null,{"$f":"$C6*(УЗЛЫ!C8*0.5)*L79","v":0},{"$f":"$C6*РАБОТЫ!C7*M79","v":0},{"$f":"$C6*РАБОТЫ!D7*M79","v":0},{"$f":"SUM(I6:K6)","v":0},{"$f":"IF(G6=0,\"\",(G6-L6)/G6)","v":""},"* Обвязка с одной стороны, в случае обвязки с двух сторон - 2 компл."]
["Узел ТТ2 150-200м2 ","Обвязка теплотрассы, подключение к коллекторам и насосам",null,"компл",{"$f":"(I7/0.65)*$J$79","v":0},{"$f":"((J7+K7)/0.65)*$K$79","v":0},0,null,{"$f":"$C7* (УЗЛЫ!C9*0.5)*L79","v":0},{"$f":"$C7*РАБОТЫ!C7*M79","v":0},{"$f":"$C7*РАБОТЫ!D7*M79","v":0},0,""]
["Греющий кабель для узла ввода воды","Ввод воды с греющим кабелем ",null,"шт.",{"$f":"(I8/0.8)*$J$79","v":0},{"$f":"(SUM(J8:K8)/$I$3)*$K$79","v":0},0,null,{"$f":"C8*УЗЛЫ!C676*L79","v":0},{"$f":"C8*((РАБОТЫ!C102)*0.4)*M79","v":0},{"$f":"C8*((РАБОТЫ!D102)*0.4)*M79","v":0},0,""]
["Автоматика","Датчик температуры МЛ-722 (DS)",null,"шт.",{"$f":"(I9/0.65)*$J$79","v":0},{"$f":"((J9+K9)/0.65)*$K$79","v":0},0,null,{"$f":"$C9* УЗЛЫ!C648*L79","v":0},{"$f":"($C9*РАБОТЫ!C8)*M79","v":0},{"$f":"$C9*РАБОТЫ!D8*M79","v":0},0,""]
["Котельная (Для каркасных перегородок необходимо усиление)"]
["Котел газовый (мощность выбирается на 10 кв.м - 1,2 кВт, если дом деревянный)","Газовый котел Baxi LUNA 3 comfort (1.240 Fi кВт) (Одноконтурный, настенный, турб.)",null,"шт.",{"$f":"I11/0.9","v":0},null,{"$f":"E11+F11","v":0},"↗",{"$f":"C11*УЗЛЫ!C628","v":0},null,null,{"$f":"SUM(I11:K11)","v":0},{"$f":"IF(G11=0,\"\",(G11-L11)/G11)","v":""}]
[null,"Газовый котел Baxi LUNA 3 comfort (1.310 Fi кВт) (Одноконтурный, настенный, турб.)",null,"шт.",{"$f":"I12/0.9","v":0},null,0,"↗",{"$f":"C12*УЗЛЫ!C629","v":0},null,null,{"$f":"SUM(I12:K12)","v":0},{"$f":"IF(G12=0,\"\",(G12-L12)/G12)","v":""}]
[null,"Газовый котел Baxi LUNA 3 comfort (1.240 Fi кВт) (Двухконтурный, настенный, турб.)",null,"шт.",{"$f":"I13/0.9","v":0},null,0,"↗",{"$f":"C13*УЗЛЫ!C630","v":0},null,null,{"$f":"SUM(I13:K13)","v":0},{"$f":"IF(G13=0,\"\",(G13-L13)/G13)","v":""}]
[null,"Газовый котел Baxi LUNA 3 comfort (1.310 Fi кВт) (Двухконтурный, настенный, турб.)",null,"шт.",{"$f":"I14/0.9","v":0},null,0,"↗",{"$f":"C14*УЗЛЫ!C631","v":0},null,null,{"$f":"SUM(I14:K14)","v":0},""]
[null,"Подключение газового котла  Медь БАКСИ",null,"компл.",{"$f":"(I15/0.6)*$J$79","v":0},{"$f":"(SUM(J15:K15)/0.6)*K79","v":0},0,null,{"$f":"C15*УЗЛЫ!C632*L79","v":0},{"$f":"C15*РАБОТЫ!C55*M79","v":0},{"$f":"C15*РАБОТЫ!D55*M79","v":0},0,""]
[null,"Общая обвязка котельного обрудования, включающая в себя трубопроводы, отводы, хомуты, лён, пасту, бирки и тд  Медь",null,"компл.",{"$f":"(I16/$I$3)*$J$79","v":0},null,0,null,{"$f":"C16*(УЗЛЫ!C633/3+УЗЛЫ!C637)*L79","v":0},null,null,0,""]
[null,"Общая обвязка котельного обрудования, включающая в себя трубопроводы, отводы, хомуты, лён, пасту, бирки и тд (2 насоса) Медь",null,"компл.",0,null,0,null,{"$f":"C17*(УЗЛЫ!C633+УЗЛЫ!$C$637)*$L$79","v":0},null,null,{"$f":"SUM(I17:K17)","v":0},""]
[null,"Общая обвязка котельного обрудования, включающая в себя трубопроводы, отводы, хомуты, лён, пасту, бирки и тд (3 насоса) Медь",null,"компл.",0,null,0,null,{"$f":"C18*(УЗЛЫ!C634+УЗЛЫ!$C$637)*$L$79","v":0},null,null,0,""]
[null,"Общая обвязка котельного обрудования, включающая в себя трубопроводы, отводы, хомуты, лён, пасту, бирки и тд (4 насоса) Медь",null,"компл.",0,null,0,null,{"$f":"C19*(УЗЛЫ!C635+УЗЛЫ!$C$637)*$L$79","v":0},null,null,0,""]
[null,"Общая обвязка котельного обрудования, включающая в себя трубопроводы, отводы, хомуты, лён, пасту, бирки и тд (5 насосов) Медь",null,"компл.",0,null,0,null,{"$f":"C20*(УЗЛЫ!C636+УЗЛЫ!$C$637)*$L$79","v":0},null,null,0,""]
[null,"Узел Минерит+Лист нержавеющей стали  (Только для брусовой котельной!)",null,"компл.",0,{"$f":"(SUM(J21:K21)/$I$3)*$K$79","v":0},0,null,{"$f":"C21*УЗЛЫ!C638*L79","v":0},{"$f":"C21*(РАБОТЫ!C54*0.2)*M79","v":0},{"$f":"C21*(РАБОТЫ!D54*0.2)*M79","v":0},0,""]
["Котёл электрический                                                                (Резервный котёл предназначен для поддержания положительной температуры в доме ((Не является заменой основному теплогениратору). Не сможет обеспечить прогревание воды до оптимальной температуры и прогрев всего дома)","STOUT котёл электрический 9 кВт",null,"шт.",{"$f":"I22/$J$3*$J$79","v":0},null,0,null,{"$f":"C22*УЗЛЫ!C578","v":0},null,null,0,""]
[null,"STOUT котёл электрический 12 кВт",null,"шт.",{"$f":"I23/$J$3*$J$79","v":0},null,0,null,{"$f":"C23*УЗЛЫ!C579","v":0},null,null,0,""]
[null,"STOUT котёл электрический 14 кВт",null,"шт.",{"$f":"I24/$J$3*$J$79","v":0},null,0,null,{"$f":"C24*УЗЛЫ!C580","v":0},null,null,0,""]
[null,"STOUT котёл электрический 18 кВт",null,"шт.",{"$f":"I25/$J$3*$J$79","v":0},null,0,null,{"$f":"C25*УЗЛЫ!C581","v":0},null,null,0,""]
[null,"Подключение резервного электрического котла Медь",null,"шт.",{"$f":"(I26/0.6)*J79","v":0},{"$f":"(SUM(J26:K26)/0.6)*$K$79","v":0},{"$f":"E26+F26","v":0},null,{"$f":"C26*УЗЛЫ!C643*L79","v":0},{"$f":"C26*РАБОТЫ!C61*M79","v":0},{"$f":"C26*РАБОТЫ!D61*M79","v":0},0,""]
["Автоматика Zont","Zont Climatic 1.3 (741) Погодозависимый автоматический регулятор для многоконтурных систем отопления (1прямой + 3смесительных контура) Zont Плата цифровой шины для Zont Climatic **",null,"шт.",{"$f":"I27/J3","v":0},{"$f":"(SUM(J27:K27)/0.5)*$K$79","v":0},0,null,{"$f":"C27*(УЗЛЫ!C583+УЗЛЫ!C584)","v":0},{"$f":"(C27*РАБОТЫ!C74)+(C27*2900)","v":0},{"$f":"(C27*РАБОТЫ!D74)+(C27*600)","v":0},0,""]
[null,"Zont Climatic 1.3 (741) Погодозависимый автоматический регулятор для многоконтурных систем отопления (1прямой + 3смесительных контура) Zont Плата цифровой шины для Zont Climatic (2шт.) **",null,"шт.",{"$f":"I28/J3","v":0},{"$f":"(SUM(J28:K28)/0.53)*$K$79","v":0},0,null,{"$f":"C28*(УЗЛЫ!C583+УЗЛЫ!C584+УЗЛЫ!C584)","v":0},{"$f":"(C28*РАБОТЫ!C75)+(C28*2900)","v":0},{"$f":"(C28*РАБОТЫ!D75)+(C28*600)","v":0},0,""]
[null,"Zont Smart 2.0 (744) Отопительный  GSM / WiFi контроллер для газовых и электрических котлов. Адаптер для подключения по цифровой шине **",null,"шт.",{"$f":"I29/J3","v":0},{"$f":"(SUM(J29:K29)/0.6)*$K$79","v":0},0,null,{"$f":"C29*(УЗЛЫ!C585+УЗЛЫ!C586)","v":0},{"$f":"(C29*РАБОТЫ!C76)+(C29*2900)","v":0},{"$f":"(C29*РАБОТЫ!D76)+(C29*600)","v":0},0,""]
[null,"Комплект беспроводных датчиков для автоматики (наружный + внутренний)",null,"шт.",{"$f":"I30/0.8","v":0},{"$f":"(SUM(J30:K30)/0.65)*$K$79","v":0},0,null,{"$f":"C30*УЗЛЫ!C588","v":0},{"$f":"C30*РАБОТЫ!C77","v":0},{"$f":"C30*РАБОТЫ!D77","v":0},0,""]
[null,"Датчик температуры комнатный ",null,"шт.",{"$f":"I31/0.93","v":0},{"$f":"(SUM(J31:K31)/0.65)","v":0},0,null,{"$f":"C31*УЗЛЫ!C587","v":0},{"$f":"C31*РАБОТЫ!C77","v":0},{"$f":"C31*РАБОТЫ!D77","v":0},0,""]
[null,"Блок расширения ЕХ-77 для Zont Climatic 1.3 / Блок питания 12-24V",null,"шт.",{"$f":"I32/0.8","v":0},{"$f":"(SUM(J32:K32)/0.6)","v":0},0,null,{"$f":"C32*(УЗЛЫ!C623+УЗЛЫ!C624)","v":0},{"$f":"C32*РАБОТЫ!C78","v":0},{"$f":"C32*РАБОТЫ!D78","v":0},0,""]
["Монтаж дымохода","Коаксиальный дымоход с проходом через кровлю  для  2 этажного дома",null,"шт.",{"$f":"(I33/0.6)*$J$79","v":0},{"$f":"(SUM(J33:K33)/0.5)*K79","v":0},0,null,{"$f":"C33*УЗЛЫ!C589*L79","v":0},{"$f":"$C33* РАБОТЫ!C80*M79","v":0},{"$f":"$C33* РАБОТЫ!D80*M79","v":0},0,""]
[null,"Коаксиальный дымоход с проходом через кровлю для 1 этажного дома",null,"шт.",{"$f":"(I34/0.6)*$J$79","v":0},{"$f":"(SUM(J34:K34)/0.5)*K79","v":0},0,null,{"$f":"C34*УЗЛЫ!C590*L79","v":0},{"$f":"C34*РАБОТЫ!C82*M79","v":0},{"$f":"C34*РАБОТЫ!D82*M79","v":0},0,""]
[null,"Коаксиальный дымоход с проходом через стену",null,"шт.",{"$f":"(I35/0.6)*$J$79","v":0},{"$f":"(SUM(J35:K35)/0.4)*K79","v":0},0,null,{"$f":"C35*УЗЛЫ!C591*L79","v":0},{"$f":"$C35* РАБОТЫ!C83*M79","v":0},{"$f":"$C35* РАБОТЫ!D83*M79","v":0},0,""]
["Монтаж бойлера косвенного нагрева","Бойлер напольный 150 Stout",null,"шт.",{"$f":"I36*$J$79/$L$3","v":0},null,0,"↗",{"$f":"$C36*УЗЛЫ!C653","v":0},null,null,0,""]
[null,"Бойлер напольный 200  Stout",null,"шт.",{"$f":"I37*$J$79/$L$3","v":0},null,0,"↗",{"$f":"$C37*УЗЛЫ!C654","v":0},null,null,0,""]
[null,"Бойлер напольный 300 Stout",null,"шт.",{"$f":"I38*$J$79/$L$3","v":0},null,0,"↗",{"$f":"$C38*УЗЛЫ!C655","v":0},null,null,0,""]
[null,"Бойлер настенный 150 Stout",null,"компл.",{"$f":"(I39/0.6)*$J$79","v":0},{"$f":"(J39+K39)/0.6","v":0},0,null,{"$f":"$C39*УЗЛЫ!C656","v":0},{"$f":"((C39*РАБОТЫ!C85)*1.25)*M79","v":0},{"$f":"((C39*РАБОТЫ!D85)*1.25)*M79","v":0},0,""]
[null,"Бойлер настенный 200  Stout",null,"компл.",{"$f":"(I40/0.6)*$J$79","v":0},0,0,null,{"$f":"$C40*УЗЛЫ!C657","v":0},{"$f":"((C40*РАБОТЫ!C86)*1.25)*M79","v":0},{"$f":"((C40*РАБОТЫ!D86)*1.25)*M79","v":0},0,""]
[null,"Подключение напольного бойлера Stout  150л/200л Медь",null,"компл.",{"$f":"I41/0.6*$J$79","v":0},{"$f":"(SUM(J41:K41)/0.6)*$K$79","v":0},0,"↗",{"$f":"C41*УЗЛЫ!C659*L79","v":0},{"$f":"C41*РАБОТЫ!C85*M79","v":0},{"$f":"C41*РАБОТЫ!D85*M79","v":0},0,""]
[null,"Подключение настенного бойлера  Stout 150л /200л Медь",null,"компл.",{"$f":"I42/0.6*$J$79","v":0},{"$f":"(SUM(J42:K42)/0.6)*$K$79","v":0},0,null,{"$f":"C42*(УЗЛЫ!C662+УЗЛЫ!C663)*L79","v":0},{"$f":"C42*(РАБОТЫ!C86+1000)*M79","v":0},{"$f":"C42*(РАБОТЫ!D86+200)*M79","v":0},0,""]
[null,"Подключение напольного бойлера Stout 300л Медь",null,"компл.",{"$f":"I43/0.6*$J$79","v":0},{"$f":"(SUM(J43:K43)/0.6)*$K$79","v":0},0,null,{"$f":"C43*(УЗЛЫ!C660)*L79","v":0},{"$f":"C43*РАБОТЫ!C87*M79","v":0},{"$f":"C43*РАБОТЫ!D87*M79","v":0},0,""]
["Рециркуляция ГВС (опционально)","Узел подключения насоса циркуляции к бойлеру косвенного нагрева Медь",null,"компл.",{"$f":"I44/$I$3*$J$79","v":0},{"$f":"(J44+K44)/$I$3","v":0},0,null,{"$f":"C44*УЗЛЫ!C665*L79","v":0},{"$f":"((C44*РАБОТЫ!C96)*1.25)*M79","v":0},{"$f":"((C44*РАБОТЫ!D96)*1.25)*M79","v":0},0,""]
["Байпас для водоподготовки / фильтра","Узел подключения байпаса водоподготовки к узлу ввода воды",null,"компл.",{"$f":"I45/$I$3*$J$79","v":0},0,0,null,{"$f":"C45*УЗЛЫ!C666*L79","v":0},{"$f":"C45*((РАБОТЫ!C103)*0.5)*M79","v":0},{"$f":"C45*((РАБОТЫ!D103)*0.5)*M79","v":0},0,""]
["Полив","Узел подключения вывода на полив к узлу ввода воды",null,"компл.",{"$f":"I46/$I$3*$J$79","v":0},0,0,null,{"$f":"C46*УЗЛЫ!C667*L79","v":0},{"$f":"C46*((РАБОТЫ!C102)*0.4)*M79","v":0},{"$f":"C46*((РАБОТЫ!D102)*0.4)*M79","v":0},0,""]
["Общая обвязка (монтаж)","Обвязка котельного оборудования без насосных групп ",null,"услуга",null,{"$f":"(J47+K47)/0.6","v":0},0,null,null,{"$f":"C47*РАБОТЫ!C66","v":0},{"$f":"C47*РАБОТЫ!D66","v":0},0,""]
["Гидравлическая обвязка насосных групп на котллекторе с гидрострелкой","Монтаж насосных групп с коллектором и гидрострелкой, включает в себя 1 прямую насосную группу и 1 смесительную (2 насосных группы), расширительный бак, Медь",null,"компл.",{"$f":"I48/0.65*$J$79","v":0},{"$f":"(J48+K48)/$I$3*$K$79","v":0},0,null,{"$f":"C48*УЗЛЫ!C668*$L$79","v":0},{"$f":"((C48*РАБОТЫ!C98)*3*1.25+(C48*2719))*M79","v":0},{"$f":"((C48*РАБОТЫ!D98)*3*1.25+(516*C48))*M79","v":0},{"$f":"SUM(I48:K48)","v":0},""]
[null,"Монтаж насосных групп с коллектором и гидрострелкой, включает в себя 1 прямую насосную группу и 2 смесительных (3 насосных группы), расширительный бак, Медь",null,"компл.",{"$f":"I49/0.65*$J$79","v":0},{"$f":"(J49+K49)/$I$3*$K$79","v":0},0,null,{"$f":"C49*УЗЛЫ!C669*$L$79","v":0},{"$f":"((C49*РАБОТЫ!C98)*4*1.25+(2719*C49))*M79","v":0},{"$f":"((C49*РАБОТЫ!D98)*4*1.25+(516*C49))*M79","v":0},0,""]
[null,"Монтаж насосных групп с коллектором и гидрострелкой, включает в себя 1 прямую насосную группу и 3 смесительных (4 насосных группы), расширительный бак, Медь",null,"компл.",{"$f":"I50/0.65*$J$79","v":0},{"$f":"(J50+K50)/$I$3*$K$79","v":0},0,null,{"$f":"C50*УЗЛЫ!C670*$L$79","v":0},{"$f":"((C50*РАБОТЫ!C99)*5*1.25+(2719*C50))*M79","v":0},{"$f":"((C50*РАБОТЫ!D99)*5*1.25+(516*C50))*M79","v":0},0,""]
[null,"Монтаж насосных групп с коллектором и гидрострелкой, включает в себя 1 прямую насосную группу и 4 смесительных (5 насосных группы), расширительный бак, Медь",null,"компл.",{"$f":"I51/0.65*$J$79","v":0},{"$f":"(J51+K51)/$I$3*$K$79","v":0},0,null,{"$f":"C51*УЗЛЫ!C671*$L$79","v":0},{"$f":"((C51*РАБОТЫ!C100)*6*1.25+(2719*C51))*M79","v":0},{"$f":"((C51*РАБОТЫ!D100)*6*1.25+(516*C51))*M79","v":0},0,""]
["Узел ввода воды от скважины (В КОТЕЛЬНОЙ) с гидроаккумулятором","Материалы, Гидроаккумулятор, Реле давления скважины, Грязевой фильтр, Редуктор, Полипропилен.",null,"компл.",{"$f":"I52/$I$3*$J$79","v":0},{"$f":"(SUM(J52:K52)/$I$3)*$K$79","v":0},0,null,{"$f":"C52*УЗЛЫ!C672*L79","v":0},{"$f":"C52*(РАБОТЫ!C102+РАБОТЫ!C103)*M79","v":0},{"$f":"C52*(РАБОТЫ!D102+РАБОТЫ!D103)*M79","v":0},0,""]
["Узел ввода воды от скважины (В КОТЕЛЬНОЙ) без гидроаккумулятора","Материалы, Редуктор, Грязевой фильтр, Полипропилен.",null,"компл.",{"$f":"I53/$I$3*$J$79","v":0},{"$f":"(SUM(J53:K53)/$I$3)*$K$79","v":0},0,null,{"$f":"C53*УЗЛЫ!C673*L79","v":0},{"$f":"C53*((РАБОТЫ!C102+РАБОТЫ!C103)*0.7)*M79","v":0},{"$f":"C53*((РАБОТЫ!D102+РАБОТЫ!D103)*0.7)*M79","v":0},0,""]
["Узел ввода воды из центрального водоснабжения (В КОТЕЛЬНОЙ)","Материалы, Счетчик ХВС, Редуктор, Грязевой фильтр, Полипропилен.",null,"компл.",{"$f":"I54/$I$3*$J$79","v":0},{"$f":"(SUM(J54:K54)/$I$3)*$K$79","v":0},0,null,{"$f":"C54*УЗЛЫ!C674*L79","v":0},{"$f":"C54*((РАБОТЫ!C102+РАБОТЫ!C103)*0.85)*M79","v":0},{"$f":"C54*((РАБОТЫ!D102+РАБОТЫ!D103)*0.85)*M79","v":0},0,""]
["Греющий кабель для узла ввода воды","Греющий кабель",null,"шт.",{"$f":"I55/0.8*$J$79","v":0},{"$f":"(SUM(J55:K55)/$I$3)*$K$79","v":0},0,null,{"$f":"C55*УЗЛЫ!C675*L79","v":0},{"$f":"C55*((РАБОТЫ!C102)*0.4)*M79","v":0},{"$f":"C55*((РАБОТЫ!D102)*0.4)*M79","v":0},0,""]
["Защита от протечек воды в доме.","Автоматический запорный кран для защиты от протечек с 4 радиодатчиками и GSM-модемом (настройка системы и запуск производится на пуско-наладочных работах котельной) ",null,"компл.",{"$f":"(I56/$I$3)*$J$79*0.6","v":0},{"$f":"(SUM(J56:K56)/$I$3)*K79","v":0},0,null,{"$f":"C56*УЗЛЫ!C677*L79","v":0},{"$f":"$C56*( РАБОТЫ!C105+РАБОТЫ!C106)*M79","v":0},{"$f":"$C56*( РАБОТЫ!D105+РАБОТЫ!D106)*M79","v":0},0,""]
["Стабилизатор напряжения (рекомендуется производителями газовых котлов).","Стабилизатор необходим для защиты котла от перепадов напряжения",1,"шт.",{"$f":"(I57/0.97)*$J$79","v":15715.463917525774},{"$f":"(SUM(J57:K57)/$I$3)*K79","v":1297.877777777778},17013.341695303552,"↗",{"$f":"$C57* УЗЛЫ!C678","v":15244},{"$f":"$C57* РАБОТЫ!C107*M79","v":490.46250000000003},{"$f":"$C57* РАБОТЫ!D107*M79","v":93.58250000000001},15828.045,6.9668658663967653E-2]
["Монтаж электрики для котельного оборудования","Силовые Электрические подключения в котельной (монтаж кабель-каналов, установка и и расключение финишных розеток, установка проводов и вилок на насосы и котлы (не требующие подключения в автоматику управления) ,монтаж заземления КШ, коллекторов , бойлера, котла.",1,"усл",{"$f":"I58/0.9","v":16022.222222222223},{"$f":"(J58+K58)/0.8","v":9000},{"$f":"E58+F58","v":25022.222222222223},null,{"$f":"C58*УЗЛЫ!C679","v":14420},{"$f":"C58*РАБОТЫ!C255","v":6000},{"$f":"C58*РАБОТЫ!D255","v":1200},{"$f":"SUM(I58:K58)","v":21620},0.13596802841918296]
["Беспроводная GSM - Розетка (материал)","Дистанционно управляемая розетка. GSM-розетка поможет предупредить отключение электроотопительного оборудования и, как следствие, промерзание дома и коммуникаций зимой. Прибор отправляет сигналы в отдел сервиса GOOD WOOD. Аварийный сигнал дублируется в ленте личного кабинета клиента и отправляется через SMS",1,"шт.",{"$f":"I59/0.8","v":7725},null,{"$f":"E59+F59","v":7725},null,{"$f":"C59*УЗЛЫ!C680","v":6180},{"$f":"C59*РАБОТЫ!C253","v":500},null,6680,0.13527508090614887]
["Беламос Реле давления PS-02C (М) ","Оповещает о падении давления в системе отопления. ",{"$f":"C59","v":1},"шт.",{"$f":"I60/0.9","v":801.11111111111109},null,801.11111111111109,null,{"$f":"C60*УЗЛЫ!C681","v":721},null,null,721,9.9999999999999978E-2]
["Место под установку планируемого настенного котла","Разметка, подготовка места с установкой фитингов под планируемый котёл",null,"усл",{"$f":"(I61/0.8)*$J$79","v":0},{"$f":"(SUM(J61:K61)/0.61)*$K$79","v":0},0,null,{"$f":"C61*УЗЛЫ!C682","v":0},{"$f":"C61*РАБОТЫ!C109","v":0},{"$f":"C61*РАБОТЫ!D109","v":0},0,""]
["Комплект для перехода на С/Г при наличии газгольдера","Комплект для перенастройки котлов на сжиженный газ ",null,"компл.",{"$f":"(I62/$I$3)*$J$79","v":0},{"$f":"(SUM(J62:K62)/$I$3)*K79","v":0},0,"↗",{"$f":"$C62* УЗЛЫ!C684*L79","v":0},{"$f":"$C62* РАБОТЫ!C108*M79","v":0},{"$f":"$C62* РАБОТЫ!D108*M79","v":0},0,""]
["Итого материал:                                                                                                                                                                                                                                                              ",null,null,null,null,null,{"$f":"SUM(E11:E62,E6:E9)","v":40263.797250859105},null,null,null,null,{"$f":"SUM(I11:I62)","v":36565},9.1864093885982989E-2]
["Работа:                                                                                                                                                                                                                                                                              ",null,null,null,null,null,{"$f":"SUM(F11:F62,F6:F9)","v":10297.877777777778},null,null,null,null,{"$f":"SUM(J11:K62)","v":8284.0450000000001},0.19555803838762895]
["Дополнительно",null,null,null,null,null,null,null,null,null,null,null,""]
["Материалы/услуги","Описание","Кол-во","Ед.изм","Мат-ал, руб","Работа, руб ","Итого, руб"]
["Закладная гильза","Гильза устанавливается в \"пироге пола\" для дальнейшего ввода коммуникаций",null,"шт.",0,{"$f":"C67*2500","v":0},{"$f":"F67+E67","v":0},null,null,null,{"$f":"1250*C67","v":0}]
["Проходные отверстия в плите","Алмазное сверление",null,"шт.",{"$f":"0*C68","v":0},{"$f":"IF($C$68=0,0,\nIF($C$68<4,9000,\nIF($C$68>3,9000+2300*($C$68-3))))","v":0},{"$f":"F68+E68","v":0},null,null,null,{"$f":"IF($C$68=0,0,\nIF($C$68<4,6000,\nIF($C$68>3,6000+1700*($C$68-3))))","v":0}]
["Подготовительные и накладные расходы","Включают разработку комплекта документов для монтажа, проверку ОТК и приемку каждого этапа работ инженерами технического надзора, соблюдение стандарта компании",1,"Усл.",null,{"$f":"C69*33000","v":33000},{"$f":"F69*C69","v":33000},null,{"$f":"IF(ПНР!L18=0,30000,ПНР!L18)","v":3800},2000,4500,{"$f":"5500+6500","v":12000}]
["Транспортные расходы ","Доставка оборудования и материалов на объект",1,"усл.",null,{"$f":"C70*19500","v":19500},{"$f":"F70","v":19500},null,null,null,null,10000]
["Доставка бытовки на объект","Если есть такая необходимость, мы предоставляем бытовку для проживания на объекте строителей. После окончания работ бытовка вывозится.",null,"км от мкад",null,null,{"$f":"IF(C71=0,0,\nIF(C71<100,24000,\nIF(C71<150,30000,36000)))","v":0},null,null,null,null,{"$f":"IF(C71=0,0,\nIF(C71<=50,13500,\nIF(C71<=100,17000,\nIF(C71<=150,20500,\nIF(C71<=200,24000,\nIF(C71<=250,27500,\nIF(C71>250,31000,)))))))","v":0}]
["Итого по смете:",null,null,null,null,{"$f":"SUM(G63:G64,G67:G71)","v":103061.67502863688},null,null,{"$f":"SUM(I11:I62,I67:I71,I6:I9)","v":40365},{"$f":"SUM(J12:J62,J67:J71,J6:J9)","v":8990.4624999999996},{"$f":"SUM(K12:K62,K67:K71,K6:K9)","v":5793.5825000000004},{"$f":"SUM(I72:K72,L67:L71)","v":77149.044999999998},{"$f":"IF(F72=0,\"\",(F74-L72)/F74)","v":0.25142838035027815}]
["Корректировка стоимости (скидка):"]
["Итого по смете с учетом скидки:",null,null,null,null,{"$f":"F72-G73","v":103061.67502863688}]
[]
["** Полноценная настройка автоматики возможна только при наличии интернета WiFi или 2G.GSM.\n ",null,null,null,null,null,null,null,null,"Коэффициент для заказчика",null,"Коэффициент для СЕБЕСА (дом свыше 350м2)"]
[null,{"$f":"РАБОТЫ!$A$1","v":"Дата"}]
[null,null,null,null,null,null,null,null,null,"Мат","Раб","Мат","Раб"]
[null,null,null,null,null,null,null,null,null,1,1,1,1]

{"sheet":"ПНР","index":13,"n_rows":23,"n_cols":13,"rows_kept":23,"cut":false,"hidden":false,"merged":[[28,9,29,9],[28,10,29,10],[28,11,29,11],[0,0,0,6],[1,1,1,6],[2,0,2,6],[3,0,3,6],[28,8,29,8],[15,2,15,3],[5,1,11,1],[15,14,16,14],[16,2,16,3],[17,5,17,6],[23,9,24,10],[17,0,17,4],[19,0,19,4],[19,5,19,6],[22,9,22,10],[21,7,21,12]]}
["Приложение №    к Договору подряда №    ______________от_____________",null,null,null,null,null,null,null,null,"КОЭФ для ренты мат","КОЭФ для ренты раб"]
[{"$f":"TODAY()","v":"2024-02-02"},"Данный сметный расчёт действителен 7 календарных дней. По истечению срока, цены могут быть изменены.",null,null,null,null,null,null,null,0.65,0.9]
["Сметный расчет ПНР"]
["ПНР",null,null,null,null,null,null,null,{"$f":"РАБОТЫ!A1","v":"Дата"}]
["Материалы/услуги","Описание","Кол-во","Ед.изм","Мат-ал, руб","Работа, руб ","Итого, руб",null,"Материал","Бригада","Прораб","Итого","Рента"]
["Котельная (двухконтурный настенный котел)","Пуско-наладочные работы включают:\n- настройка систем безопасности котельного оборудования;\n- настройка стабилизатора напряжения;\n- настройка автоматики котла;\n- заправка системы отопления теплоносителем с опрессовкой;\n- регулировка давления в системе отопления;\n- стравливание воздуха из системы отопления;\n- пуск и балансировка системы отопления, проверка работоспособности;\n- наладка работы выносных программируемых регуляторов.",null,"усл",{"$f":"I6/$J$2","v":0},{"$f":"(J6+K6)/$K$2","v":0},{"$f":"E6+F6","v":0},null,{"$f":"C6*РАБОТЫ!F243","v":0},{"$f":"C6*РАБОТЫ!C243*J23","v":0},{"$f":"C6*РАБОТЫ!D243","v":0},{"$f":"SUM(I6:K6)","v":0},{"$f":"IF(G6=0,\"\",(G6-L6)/G6)","v":""}]
["Котельная (одноконтурный настенный котел)",null,null,"усл",{"$f":"I7/$J$2","v":0},{"$f":"(J7+K7)/$K$2","v":0},{"$f":"E7+F7","v":0},null,{"$f":"C7*РАБОТЫ!F244","v":0},{"$f":"C7*РАБОТЫ!C244*J23","v":0},{"$f":"C7*РАБОТЫ!D244","v":0},0,""]
["Котельная (два настенных котла)",null,null,"усл",0,0,0,null,{"$f":"C8*РАБОТЫ!F245","v":0},{"$f":"C8*РАБОТЫ!C245*J23","v":0},{"$f":"C8*РАБОТЫ!D245","v":0},0,""]
["Котельная (напольный котел)",null,null,"усл",0,0,0,null,{"$f":"C9*РАБОТЫ!F246","v":0},{"$f":"C9*РАБОТЫ!C246*J23","v":0},{"$f":"C9*РАБОТЫ!D246","v":0},0,""]
["Комплексное управление котлом \n(2 котла/напольный котел)",null,null,"усл",null,{"$f":"(J10+K10)/0.85","v":0},0,null,null,{"$f":"(C10*7350)*J23","v":0},{"$f":"C10*1470","v":0},0,""]
["Дополнительно строение подключённое к теплотрассе ",null,null,"усл",null,0,0,null,{"$f":"C11*РАБОТЫ!F250","v":0},{"$f":"C11*РАБОТЫ!C250","v":0},{"$f":"C11*РАБОТЫ!D250","v":0},0,""]
["Вода очищенная 20л",null,null,"канистра",{"$f":"I12/0.95","v":0},null,0,null,{"$f":"C12*РАБОТЫ!F252","v":0},null,null,0,""]
["Запуск ХВС ГВС","Запуск системы холодного и горячево водоснабжения (выполняется при наличии установленных сантехприборов)",null,"усл",0,{"$f":"(J13+K13)/0.5","v":0},0,null,{"$f":"C13*РАБОТЫ!F254","v":0},{"$f":"C13*РАБОТЫ!C254*J23","v":0},{"$f":"C13*РАБОТЫ!D254+IF(C13>0,2000,0)","v":0},0,""]
["Дополнительные расходы (первичный выезд)","Пуско-наладочные работы системы автоматики аварийными инспекторами",1,"усл",null,{"$f":"L14","v":3800},{"$f":"C14*F14","v":3800},null,null,3800,null,{"$f":"J14","v":3800}]
["Дополнительные расходы (транспортные расходы)","Стравливание воздуха из системы отопления (производится при повторном выезде), присутствие заказчика",null,"усл",null,{"$f":"J15/0.8-IF(C15>0,333,0)","v":0},0,null,null,{"$f":"C15*(РАБОТЫ!D256+РАБОТЫ!D257)+IF(C15>0,3000,0)","v":0},null,{"$f":"SUM(I15:J15)","v":0},""]
["Итого материал:                                                                                                                                                                                                                                                            ",null,null,null,null,null,{"$f":"SUM(E6:E15)","v":0},null,null,null,null,{"$f":"SUM(I6:I15)","v":0},""]
["Работа:",null,null,null,null,null,{"$f":"SUM(F6:F15)","v":3800},null,null,null,null,{"$f":"SUM(J6:K15)","v":3800},0]
["Итого по смете:",null,null,null,null,{"$f":"SUM(G16:G17)","v":3800},null,null,{"$f":"SUM(I6:I15)","v":0},{"$f":"SUM(J6:J15)","v":3800},{"$f":"SUM(K6:K15)","v":0},{"$f":"SUM(I18:K18)","v":3800},"ДОБАВЛЯТЬ  3000р в инфо окно"]
["Корректировка стоимости (скидка):"]
["Итого по смете с учетом скидки:",null,null,null,null,{"$f":"F18-G19","v":3800}]
[null,{"$f":"РАБОТЫ!$A$1","v":"Дата"},null,null,null,null,null,null,null,null,null,null,"Рента"]
[null,null,null,null,null,null,null,"Коэффициент для домов свыше 350м2  (1,5 проставлять вручную)"]
[null,null,null,null,null,null,null,null,null,1]

{"sheet":"ПНР-КО","index":14,"n_rows":26,"n_cols":13,"rows_kept":26,"cut":false,"hidden":false,"merged":[[24,7,24,12],[25,9,25,10],[26,9,27,10],[31,8,32,8],[31,9,32,9],[31,10,32,10],[31,11,32,11],[18,14,19,14],[19,2,19,3],[20,0,20,4],[20,5,20,6],[22,0,22,4],[22,5,22,6],[18,2,18,3],[0,0,0,6],[1,1,1,6],[2,0,2,6],[3,0,3,6],[5,1,12,1]]}
["Приложение №    к Договору подряда №    ______________от_____________",null,null,null,null,null,null,null,null,"КОЭФ для ренты мат","КОЭФ для ренты раб"]
[{"$f":"TODAY()","v":"2024-02-02"},"Данный сметный расчёт действителен 7 календарных дней. По истечению срока, цены могут быть изменены.",null,null,null,null,null,null,null,0.65,0.9]
["Сметный расчет ПНР"]
["ПНР",null,null,null,null,null,null,null,{"$f":"РАБОТЫ!A1","v":"Дата"}]
["Материалы/услуги","Описание","Кол-во","Ед.изм","Мат-ал, руб","Работа, руб ","Итого, руб",null,"Материал","Бригада","Прораб","Итого","Рента"]
["Котельная (двухконтурный настенный котел)","Пуско-наладочные работы включают:\n- настройка систем безопасности котельного оборудования;\n- настройка стабилизатора напряжения;\n- настройка автоматики котла;\n- заправка системы отопления теплоносителем с опрессовкой;\n- регулировка давления в системе отопления;\n- стравливание воздуха из системы отопления;\n- пуск и балансировка системы отопления, проверка работоспособности;\n- наладка работы выносных программируемых регуляторов.",null,"усл",{"$f":"I6/$J$2","v":0},{"$f":"(J6+K6)/$K$2","v":0},{"$f":"E6+F6","v":0},null,{"$f":"C6*РАБОТЫ!F243","v":0},{"$f":"C6*РАБОТЫ!C243*$J$26","v":0},{"$f":"C6*РАБОТЫ!D243","v":0},{"$f":"SUM(I6:K6)","v":0},{"$f":"IF(G6=0,\"\",(G6-L6)/G6)","v":""}]
["Котельная (одноконтурный настенный котел)",null,null,"усл",{"$f":"I7/$J$2","v":0},{"$f":"(J7+K7)/$K$2","v":0},{"$f":"E7+F7","v":0},null,{"$f":"C7*РАБОТЫ!F244","v":0},{"$f":"C7*РАБОТЫ!C244*$J$26","v":0},{"$f":"C7*РАБОТЫ!D244","v":0},0,""]
["Котельная (два настенных котла)",null,null,"усл",0,0,0,null,{"$f":"C8*РАБОТЫ!F245","v":0},{"$f":"C8*РАБОТЫ!C245*$J$26","v":0},{"$f":"C8*РАБОТЫ!D245","v":0},0,""]
["Котельная (напольный котел)",null,null,"усл",0,0,0,null,{"$f":"C9*РАБОТЫ!F246","v":0},{"$f":"C9*РАБОТЫ!C246*$J$26","v":0},{"$f":"C9*РАБОТЫ!D246","v":0},0,""]
["Комплексное управление котлом (1 котел)",null,null,"усл",null,{"$f":"(J10+K10)/0.85","v":0},0,null,null,{"$f":"(C10*2625)*J26","v":0},{"$f":"C10*525","v":0},0,""]
["Комплексное управление котлом \n(2 котла/напольный котел)",null,null,"усл",null,{"$f":"(J11+K11)/0.85","v":0},0,null,null,{"$f":"(C11*7350)*J26","v":0},{"$f":"C11*1470","v":0},0,""]
["Дополнительно строение подключённое к теплотрассе ",null,null,"усл",null,0,0,null,{"$f":"C12*РАБОТЫ!F250","v":0},{"$f":"C12*РАБОТЫ!C250","v":0},{"$f":"C12*РАБОТЫ!D250","v":0},0,""]
["Вода очищенная 20л",null,null,"канистра",{"$f":"I13/0.95","v":0},null,0,null,{"$f":"C13*РАБОТЫ!F252","v":0},null,null,0,""]
["Запуск ХВС ГВС","Запуск системы холодного и горячево водоснабжения (выполняется при наличии установленных сантехприборов)",null,"усл",0,{"$f":"(J14+K14)/0.5","v":0},0,null,{"$f":"C14*РАБОТЫ!F254","v":0},{"$f":"C14*РАБОТЫ!C254*J26","v":0},{"$f":"C14*РАБОТЫ!D254+IF(C13>0,2000,0)","v":0},0,""]
["Монтаж электрики для котельного оборудования"," Установка накладных розеток, кабель-каналов и проводов для подключения котельного оборудования",null,"усл",{"$f":"I15/0.9","v":0},{"$f":"(J15+K15)/0.8","v":0},{"$f":"E15+F15","v":0},null,{"$f":"C15*РАБОТЫ!F255","v":0},{"$f":"(C15*2500)*J26","v":0},{"$f":"C15*290","v":0},0,""]
["Беспроводная GSM - Розетка (материал)","Дистанционно управляемая розетка. GSM-розетка поможет предупредить отключение электроотопительного оборудования и, как следствие, промерзание дома и коммуникаций зимой. Прибор отправляет сигналы в отдел сервиса GOOD WOOD. Аварийный сигнал дублируется в ленте личного кабинета клиента и отправляется через SMS",null,"шт.",{"$f":"I16/0.8","v":0},null,{"$f":"E16+F16","v":0},null,{"$f":"C16*РАБОТЫ!F253","v":0},{"$f":"C16*500","v":0},null,{"$f":"SUM(I16:K16)","v":0},""]
["Дополнительные расходы (первичный выезд)","Стравливание воздуха из системы отопления (производится при повторном выезде), присутствие заказчика",1,"усл",null,{"$f":"L17","v":3800},3800,null,null,3800,null,3800]
["Дополнительные расходы (транспортные расходы)","Стравливание воздуха из системы отопления (производится при повторном выезде), присутствие заказчика",null,"усл",null,{"$f":"J18/0.8-IF(C18>0,333,0)","v":0},0,null,null,{"$f":"C18*(РАБОТЫ!D256+РАБОТЫ!D257)+IF(C14>0,3000,0)","v":0},null,{"$f":"SUM(I18:J18)","v":0},""]
["Итого материал:                                                                                                                                                                                                                                                            ",null,null,null,null,null,{"$f":"SUM(E6:E18)","v":0},null,null,null,null,{"$f":"SUM(I6:I18)","v":0},""]
["Работа:",null,null,null,null,null,{"$f":"SUM(F6:F18)","v":3800},null,null,null,null,{"$f":"SUM(J6:K18)","v":3800},0]
["Итого по смете:",null,null,null,null,{"$f":"SUM(G19:G20)","v":3800},null,null,{"$f":"SUM(I6:I18)","v":0},{"$f":"SUM(J6:J18)","v":3800},{"$f":"SUM(K6:K18)","v":0},{"$f":"SUM(I21:K21)","v":3800},{"$f":"IF(F23=0,\"\",(F23-L21)/F23)","v":0}]
["Корректировка стоимости (скидка):"]
["Итого по смете с учетом скидки:",null,null,null,null,{"$f":"F21-G22","v":3800}]
[null,{"$f":"РАБОТЫ!$A$1","v":"Дата"}]
[null,null,null,null,null,null,null,"Коэффициент для домов свыше 350м2  (1,5 проставлять вручную)"]
[null,null,null,null,null,null,null,null,null,1]

{"sheet":"УЗЛЫ","index":15,"n_rows":692,"n_cols":16,"rows_kept":692,"cut":false,"hidden":false,"merged":[[261,0,262,0],[261,1,261,2]]}
["Материал  ОВиВК","Ед.изм.","Цена с наценкой","Цена по складу","Дата обновления","Запас 3% ","Для конвекторов (иначе выбиваются из рыночной стоимости)","Курс ЕВРО",{"$f":"'ОВиВК ТЕСЕ'!I2","v":100}]
["Uponor Ecoflex Quattro труба 2x25x2,3-2x25х3,5 /175 (арт. 1018147)","пог.м",{"$f":"D2*$F$2","v":6807.27},6609,"2022-12-14",1.03,1.03]
["Uponor Ecoflex Quattro труба 2x32x2,9-2x25х3,5 /175 (арт. 1018148)","пог.м",9493.51,9217,"2022-12-14","по запросу от Тамары"]
["Uponor Ecoflex Varia Twin PN6 25x2.3 25x2.3 140  (арт. 1018238)","пог.м",4230.21,4107,"2022-12-14"]
["Uponor Ecoflex Varia Twin PN6 2х32x2.9 / PN6 140 (арт. 1018239)","пог.м",3674.01,3567,"2022-12-14"]
["Труба для хол.водоснабжения ПНД ПЭ-100, SDR 17, PN 10, 32х2,0 мм/100м.","пог.м",50.47,49,"2023-09-12"]
["Теплоизоляция \"Энергофлекс\" 35/9 мм","пог.м",37.08,36,"2024-01-10","по запросу от Тамары"]
["ТТ_1.1_Дом до_150 м.кв. (Uponor Ecoflex Quattro MIDI труба 2x25x2,3-25x3,5-20x2,8-140)","компл",94379.930000000008,91631,"2023-11-14"]
["ТТ_2.1_150-250 кв.м. (Uponor Quattro Midi 2X32X2,9-25X3,5-20X2,8/140)","компл",95361.52,92584,"2023-11-14"]
["71716 Труба гофрированная DKC ПНД легкая D16 с протяжкой черная","бухта",2266,2200,"2024-01-10","по запросу от Галины   ПНД/ПВД труба 50 мм (бухта 100м) соотв. 14*100"]
["МКЭШ 5х0,75","пог.м",103.92700000000001,100.9,"2024-01-10","по запросу от Галины"]
["Датчик температуры МЛ-722 (DS)","шт",669.5,650,"2024-01-10","по запросу от Тамары"]
["Коллекторная система отопления (кв.м) ТЕСЕ","кв.м",484.33056153846155,{"$f":"'Расчёты ОВиВК'!G9","v":470.22384615384618},"2023-09-12","см. Расчёты ОВиВК"]
[null,null,null,null,null,"см. Расчёты ОВиВК"]
["Коллекторная система отопления (кв.м) Stout","кв.м",363.66030410256411,{"$f":"'Расчёты ОВиВК'!Q9","v":353.06825641025642},"2023-09-12","см. Расчёты ОВиВК"]
["Переход системы отопления со Stout на  ТЕСЕ","кв.м",120.67025743589745,{"$f":"D13-D15","v":117.15558974358976},"2023-09-12"]
["Материалы для опрессовки (арт.2806)","шт",3607.06,3502,"2021-01-20","включается в коллекторную систему отопления Рехау и Стаут"]
["Радиатор Vogel&Noot Ventil 22 kv-500-1200","шт",14792.86,14362,"2023-09-12","запрос Тамаре 12.01.2022"]
["Радиатор Roomer 22 kv-500-1200","шт",9270,9000,"2024-01-10"]
["Радиатор КЗТО Гармония С40 2-500-28","шт",32548,31600,"2023-06-07","информация о понижении на 20% от Волковой"]
["Радиатор КЗТО РСК 3-500-27  1/2нп","шт",30385,29500,"2023-04-07"]
["TECE_Комплект декоративной подводки к радиатору ИЗ ПОЛА",null,2997.3,2910,"2024-01-10","В середине Июля 2023г необходимо сделать ревизию по ценам ТЕСЕ"]
["TECE_Комплект декоративной подводки к радиатору ИЗ СТЕНЫ",null,3193,3100,"2024-01-10"]
[]
["STOUT_Комплект декоративной подводки к радиатору (трубки нерж.сталь)",2276,2575,2500,"2024-01-10"]
["Комплект напольного крепежа для радиаторов h=200мм",23922,6196.4800000000005,6016,"2023-01-12","на заказчике Никитин АА за штуку 2600 (в комплекте 2,3 шт) - с Димой принято решение по цене 5 200р. 23.04 закладываем 3 шт. "]
["Узел подключения радиатора Vogel Noot длиной до 1600мм (ПРЯМОЕ)","компл",2550.2800000000002,2476,"2023-02-21"]
["Мультифлекс прямой/крепеж/термоголовка Rettig Heating Group",21753,2987,2900,"2024-01-10"]
["Мультифлекс угловой/крепеж/термоголовка Rettig Heating Group",21754,2884,2800,"2024-01-10"]
["TECE_Узел подключения радиатора из стены -закладная часть (трубки нерж.сталь) + угловой мультифлекс",null,3502,3400,"2024-01-10"]
[]
["STOUT_Узел подключения радиатора из стены -закладная часть (трубки нерж.сталь) + угловой мультифлекс",3013,3500.1151,3398.17,"2023-09-12"]
["703202 Настенный регулятор программируемый для регул.темпер.принуд.конвекция","шт",8270.9,8030,"2024-01-10"]
["TECE_Узел подключения конвектора Varmann прямой",null,1957,1900,"2024-01-10"]
[]
["Конвектор Varmann Qtherm Q 230.75.1250 RR U EV1","шт",40994,{"$f":"(631*F38)-(233*F38)","v":39800},"2023-04-12","Волкова 07.04.23"]
["Конвектор Varmann Qtherm Q 230.75.1500 RR U EV1","шт",45938,{"$f":"(707*F38)-(261*F38)","v":44600},"2024-01-10","скидка 37% курс 80р"]
["Конвектор Varmann Qtherm Q 230.75.1750 RR U EV1","шт",50882,{"$f":"(784*F38)-(290*F38)","v":49400},"2024-01-10",{"$f":"I1","v":100}]
["Конвектор Varmann Qtherm 230.75.2000. ","шт",{"$f":"D39*$G$2","v":55929},{"$f":"(861*F38)-(318*F38)","v":54300},"2023-04-12"]
["Конвектор Varmann Qtherm 230.75.2250. ","шт",{"$f":"D40*$G$2","v":60873},{"$f":"(938*F38)-(347*F38)","v":59100},"2023-04-12"]
["Конвектор Varmann Qtherm 230.75.3000.","шт",75911,{"$f":"(1169*F38)-(432*F38)","v":73700},"2023-04-12"]
["Конвектор Varmann Ntherm, 230.90.1400. ","шт",22969,{"$f":"(353*F38)-(130*F38)","v":22300},"2023-04-12"]
["Конвектор Varmann Ntherm, 230.90.1800.","шт",25750,25000,"2024-01-10"]
["Конвектор Varmann Ntherm, 230.90.2200. ","шт",33887,{"$f":"(521*F38)-(192*F38)","v":32900},"2023-04-12"]
["Конвектор Varmann Ntherm ES (для влажных помещений), 230.90.1400. ","шт",30379.850000000002,29495,"2023-04-12"]
["Конвектор Varmann Ntherm ES (для влажных помещений), 230.90.1800.","шт",38077.040000000001,36968,"2023-04-12"]
["Конвектор Varmann Ntherm ES (для влажных помещений), 230.90.2200. ","шт",45780.41,44447,"2023-04-12"]
["Конвектор Varmann MiniKon 235.130.1600 глубина 235мм,высота 130мм, длина 1600мм напольный","шт",30179,{"$f":"(390*F38)-(97*F38)","v":29300},"2023-04-12","скидка 25% курс 80р"]
["Конвектор Varmann MiniKon 185.130.1600 глубина 185мм,высота 130мм, длина 1600мм напольный","шт",25132,{"$f":"(325*F38)-(81*F38)","v":24400},"2023-04-12"]
["TECE_Узел подключения вне котельной 25 УНИВЕРСАЛЬНАЯ ТРУБА",null,15450,15000,"2024-01-10"]
["7320258 Универсальная многослойная труба 25*4,0мм",null,18900.5,{"$f":"734*25","v":18350},"2024-01-10"]
["TECE_Узел подключения вне котельной 32 УНИВЕРСАЛЬНАЯ ТРУБА",null,null,23700,"2024-01-10"]
["[A] 732032 Универсальная многослойная труба 32*4,0мм",null,null,{"$f":"1212*32","v":38784},"2024-01-10"]
["STOUT_Узел подключения вне котельной 25","узел",{"$f":"D54*F2","v":10815},10500,"2024-01-10"]
["Труба PEX 25*3,5","узел",{"$f":"D55*F2","v":9012.5},{"$f":"350*25","v":8750},"2024-01-10"]
["STOUT_Узел подключения вне котельной 32","узел",{"$f":"D56*F2","v":16171},15700,"2024-01-10"]
["Труба PEX 32*4,4","узел",{"$f":"D57*F2","v":19116.8},{"$f":"580*32","v":18560},"2024-01-10"]
[null,null,null,null,null,null,"STOUT_Узел коллектора отопления на 3 контура ШРН-1",{"$f":"I58*$F$2","v":24486.725600000002},23773.52,"2023-11-14",null,null,"TECE_Узел коллектора отопления на 3 контура ШРН-1",{"$f":"O58*$F$2","v":25956},25200,"2024-01-10"]
[null,null,null,null,null,null,"STOUT_Узел коллектора отопления на 4 контура ШРН-2",{"$f":"I59*$F$2","v":23825.7952},23131.84,"2023-11-14",null,null,"TECE_Узел коллектора отопления на 4 контура ШРН-2",30288.18,29406,"2024-01-10"]
[null,null,null,null,null,null,"STOUT_Узел коллектора отопления на 5 контуров ШРН-2",26780,26000,"2023-11-14",null,null,"TECE_Узел коллектора отопления на 5 контуров ШРН-2",34608,33600,"2024-01-10"]
[null,null,null,null,null,null,"STOUT_Узел коллектора отопления на 6 контура ШРН-2",36153,35100,"2024-01-10",null,null,"TECE_Узел коллектора отопления на 6 контура ШРН-2",46865,45500,"2024-01-10"]
[null,null,null,null,null,null,"STOUT_Узел коллектора отопления на 7 контуров ШРН-3",32960,32000,"2024-01-10",null,null,"TECE_Узел коллектора отопления на 7 контуров ШРН-3",44290,43000,"2024-01-10"]
[null,null,null,null,null,null,"STOUT_Узел коллектора отопления на 8 контуров ШРН-3",36050,35000,"2024-01-10",null,null,"TECE_Узел коллектора отопления на 8 контуров ШРН-3",49440,48000,"2024-01-10"]
[null,null,null,null,null,null,"STOUT_Узел коллектора отопления на 9 контуров ШРН-3",38110,37000,"2024-01-10",null,null,"TECE_Узел коллектора отопления на 9 контуров ШРН-3",53560,52000,"2024-01-10"]
[null,null,null,null,null,null,"STOUT_Узел коллектора отопления на 10 контуров ШРН-4",42230,41000,"2024-01-10",null,null,"TECE_Узел коллектора отопления на 10 контуров ШРН-4",59225,57500,"2024-01-10"]
[null,null,null,null,null,null,"STOUT_Узел коллектора отопления на 11 контуров ШРН-4",44779.991600000001,43475.72,"2024-01-10",null,null,"TECE_Узел коллектора отопления на 11 контуров ШРН-4",61800,60000,"2024-01-10"]
[null,null,null,null,null,null,"STOUT_Узел коллектора отопления на 12 контуров ШРН-4",49746.2808,48297.36,"2024-01-10",null,null,"TECE_Узел коллектора отопления на 12 контуров ШРН-4",69010,67000,"2024-01-10"]
["Точка водоснабжения ТЕСЕ","шт",{"$f":"D68*$F$2*1.01","v":6995.5221190476195},{"$f":"'Расчёты ОВиВК'!G160","v":6724.5238095238101},"2023-09-12","см. Расчёты ОВиВК"]
[null,null,null,null,null,"см. Расчёты ОВиВК"]
["Точка водоснабжения Stout","шт",{"$f":"D70*$F$2*1.01","v":4773.375928761905},{"$f":"'Расчёты ОВиВК'!R160","v":4588.4609523809522},"2023-09-12","см. Расчёты ОВиВК"]
["Переход системы водоснабжения со Stout на ТЕСЕ","шт",{"$f":"D71*$F$2*1.01","v":2222.146190285715},{"$f":"D68-D70","v":2136.0628571428579},"2023-09-12"]
[null,null,null,null,null,null,"STOUT_Коллектор Водоснабжение 4 отвода ШРВ-1 Без Циркуляции",{"$f":"I72*$F$2","v":29870},29000,"2024-01-10",null,null,"TECE_Коллектор Водоснабжение 4 отвода ШРВ-1 БЕЗ Ц. (Труба HIS)",{"$f":"O72*$F$2","v":35020},34000,"2024-01-10"]
[null,null,null,null,null,null,"STOUT_Коллектор Водоснабжение 4 отвода ШРН-3 Циркуляция",{"$f":"I73*$F$2","v":43260},42000,"2024-01-10",null,null,"TECE_Коллектор Водоснабжение 4 отвода ШРВ-3 Циркуляция (Труба HIS)",{"$f":"O73*$F$2","v":51500},50000,"2024-01-10"]
[null,null,null,null,null,"см. Расчёты ОВиВК"]
[null,null,null,null,null,"см. Расчёты ОВиВК"]
["Точка канализации REXAU","шт",{"$f":"D76*$F$2","v":7578.9704625000004},{"$f":"'Расчёты ОВиВК'!R124","v":7358.2237500000001},"2021-11-25","см. Расчёты ОВиВК"]
["Точка канализации SINICON шумопоглащающие","шт",3510.0152024999998,{"$f":"'Расчёты ОВиВК'!H124","v":3407.7817499999996},"2022-10-24","см. Расчёты ОВиВК"]
["Точка канализации SINICON","шт",1998.828621875,{"$f":"'Расчёты ОВиВК'!AB124","v":1940.6103125},"2022-01-17","см. Расчёты ОВиВК"]
["Переход с трубы Синикон (купон) на трубу Рехау","шт",5580.1418406250004,{"$f":"D76-D78","v":5417.6134375000001},"2022-01-17"]
["TECE_Проходной полив (ДЛЯ PROTHERM)",null,8549,8300,"2024-01-10"]
[]
["трап горизонт","шт",{"$f":"D82*$F$2*1.09","v":5501.2300000000005},4900,"2024-01-10"]
["трап линейный ТЕСЕ  (арт.","шт",{"$f":"D83","v":43432.31},43432.31,"2024-01-10","см.скрин из письма правее + 1100 (комплект опор, нет в счёте)"]
["Инсталляция Унитаз (Монтаж в деревянную каркасную перегородку)","компл",{"$f":"D84*F2","v":29664},28800,"2024-01-10"]
["Инсталляция Унитаз (Монтаж короба на кирпичную стену)","компл",{"$f":"D85*F2","v":63242},61400,"2024-01-10"]
[]
[null,null,null,null,null,null,"STOUT_Труба теплого пола+стяжки ",{"$f":"I87*$F$2","v":95.357399999999998},92.58,"2024-01-10",null,null,"Труба для теплого пола БЕЗ ИЗОЛЯЦИИ d16 TECE",{"$f":"O87*$F$2","v":122.57000000000001},119,"2024-01-10"]
[null,null,null,null,null,null,"STOUT_Труба теплого пола+стяжки + гофра",{"$f":"I88*$F$2","v":122.80690000000001},119.23,"2024-01-10",null,null,"Труба для теплого пола В ИЗОЛЯЦИИ d16 TECE",{"$f":"O88*$F$2","v":150.38},146,"2024-01-10"]
[null,null,null,null,null,null,"STOUT_Узел теплого пола на 3 контура _ШРВ-1",26368,25600,"2024-01-10",null,null,"TECE_Узел теплого пола на 3 контура _ШРВ-1",27604,26800,"2024-01-10"]
[null,null,null,null,null,null,"STOUT_Узел теплого пола на 4 контура _ШРВ-2",29046,28200,"2024-01-10",null,null,"TECE_Узел теплого пола на 4 контура _ШРВ-2",30531.260000000002,29642,"2024-01-10"]
[null,null,null,null,null,null,"STOUT_Узел теплого пола на 5 контуров _ШРВ-2",33784,32800,"2024-01-10",null,null,"TECE_Узел теплого пола на 5 контуров _ШРВ-2",34505,33500,"2024-01-10"]
[null,null,null,null,null,null,"STOUT_Узел теплого пола на 6 контуров _ШРВ-3",37080,36000,"2024-01-10",null,null,"TECE_Узел теплого пола на 6 контуров _ШРВ-3",38110,37000,"2024-01-10"]
[null,null,null,null,null,null,"STOUT_Узел теплого пола на 7 контуров _ШРВ-3",43466,42200,"2024-01-10",null,null,"TECE_Узел теплого пола на 7 контуров _ШРВ-3",44290,43000,"2024-01-10"]
[null,null,null,null,null,null,"STOUT_Узел теплого пола на 8 контуров _ШРВ-3",51500,50000,"2024-01-10",null,null,"TECE_Узел теплого пола на 8 контуров _ШРВ-3",53045,51500,"2024-01-10"]
[null,null,null,null,null,null,"STOUT_Узел теплого пола на 9 контуров _ШРВ-4",53560,52000,"2024-01-10",null,null,"TECE_Узел теплого пола на 9 контуров _ШРВ-4",54590,53000,"2024-01-10"]
[null,null,null,null,null,null,"STOUT_Узел теплого пола на 10 контуров _ШРВ-4",55620,54000,"2024-01-10",null,null,"TECE_Узел теплого пола на 10 контуров _ШРВ-4",57165,55500,"2024-01-10"]
[null,null,null,null,null,null,"STOUT_Узел теплого пола на 11 контуров _ШРВ-4",63860,62000,"2024-01-10",null,null,"TECE_Узел теплого пола на 11 контуров _ШРВ-4",66641,64700,"2024-01-10"]
[null,null,null,null,null,null,"STOUT_Узел теплого пола на 12 контуров _ШРВ-5",69525,67500,"2024-01-10",null,null,"TECE_Узел теплого пола на 12 контуров _ШРВ-5",71070,69000,"2024-01-10"]
["Meibes Регулировочный короб RTL-I STANDART","компл.",{"$f":"D99*$F$2","v":8961},8700,"2024-01-10",null,"Meibes Регулировочный короб RTL-I STANDART",8856.9699999999993,8599,"2023-09-12",null,null,"Meibes Регулировочный короб RTL-I STANDART",8961,8700,"2024-01-10"]
["Комплект расходных материалов ТП (Кирпичные дома)","ТЕСЕ",4532,4400,"2024-01-10"]
["Труба для теплого пола БЕЗ ИЗОЛЯЦИИ d16 TECE","ТЕСЕ",122.57000000000001,119,"2024-01-10"]
["Труба для теплого пола В ИЗОЛЯЦИИ d16 TECE","ТЕСЕ",150.38,146,"2024-01-10"]
[]
["TECE_Терморегулятор с датчиком и комплектом подключения 24В","ТЕСЕ",9270,9000,"2024-01-10"]
["Комплект расходных материалов ТП (кирпичные дома)","компл.",4532,4400,"2024-01-10"]
[]
["TECE_Сервопривод 24В","ТЕСЕ",1854,1800,"2024-01-10"]
["Термостатическая головка ТСГ ВПС-01","шт",3738.9,3630,"2024-01-10"]
[]
["TECE_Клеммная колодка 10 выходов 24В","ТЕСЕ",13802,13400,"2024-01-10"]
["Лоток (трап) в гараже 4м","компл.",17410.09,16903,"2024-01-10"]
["Пескоуловитель","компл.",1608.8600000000001,1562,"2024-01-10"]
["ЦПС, расходные материалы","компл.",412,400,"2023-01-12"]
["Подключение к закладной","компл.",463.5,450,"2023-01-12"]
["REHAU_Подключение скрытого смесителя Гиг. душа","узел",2554.4,2480,"2023-01-12"]
["TECE_Подключение скрытого смесителя Гиг. душа",null,5871,5700,"2024-01-10"]
["REHAU_Подключение скрытого смесителя Душевой/ванны","узел",4447.54,4318,"2023-02-21"]
["TECE_Подключение скрытого смесителя Душевой/ванны",null,7622,7400,"2024-01-10"]
["STOUT_Подключение скрытого смесителя Гиг.душа","узел",3296,3200,"2024-01-10"]
["STOUT_Подключение скрытого смесителя Душевой/ванны","узел",4223,4100,"2024-01-10"]
[]
[]
["Материал  Котельная","Арт./код","Цена с наценкой","Цена по складу","Дата обновления","Запас % "]
[null,null,null,null,null,1.03,"Курс ЕВРО",82]
[null,null,null,null,null,1.03]
[null,null,null,null,null,1.05]
[null,null,null,null,null,1.03]
[]
[]
[]
[]
[]
["Газовый котел Baxi LUNA 3 comfort (24 кВт) (Одноконтурный, настенный, турб.)","45531358",{"$f":"D133*$F$125","v":84874.049700000003},82401.990000000005,"2023-11-14","скидка 45 % условная (на самом деле порядка 13% судя по ценам на сайте)"]
["Газовый котел Baxi LUNA 3 comfort (31 кВт) (Одноконтурный, настенный, турб.)","45524358",92007.335299999992,89327.51,"2023-11-14"]
["Газовый котел Baxi LUNA 3 comfort (24 кВт) (Двухконтурный, настенный, турб.)","45624358",100697.79550000001,97764.85,"2023-11-14"]
["Газовый котел Baxi LUNA 3 comfort (31 кВт) (Двухконтурный, настенный, турб.)","45631358",109004.6528,105829.75999999999,"2023-11-14"]
[]
[]
[]
[]
["STOUT котёл электрический 9 кВт","2101-000009",53929.770000000004,52359,"2023-11-14"]
["STOUT котёл электрический 12 кВт","2101-000012",54752.74,53158,"2023-11-14"]
["STOUT котёл электрический 14 кВт","2101-000014",56967.24,55308,"2023-11-14"]
["STOUT котёл электрический 18 кВт","2101-000018",60639.19,58873,"2023-11-14"]
["ML 4486 Zont Climatic 1.3 (741) Погодозависимый автоматический регулятор для многоконтурных систем отопления (1прямой + 3смесительных контура)","ML00004486",{"$f":"D145*$F$124","v":38676.5},37550,"2023-09-12"]
["ML 4512 Zont Плата цифровой шины E-BUS (748) для Zont Climatic","ML00004512",3084.85,2995,"2023-11-14"]
["ML 4479 Zont Smart 2.0 (744) Отопительный  GSM / WiFi контроллер для газовых и электрических котлов","ML00004479",11175.5,10850,"2023-04-07"]
["ML 3305 Zont Адаптер E-BUS (725) для подключения по цифровой шине","ML00003305",3011.7200000000003,2924,"2023-04-07"]
["Комплект беспроводных датчиков для автоматики (наружный + внутренний)",null,8883.75,8625,"2023-01-30"]
["Датчик температуры комнатный"," ML00004834",669.5,650,"2023-11-14"]
["Комплект сопутсвующих материалов для монтажа  (флюс, припой и тд)","000002772",5174.72,5024,"2021-04-12"]
["GSM контроллер Оптима - 1 с сервисом Тепломонитор\n для удаленного контроля и управления котлом, датчик комнатной температуры, кабель.","000002906",9459.52,{"$f":"112*H124","v":9184},"2021-01-20"]
["Узел автоматического включения электрического резервного котла (Вайлант Элоблок)","3383",17866.38,17346,"2021-04-12"]
["Узел автоматического включения электрического резервного котла (Протерм Скат)","2142",17866.38,{"$f":"D153","v":17346},"2021-04-12"]
["Коаксиальный дымоход с проходом через кровлю (обычный котел)","000002778",77013.100000000006,74770,"2021-04-12"]
["Коаксиальный дымоход с проходом через кровлю (конденсационный котел)","000002782",70835.16,68772,"2021-04-12"]
["Коаксиальный дымоход с проходом через стену (обычный котел)","000002775",6099.4231000000009,5921.77,"2023-09-12"]
["Коаксиальный дымоход с проходом через стену (конденсационный котел)","000002779",8755,{"$f":"8500","v":8500},"2021-04-12"]
["Бойлер Baxi UBT 160 (35 кВТ) ","100020658",51912,50400,"2022-08-03"]
["Бойлер Baxi UBT 200 (39 кВТ) ","100020659",53560,52000,"2022-08-03"]
["Бойлер Baxi UBT 300 (45 кВТ) ","100020660",79516,77200,"2022-08-03"]
["Бойлер S150 (720 л/ч)","301408/202001",{"$f":"D162*$F$124","v":52187.01},50667,"2023-02-28","Изготовитель Венгрия HAJDU (заложено в смету по наибольшей)","Информация по ценам на бойлеры (Стаут, Экосистем, Хаджу)","Стаут","Экосистем","Хаджу"]
["Бойлер S200 (768 л/ч)","301409/202002",65966.350000000006,64045,"2023-09-12",null,150,28367,25649,25806]
["Монтаж бойлера Ecosystem S160 - S200","000002804",49184.56,47752,"2021-04-12",null,200,31956,28884,29032]
["Бойлер S300 (882 л/ч)","301394/202004",79585.010000000009,77267,"2023-02-28","Счёт от Тамары 21.02.23",300,38838,37117,35389]
["Подключение бойлера Stout 200л PPR (без бойлера)",null,27291.467100000002,26496.57,"2023-09-12"]
["Подключение бойлера Stout 300л PPR (без бойлера)",null,27291.91,26497,"2023-09-12"]
["Монтаж бойлера Ecosystem S300 ","000002803",55221.39,53613,"2021-04-12"]
["Монтаж бойлера Vaillant R120-150","000002804",49184.56,{"$f":"D164","v":47752},"2021-04-12"]
["Монтаж бойлера Vaillant R200","000002804",49184.56,{"$f":"D164","v":47752},"2021-04-12"]
["Монтаж бойлера Vaillant R300","000002594",55221.39,{"$f":"D168","v":53613},"2021-04-12"]
["Gorenje Накопительный электрический водонагреватель Simplicity OTG 100 SLSIM, White Colour 100л","389991",16603.600000000002,16120,"2021-04-12"]
["Thermex ЭдЭ001694 Thermex НЭВН Нержавейка THERMEX MK 80 V Плоский MECHANIK - MK Нержавейка",null,21001.7,20390,"2023-05-02"]
["Узел обвязки эл. водонагревателя (без бойлера)","000002578",7828,7600,"2022-08-16"]
["Узел подключения основного одноконтурного газового котла (Радиаторы+теплые полы) Медь.","000002792",51444.380000000005,49946,"2022-08-16"]
["Узел подключения основного двухконтурного газового котла (Радиаторы+теплые полы) Медь.","000002793",53738.19,52173,"2022-08-16"]
["Узел подключения основного одноконтурного газового котла (Радиаторы) Медь.","000002795",46230.520000000004,44884,"2022-08-16"]
["Узел подключения основного двухконтурного газового котла (Радиаторы) Медь.","000002795",46230.520000000004,{"$f":"D177","v":44884},"2022-08-16"]
["Узел подключения резервного электрического котла Медь.","000002794",15905.26,15442,"2022-08-16"]
["Узел подключения основного электрического котла (Радиаторы+теплые полы)Медь.","000002797",45676.380000000005,44346,"2022-08-16"]
["Узел подключения основного электрического котла (Радиаторы)Медь.","000002796",40231.800000000003,39060,"2022-08-16"]
["Узел подключения основного электрического котла (Радиаторы)Пропилен.","000002800",20110.75,19525,"2022-08-16"]
["Система рециркуляции ГВС позволяет, мгновенно получать горячую воду в конечной точке водоразбора (ремендуется в случае удаленности точек водоразбора от коллектора более 8-10 м). Полипропилен","000002801",48482.1,47070,"2022-08-16"]
["Узел заполнения системы отопления","000002802",4070.56,3952,"2022-08-16"]
["Смесительный контур для радиаторного отопления автоматический. Полипропилен","000002787",42304.160000000003,41072,"2022-08-16"]
["Прямой контур для радиаторного отопления ручной. Полипропилен","000002788",36019.1,34970,"2022-08-16"]
["Смесительный контур для теплых полов автоматический. Полипропилен","000002790",0,null,"2022-08-16"]
["Смесительный контур для теплых полов ручной. Полипропилен","000002789",25929.22,25174,"2022-08-16"]
["Материалы, мембранный бак, автоматика. Полипропилен.","000002604",17100.060000000001,16602,"2022-08-16","Подключение ввода воды от скважины"]
["Материалы, автоматика. Полипропилен.","000002603",4852.33,4711,"2022-08-16","Подключение ввода воды от центрального водоснабжения"]
["материалы байпаса, обвязки редуктора и т.д.","000002602",21066.59,20453,"2022-08-16","Подключение байпаса водоподготовки, редуктора"]
["Автоматический запорный кран для защиты от протечек с 4 радиодатчиками и WiFi модуль  (настройка системы и запуск производится на пуско-наладочных работах котельной)","000002847",31602.46,30682,"2022-08-16","Подключение антипротечки от скважины"]
["Стабилизатор необходим для защиты котла от перепадов напряжения","IS1500 (1.5кВА)",13884.4,13480,"2022-08-16"]
["Комплект для перенастройки котлов на сжиженный газ ","0020053224",1329.73,1291,"2022-08-16"]
["Узел ввода воды от скважины без ГА",2877,9178.33,8911,"2022-08-16"]
["Узел ввода воды от скважины с ГА",2865,20366.190000000002,19773,"2022-08-16"]
["Узел ввода воды от центрального водоснабжения",2866,10664.62,10354,"2022-08-16"]
["Узел Греющий кабель",2878,3366.04,3268,"2023-09-12"]
["Узел подключения одноконтурного/двухконтурого котла",2867,9428.6200000000008,9154,"2023-09-12"]
["Узел подключения вывода на полив к узлу ввода воды",2868,1939.49,1883,"2023-09-12"]
["Узел подключения расширительного бака отопления к системе",2869,9397.7199999999993,9124,"2022-08-16"]
["Узел смесительной насосной группы (управление от контроллера) БЕЗ труб",3014,27252.77,26459,"2022-08-16"]
["Узел подключения байпаса водоподготовки к узлу ввода воды",2870,5206.9795999999997,5055.32,"2023-09-12"]
["Узел подключения бойлера косвенного нагрева 150/200 л",2871,{"$f":"D204*$F$124","v":36788.51},35717,"2022-08-16"]
["Узел подключения насоса циркуляции к бойлеру косвенного нагрева",2872,15562.27,15109,"2022-08-16"]
["Узел подключения насосной группы теплого пола к системе отопления",2873,52728.79,51193,"2022-08-16"]
["Узел общей обвязки котельной для одноконтурного котла",2874,12165.33,11811,"2023-09-12"]
["Узел общей обвязки котельной для двухконтурного котла",2875,7630.24,7408,"2023-09-12"]
["Узел Минерит+Лист нержи. (Только для брусовой котельной!)",2876,4284.8,4160,"2022-08-16"]
["Комплект расходных материалов на котельную",1649,3063.7865000000002,2974.55,"2022-08-16"]
["60/100 Через стену 1000мм (Обычный котёл)",2775,4313.6400000000003,4188,"2022-10-11"]
["80/125 Через кровлю, черный (Обычный котёл)",2778,56610.86,54962,"2022-10-11"]
["Подключение основного Электрического котла (Отопление + ГВС)",2897,{"$f":"D213*$F$124","v":27742.308399999998},26934.28,"2023-09-12"]
["Подключение основного Электрического котла (Отопление)",2899,{"$f":"D214*$F$124","v":6075.1768999999995},5898.23,"2023-09-12"]
["Подключение резервного Электрического котла (Отопление + ГВС)",2898,28236.667200000004,27414.240000000002,"2023-09-12"]
["Подключение резервного Электрического котла (Отопление)",2900,5725.3992000000007,5558.64,"2023-09-12"]
["AquaFilter AQM Корпус 10ВВ, вход 1\" FH10B1-B (FH10B1-B-WB)фильтр в сборе (колба, ключ, кронштейн, манометр) без картриджа",23917,5562,5400,"2021-04-12"]
["Honeywell FF06-1\"АА на холодную воду, 100 мкм, 1\"",22245,6734.6549999999997,{"$f":"4359*1.5","v":6538.5},"2021-04-12"]
["30041 (FL 30041) Flamko Сепаратор воздуха и шлама Flamcovent Clean Smart 3/4",30041,9321.5,9050,"2022-08-16"]
["Узел \"место под возможную установку настенного котла\" ППР",null,412,400,"2022-10-21"]
["Узел \"Место под датчик давления системы отопления\" PPR",null,391.40000000000003,380,"2022-11-29"]
["Беламос Реле давления PS-02C (М) новые",null,602.55000000000007,585,"2022-11-29"]
[]
[null,"411781 УЗО 4P 63A 300mA A DX3 N справа",null,4425,{"$f":"4425","v":4425}]
["Средняя цена боксов 72-36-54",null,6698.25,{"$f":"AVERAGE(D488:D493)","v":9412.4166666666661},{"$f":"AVERAGE(E488:E493)","v":"2022-10-06T16:00:00"}]
["Средняя цена бокса 18",null,3826.2650000000003,{"$f":"AVERAGE(D486:D487)","v":5189},{"$f":"AVERAGE(E486:E487)","v":"2022-11-21"}]
[null,null,0]
["Шина  4*7",null,482.75,{"$f":"1931/4","v":482.75},"2017-10-27"]
["Шина  8/1",null,45.375,{"$f":"363/8","v":45.375},"2017-10-27"]
[null,null,0]
["Стабилизатор СНПТО-7 Etalon",null,41633,{"$f":"83266/2","v":41633},"2017-06-02"]
["Стабилизатор СНПТО-9 Etalon",null,49298,{"$f":"147894/3","v":49298},"2016-10-12"]
["Стабилизатор СНПТО-11 Etalon",null,53228,{"$f":"159684/3","v":53228},"2016-10-12"]
["Стабилизатор СНПТО-14 Etalon",null,57983,57983,{"$f":"E$405","v":"2023-12-04"}]
["Стабилизатор СНПТО-18 Etalon",null,98596,98596,"2023-12-04"]
["Стабилизатор СНПТО-22 Etalon",null,106456,106456,"2023-12-04"]
["Стабилизатор СНПТО-27 Etalon",null,115966,115966,"2023-12-04"]
["Стойка 9-14",null,4935,4935,"2023-12-04"]
["Стойка 18-27",null,2085,2085,"2023-12-04"]
[null,null,0]
["774301 Выключатель 1-кл. в рамку бежевый Valena",null,139.16666666666666,{"$f":"835/6","v":139.16666666666666},"2017-10-27"]
["774305 Выключатель 2-кл в рамку бежевый Valena",null,226.04545454545453,{"$f":"4973/22","v":226.04545454545453},"2017-10-27"]
["774306 Переключатель 1-кл. в рамку бежевый Valena",null,189,{"$f":"3024/16","v":189},"2017-10-27"]
["774308 Переключатель 2-кл. на 2 направлен. в рамку бежевый Valena",null,340.5,{"$f":"1362/4","v":340.5},"2017-10-27"]
["774310 Выключатель 1-кл. с подствет., в рамку бежевый Valena",null,346,{"$f":"692/2","v":346},"2017-10-27"]
["774101 Выключатель 1-кл., в рамку бежевый 10А IP44 Valena",null,229,{"$f":"458/2","v":229},"2017-10-26"]
["774307  Переключатель 1-кл. промежут. в рамку бежевый Valena",null,370,{"$f":"740/2","v":370},"2017-10-27"]
["774320 Розетка с заземл., в рамку бежевая Valena",null,147.3515625,{"$f":"18861/128","v":147.3515625},"2017-10-27"]
["774120 Розетка с заземл., со штор., с крыш., в рамку бежевая Valena",null,352.5,{"$f":"7755/22","v":352.5},"2017-10-27"]
["69833 Розетка с заземл., с/п, серая IP55 Plexo",null,665.35714285714289,{"$f":"9315/14","v":665.35714285714289},"2017-10-27"]
["774329 Розетка телевизионная TV звезда в рамку бежевая 1.5дБ  Valena",null,398.16666666666669,{"$f":"4778/12","v":398.16666666666669},"2017-10-27"]
["774130 Розетка комп. RJ45х1 в рамку, кат. 5е бежевая Valena",null,439,{"$f":"1756/4","v":439},"2017-10-27"]
["76554 Розетка компьютерная RJ45 2 модуля категория 5е Mosaic",null,310,310,"2016-08-02"]
["774351 Рамка 1 пост бежевая Valena",null,34.485714285714288,{"$f":"2414/70","v":34.485714285714288},"2017-10-27"]
["774352 Рамка 2 поста бежевая Valena",null,84.555555555555557,{"$f":"3044/36","v":84.555555555555557},"2017-10-27"]
["774353 Рамка 3 поста бежевая Valena",null,145.33333333333334,{"$f":"872/6","v":145.33333333333334},"2017-10-27"]
["774354 Рамка 4 поста бежевая Valena",null,332.5,{"$f":"665/2","v":332.5},"2017-10-27"]
["774355 Рамка 5 постов бежевая Valena",null,552.20000000000005,{"$f":"5522/10","v":552.20000000000005},"2017-10-27"]
["Датчик движения IS2180-2 603717 IP 54 black",null,4035.5,{"$f":"8071/2","v":4035.5},"2017-10-05"]
[]
["Вентиляция"]
["Работы по хозрасчету, включая материал","Оплата прорабу"]
[null,"За 1 шт.","Начиная со 2 шт.","2023-07-07"]
["монтаж грибки вент,  кровля БРАСС  (хоз. расчет ИП)( второй и последующие)",{"$f":"3960+9000","v":12960}]
[]
["Монтаж 1 вент выход через кровлю металлочерепица . ХР ИП (один вент выход)",{"$f":"6050+9000","v":15050},{"$f":"B266-2000","v":13050},"Материал на основании счёта (+10%)  + работы 9 000р."]
[null,null,null,"Письмо о повышении на 10% от 11.03.22 (с 15.03)"]
["Монтаж 1 вент выход через кровлю Мягкая,битумная . ХР ИП (один вент выход)",{"$f":"7370+9000","v":16370},{"$f":"B268-2000","v":14370}," Письмо о повышении на 10% от 07.07.23 (с 24.07)"]
[]
["Монтаж 1 вент выход через кровлю цементно-песчанная . ХР ИП (один вент выход)",{"$f":"8580+9000","v":17580},{"$f":"B270-2000","v":15580},"Встреча 24.03.22г"]
[]
["Монтаж 1 вент выход  160 мм через кровлю Мягкая,битумная, металлочерепица . ХР ИП (один вент выход)",{"$f":"7260+9000","v":16260}]
[]
["Монтаж 1 вент выход 160 мм через кровлю цементно-песчанная . ХР ИП (один вент выход)",{"$f":"8800+9000","v":17800},{"$f":"B274-2000","v":15800}]
[]
["Монтаж 1 вент выход через кровлю (RENSON) (один вент выход)",{"$f":"10780+9000","v":19780},{"$f":"B276-2000","v":17780}]
[]
["Установка аэратора на кровле FLOW VILPE 125/700",{"$f":"9350+9000","v":18350},{"$f":"B278-2000","v":16350}]
[]
["Установка аэратора на кровле FLOW VILPE 160/700",{"$f":"14630+9000","v":23630},{"$f":"B280-2000","v":21630}]
[]
["Установка аэратора на кровле FLOW VILPE 125/700  цементно-песчанная",{"$f":"9350+9000","v":18350},{"$f":"B282-2000","v":16350}]
[]
["Установка аэратора на кровле FLOW VILPE 160/700  цементно-песчанная",{"$f":"14630+9000","v":23630},{"$f":"B284-2000","v":21630}]
[]
["Монтаж аэратора на плоской кровле",{"$f":"9190+9000","v":18190},null,"Просто для информации, в смету пока не вносим"]
[]
["Приточный клапан 16кп-04",{"$f":"4400+500+2500","v":7400}]
[]
["Система снегозадержания Гранд-Лайн (над газ.вент., вент.выходы, кровля - мет. черепица)",{"$f":"1550+400","v":1950}]
[]
["Система снегозадержания Гранд-Лайн (над газ.вент., вент.выходы, кровля - фальцевая)",{"$f":"2106+600","v":2706},null,"по запросу от снабжения 1950р + 600р монтаж"]
[null,null,null,"2012-12-01"]
["Монтаж Газ вент внутренняя d150 серая  цвет Vivatex  (хоз. расчет ИП )",59700]
[]
["Монтаж Газ вент внутренняя d200 серая  цвет Vivatex  (хоз. расчет ИП )",61700]
[]
["Монтаж Газ вент внешняя d150 серая  цвет Vivatex  (хоз. расчет ИП )",69500]
[]
["Монтаж Газ вент внешняя d200 серая  цвет Vivatex  (хоз. расчет ИП )",71500]
[]
["ОПЛАТА РАБОТ ПО ВЕНТИЛЯЦИИ (Renson, E190P, Tion) без материала"]
["Healthbox Compact 6 ",null,{"$f":"D303*$F$303","v":10000},10000,"2018-12-15",1]
["Healthbox Smartzone 8 ",null,{"$f":"D304*$F$303","v":10000},10000,"2018-12-15"]
["Дополнительный датчик CO2",null,1000,1000,"2018-12-15"]
["Дополнительный датчик VOC",null,1000,1000,"2018-12-15"]
["Дополнительный датчик VOC, Н2O",null,1000,1000,"2018-12-15"]
["Вытяжной канал на одно помещение, для первого этажа",null,5000,5000,"2018-12-15"]
["Вытяжной канал на два помещения, для первого этажа",null,6000,6000,"2018-12-15"]
["Вытяжной канал на одно помещение, для второго этажа",null,5000,5000,"2018-12-15"]
["Вытяжной канал на два помещения, для второго этажа",null,6000,6000,"2018-12-15"]
["Приточный клапан Velco 110",null,2000,2000,"2018-12-15"]
["Декоративная решетка с возможностью регулировки, стандарт",null,1000,1000,"2018-12-15"]
["Декоративная решетка с возможностью регулировки, Delux",null,1000,1000,"2018-12-15"]
[null,null,null,null,"2018-12-15"]
["Вытяжной канал на одно помещение, для первого этажа",null,5000,5000,"2018-12-15"]
["Вытяжной канал на два помещения, для первого этажа",null,6000,6000,"2018-12-15"]
["Вытяжной канал на одно помещение, для второго этажа",null,5000,5000,"2018-12-15"]
["Вытяжной канал на два помещения, для второго этажа",null,6000,6000,"2018-12-15"]
["Кровельный вентилятор E190P с диммером ",null,4000,4000,"2018-12-15"]
["Подключение распределительной коробки воздуховодов",null,6000,6000,"2018-12-15"]
["Приточный клапан Velco 110",null,2000,2000,"2018-12-15"]
["Декоративная решетка с возможностью регулировки, стандарт",null,1000,1000,"2018-12-15"]
["Декоративная решетка с возможностью регулировки, Delux",null,1000,1000,"2018-12-15"]
[null,null,null,null,"2018-12-15"]
["Tion бризер 3s Special",null,10000,10000,"2018-12-15"]
["Tion бризер 3s Standart",null,10000,10000,"2018-12-15"]
["Tion бризер 3s Smart",null,10000,10000,"2018-12-15"]
["МАТЕРИАЛЫ ВЕНТИЛЯЦИЯ"]
[null,null,null,null,null,"Запас 3% "]
["Healthbox 3.0",null,{"$f":"D331*F331","v":123600},120000,"2019-04-02",1.03]
["Кровельный грибок для Healthbox",null,{"$f":"D332*$F$331","v":7902.16},7672,"2018-12-10"]
["Дополнительный датчик CO2",null,13184,12800,"2019-04-02","*цены от снабжения (!)"]
["Дополнительный датчик VOC",null,13184,12800,"2019-04-02"]
["Дополнительный датчик VOC, Н2O",null,18128,17600,"2019-04-02"]
["Вытяжной канал на одно помещение, для первого этажа",null,30436.5,29550,"2020-03-17","Узлы в 1:С - стоимость в 1:С не актуализируется"]
["Вытяжной канал на два помещения, для первого этажа",null,42981.9,{"$f":"D336+12180","v":41730},"2020-03-17"]
["Вытяжной канал на одно помещение, для второго этажа",null,40942.5,39750,"2020-03-17"]
["Вытяжной канал на два помещения, для второго этажа",null,53899.9,{"$f":"D338+12580","v":52330},"2020-03-17"]
["Приточный клапан Velco 110",null,5356,5200,"2020-07-16"]
["Декоративная решетка с возможностью регулировки, стандарт",null,3605,3500,"2020-07-16"]
["Декоративная решетка с возможностью регулировки, Delux",null,3914,3800,"2018-12-10"]
[]
["Вытяжной канал на одно помещение, для первого этажа",null,29035.7,28190,"2020-03-17"]
["Вытяжной канал на два помещения, для первого этажа",null,41993.1,{"$f":"D344+12580","v":40770},"2020-03-17"]
["Вытяжной канал на одно помещение, для второго этажа",null,39541.700000000004,38390,"2020-03-17"]
["Вытяжной канал на два помещения, для второго этажа",null,49862.3,{"$f":"D346+10020","v":48410},"2020-03-17"]
["Вентилятор Eсо 190 P + есо регулятор + проходной элемент + расходные материалы",null,{"$f":"D348*$F$331-4000","v":50899},{"$f":"D350+9600","v":53300},"2023-07-07","*ECo 190 Р/ 125 / 700 вентилятор, EСo Регулятор 0 -10 В В EC POT S ,MUOTOKATE  проходной элемент, расходные мат."]
["Вентилятор Eсо 220 P + есо регулятор + проходной элемент + расходные материалы",null,{"$f":"D349*$F$331-4000","v":52743.73},{"$f":"D351+9600","v":55091},"2023-07-07"]
["Вентилятор Eсо 190 P + проходной элемент + расходные материалы",null,{"$f":"D350*$F$331-4000","v":41011},{"$f":"43700","v":43700},"2023-07-07","* Тихая кухня за минусом регулятора (5 175р)"]
["Вентилятор Eсо 220 P + проходной элемент + расходные материалы",null,{"$f":"D351*$F$331-4000","v":42855.73},{"$f":"45491","v":45491},"2023-07-07","* Проходной элемент под металл и брасс стоимость 2400, а под гибкую черепицу 1400 (сейчас учтён последний вариант)"]
["Подключение распределительной коробки воздуховодов",null,6592,6400,"2018-12-10"]
["Приточный клапан Velco 110",null,14019.33,{"$f":"11211+2400","v":13611},"2023-07-07","на основании письма об удорожании"]
["Декоративная решетка с возможностью регулировки, стандарт",null,3605,3500,"2018-12-10"]
["Декоративная решетка с возможностью регулировки, Delux",null,3914,3800,"2018-12-10"]
[]
["Tion бризер 3s Special",null,35947,34900,"2018-12-10"]
["Tion бризер 3s Standart",null,36977,35900,"2018-12-10"]
["Tion бризер 3s Smart",null,45217,43900,"2018-12-10"]
[]
["Вентиляция Приточная ","Ед.изм.","Цена с наценкой","Цена по складу","Дата обновления","Запас 3% "]
["Воздуховод бухта 50 м.п. d75 (blauFast)","м ",{"$f":"D362*$F$362","v":154.5},{"$f":"15000/100","v":150},"2020-07-02",1.03]
["Диффузор потолочный приточный 125 мм (Анемостат)","шт",{"$f":"D363*$F$362","v":309},300,"2020-07-02"]
["Диффузор стеновой приточный (решётка настенная)","шт",875.5,850,"2020-07-02"]
["Адаптеры","шт",2884,2800,"2020-07-02"]
["Распределительный короб  8-10х диам75мм (Коллектор)","шт",12669,12300,"2020-07-02"]
["Отводы, крепления,комплектующие для полужестких гофр. воздуховодов","компл",5150,5000,"2020-07-02"]
["Приточная установка 400-500м3/ч","шт",110210,107000,"2020-07-02","BLAUBOX E800 - Приточная установка"]
["Приточная установка 250-300м3/ч","шт",87550,85000,"2020-07-02"]
["Пульт управления","шт",2060,2000,"2020-07-02"]
["Шумоглушители, клапана, Заборный стеновой элемент","компл",28325,27500,"2020-07-02","клапан, дроссель-клапан, привод воздушной заслонки, заборный элемент"]
["Расходные материалы","компл",5150,5000,"2020-07-02"]
["Электромонтажные работы (подключение установки, датчиков)","компл",0,0,"2020-07-02"]
["Пусконаладочные работы","шт",2060,2000,"2020-07-02"]
["разработка документов для монтажа системы вентиляции","компл",18540,18000,"2020-07-02"]
["Сверление отверстий в стене ","шт",0,0,"2020-07-02"]
["Сверление отверстий в плите","шт",0,0,"2020-07-02"]
["Сверление отверстий в балках","шт",0,0,"2020-07-02"]
["Airone TC 200 из нержавеющей стали","шт",1751,1700,"2020-07-16"]
["160S Intake приточный вентиляционный элемент","шт",5253,5100,"2020-07-16"]
["Декоративные короба (выполняются при разводке воздуховодов под потолком 1 этажа)","м",494.40000000000003,480,"2020-07-02","* все счета смотреть в почте от Виктора (Миша Лебедев закупку подтвердил)"]
["Дополнительный пирог пола (выполняется при разводке воздуховодов в полу 2 этажа) - удорожание по отношению к типовому полу","м2",360.5,350,"2020-07-02"]
[]
[]
[]
["Материал  Электрика","Ед.изм.","Цена с наценкой","Цена по складу","Дата обновления","Запас 3% "]
["Кабель ВБбШв 4х16","м",{"$f":"D387*$F$387","v":1057.8203000000001},1027.01,"2023-12-04",1.03]
["Кабель ВббШВ 5х10","м",882.35979999999995,856.66,"2023-12-04"]
["Кабель ПРКС 3х1,5","м",221.45000000000002,215,"2023-12-04"]
["Кабель ВбШв 3х1,5","м",115.7308,112.36,"2023-12-04"]
["Кабель ВВГ нг-LS 3x1,5","м",71.070000000000007,69,"2023-12-04"]
["Кабель ПРКС 3х1,5","м",221.45000000000002,215,"2023-12-04"]
["Кабель ВбШв 3х1,5","м",115.36,112,"2023-12-04"]
["97373 Кабель ВВГ нг-LS 3x4","м",168.84790000000001,163.93,"2023-12-04"]
["Кабель ВВГ нг-LS 5*2,5",null,184.37,179,"2023-12-04"]
["Кабель ВВГ нг-LS 5*4","м",274.25810000000001,266.27,"2023-12-04"]
["Кабель ПРКС 5х2,5","м",665.92589999999996,646.53,"2023-12-04","х5 РКГМ 2,5"]
["Кабель ВВГ нг-LS 5x10","м",598.43000000000006,581,"2023-12-04"]
["Кабель ВВГ нг-LS 5x6",null,405.79940000000005,393.98,"2023-12-04"]
["Кабель ВВГнг-LS 3х2,5","м",107.12,104,"2023-12-04"]
["Кабель ВВГнг-LS 4x1,5","м",97.850000000000009,95,"2023-12-04"]
[null,null,0]
["кабель КВК-2п 2x0,75мм² (уличный)","м",55.290399999999998,53.68,"2023-12-04"]
["Кабель ПВ1 2,5 ж/з",null,37.049100000000003,35.97,"2023-12-04"]
["Кабель ПВ3 16 ж/з",null,231.13200000000001,224.4,"2023-12-04"]
["Кабель ПВ3 6 ж/з",null,83.605100000000007,81.17,"2023-12-04"]
["кабель ПуГВ 1х25 ж/з",null,364.80540000000002,354.18,"2023-12-04"]
["Кабель SAT 703B+CU/CU (75 Ом) 100 м белый ","м",86.715699999999998,84.19,"2023-12-04"]
[]
["провод ШВВП 2х0,75",null,9.6820000000000004,{"$f":"282/30","v":9.4},"2022-03-02"]
["Cabeus STP-4P-Cat.6a-SOLID-OUT-LSZH-UV Кабель витая пара экранированная STP (U/FTP), категория 6a (10GBE), 4 пары, (23 AWG), одножильный (solid), экран - фольга, для внешней прокладки, каждая пара в экране (фольга), LSZH-UV (305 м)","м",191.58,186,"2023-09-18","АРТИКУЛ: STP-4P-Cat.6a-SOLID-OUT-LSZH-UV"]
["Кабель UTP 4р. cat 5t PVC ","м",36.050000000000004,35,"2023-04-06"]
["Сигнальная лента Осторожно кабель 150 мм(100м)","шт",1612.98,1566,"2023-12-04"]
["Провод монтажный витой 3х2,5",null,81.37,79,"2022-07-08"]
["Провод монтажный витой 3х1,5",null,58.71,57,"2022-07-08"]
["Изолятор керамический D20х24",null,28.84,28,"2022-07-08"]
["Коробка распределительная",null,52.53,51,"2023-09-18","паечная 150х110х70 IP55ДКС"]
["ФОГ Розетка",null,131.84,128,"2022-07-08"]
["СИП 4х16, проколы для кабеля (8шт), натяжитель для СИП (2шт), крюк крепежа для СИП (2шт)","узел",2049.7000000000003,1990,"2022-07-08","запрос в ОС"]
["Узел Е27 (Лампа ЛОН Е-27, Патрон Е-27)",null,31.93,31,"2023-09-18"]
["Труба гофрированная ПВХ тяжелая с протяжкой D=16mm 91516","м",23.494299999999999,22.81,"2023-12-04","увеличение на 7% по инфо письму 1 декабря, +5% 14 января"]
["Труба гофрированная ПВХ тяжелая с протяжкой D=20mm 91520","м",32.846699999999998,31.89,"2023-12-04"]
[null,null,0]
["Гофрошланг D16 с зондом",null,5.9139166666666663,{"$f":"6890/1200","v":5.7416666666666663},"2022-07-08"]
["Гофрошланг D32 c зондом 91932","м",{"$f":"D425*$F$387","v":31.93},31,"2023-04-06"]
["Клипсы для гофры D16    51016","шт",3.7080000000000002,3.6,"2023-12-04"]
["Клипсы для гофры D20   51020","шт",3.8418999999999999,3.73,"2023-12-04"]
["91951 Клипсы для гофры D25","шт",5.2839,5.13,"2023-12-04"]
["клипсы для гофры D32","шт",7.7559000000000005,7.53,"2023-12-04"]
["Лампа ЛОН 60 Вт Е-27",null,42.796499999999995,41.55,"2023-12-04"]
["Патрон Е-27 керамический",null,29.313800000000001,28.46,"2023-12-04"]
["Подрозетники 10170 с лапками  г/у",null,22.66,22,"2023-12-04"]
["саморез черн. 3,5*25","шт",0.5815538461538462,{"$f":"367/650","v":0.56461538461538463},"2022-07-08","1кг = 650 шт.  "]
["Саморезы черные 3,5*32мм",null,123.60000000000001,{"$f":"2400/20","v":120},"2022-07-08"]
["Сжим У870 М HEGEL",null,801.34,778,"2023-09-18"]
["коробка распаечная 190х140х70 (54000коробка распаечная 150х110х70)","шт",267.78970000000004,259.99,"2023-12-04"]
["Кабель ВббШВ 5х10 ","м",885.80000000000007,860,"2023-12-04"]
["Кабель ВБбШв 4х16","м",1057.81,1027,"2023-12-04"]
["Кабель ВббШВ 3х4","м",256.67599999999999,249.2,"2023-12-04"]
["Кабель ВБбШв 3*2,5","м",170.85640000000001,165.88,"2023-12-04"]
["Кабель ВБбШв 5*6","м",551.95640000000003,535.88,"2023-12-04"]
["Витая пара FTP 4х2х0,52 кат. 6А уличный","м",191.58,{"$f":"D411","v":186},"2023-09-18"]
["Кабель КВК-2п 2x0,75мм² (уличный), , труба гофр.ПНД с протяжкой ","м",37.08,36,"2023-09-21"]
["Труба гофрированная DKC ПНД лёгкая D16 с протяжкой черная","м",336.81,327,"2023-09-18"]
[]
[]
["Ремнабор с термоус-ой для 2-жил. каб DEVI",null,1306.9228571428573,{"$f":"17764/14","v":1268.8571428571429},"2017-09-22"]
["19805366 Муфта для кабеля в трубу",null,1553.7550000000001,{"$f":"3017/2","v":1508.5},"2017-10-26"]
[]
["Термостат для теплого пола бежевый Valena",null,{"$f":"D450*F387","v":10222.75},9925,"2022-07-08","запрос в ОС"]
["140F1091 Devi Датчик пола на проводе 3,0 м , 15 кОм ",null,1881.81,1827,"2022-07-08","запрос в ОС"]
["140F0451 Devimat DTIF-150 Минимат двухжильный 600Вт 0,45x8м (4 кв.м.)",null,3995.37,3879,"2022-07-08","запрос в ОС"]
["140F1249 Devi Deviflex 18T Кабель двухжильный 1720 / 1880 Вт 105 м",null,15971.18,15506,"2016-10-27"]
[]
["Комплект заземления",null,25714.98,{"$f":"23777+1189","v":24966},"2023-08-14","23.09 переход обратно на Изетек (ввиду плохого качества ЕКФ и длительности поставок) ; 14,08,2023 повышение на 5% из письма"]
["Комплект заземления на 3 очага EZ-36 (36м, 14мм, 24х1500мм)",null,45655.78,44326,"2023-04-06"]
["Комплект электролитического заземления EZ - 2.5 Г",null,42132.15,40905,"2023-09-18"," 14,08,2023 повышение на 5% из письма"]
["КУП ",null,2416.1224999999999,{"$f":"(61+130+5810+1453+614+115+1200)/4","v":2345.75},"2023-04-06"]
[]
["70120 BOX /2S коробка для люков 70020 и 70021 металлическ. ","шт",978.5,950,"2023-04-06"]
["70021 LUK/2AL Люк в пол на 2 поста*(45х45 мм), сталь",null,9863.2800000000007,9576,"2023-04-06"]
["М9035. Люк 70040 LUK/4 на 4 поста 45х45мм пластиковый (Экопласт)","шт",5825.68,5656,"2023-09-18","из инета"]
["70040 LUK/4 Люк в пол на 4 модуля (45х45 мм), с суппортом и коробкой","шт",6711.4800000000005,6516,"2023-09-18"]
[null,null,0]
["Молниезащита",null,39404.71,38257,"2017-10-30"]
[]
["Кабель-канал 100х60 белый 2 метра Элекор",null,384.2724,373.08,"2023-12-04"]
["Кабель-канал 25х16 белый 2 метра Элекор","шт",155.53,151,"2023-12-04"]
[]
["407263 Авт. выкл. 1P 16A C 6kA DX3-E",null,{"$f":"D470*$F$387","v":574.98720000000003},558.24,"2023-12-04"]
["411555 УЗО 2P 40A 30mA A DX3",null,6021.0504000000001,5845.68,"2023-12-04"]
["407261 Авт. выкл. 1P 10A C 6kA DX3-E",null,605.00139999999999,587.38,"2023-12-04"]
["412535 Контактор 230V 4НЗ 25А CX3",null,7946.45,7715,"2023-12-04"]
["412557 Контактор 230V 4НЗ 63А с руч. управл. CX3","шт",14241.439199999999,13826.64,"2023-12-04"]
["407294 Авт. выкл. 3P 32A C 6kA DX3-E","шт",2993.1800000000003,2906,"2023-12-04","275/12,5 с (3+0) Стример 113102"]
["5093511 OBO Bettermann УЗИП для силовых сетей 3 пол. (Класс I+II) (цена 11113)","шт",14677.5,14250,"2022-11-17","NX1241 Ограничитель перенапряжения 3P+N+PE 12,5kA 275В DKC - был ранее, проблемы с закупкой и шёл на 4 модуля, мы используем три."]
["Шина соединительная PIN 3ф 63А мед. изол. 54мод (дл.1м) EKF pin-03-63","компл",{"$f":"D477","v":1043.58},1043.58,"2023-12-14","Цена от Ярослава"]
["407930 Авт. выкл. 4P 25A C 6kA/10kA DX3",null,4088.0803000000005,3969.01,"2023-12-14"]
["411760 УЗО 4P 40A 30mA A DX3 N справа",null,11707.5877,11366.59,"2023-12-14"]
["407292 Авт. выкл. 3P 20A C 6kA DX3-E",null,2184.9802000000004,2121.34,"2023-12-14"]
["412536 Контактор 230V 4H3 25A CX3","шт",7569.47,7349,"2023-12-14"]
["406459 Выключ.-разъедин. 3П 32А DX3",null,2654.0731000000001,2576.77,"2023-12-14"]
["406315 Ввод резерва ручной 3 полюса DX3",null,1253.51,1217,"2023-12-14"]
["407663 Автоматический выключатель DX3 1 фаза 2A 1М (Тип C) 10 kA",null,1662.5436,1614.12,"2023-12-14","407257 Автоматический выключатель DX3 1Р/ C2А 6кА "]
[]
["13982 Бокс ЩРн-П-18 IP65 пласт., прозр. дверь, белый Kaedra ","шт",5556.85,5395,"2023-04-06","85618 Щиток 18 мод. настен. IP65 с дверцей ДКС"]
["24118 Бокс ЩРв-П-18 IP40 пластик., прозр. дверь белый Pragma",null,5132.49,4983,"2022-07-08","81518 Бокс СП IP41 18м бел/дым. двер. DKC "]
["13984 Бокс ЩРн-П-36 (2х18) IP65 пласт., прозр. дверь, белый Kaedra ","шт",8620.07,8369,"2023-04-06","85636  Щиток 36 мод. настен. IP65 с дверцей ДКС"]
["13986 Бокс ЩРн-П-54 (3х18) IP65 пласт., прозр. дверь, белый Kaedra ","шт",9341.07,9069,"2023-04-06","85654  Щиток 54 мод. настен. IP65 с дверцей ДКС"]
["13987 Бокс ЩРн-П-72 (4х18) IP65 пласт., прозр. дверь, белый Kaedra ",null,10435.960000000001,10132,"2022-07-08","85672  Щиток 72 мод. настен. IP65 с дверцей ДКС"]
["24218 Бокс ЩРв-П-36 (2х18) IP40 пласт., прозр. дверь белый Pragma ",null,6221.7150000000001,{"$f":"12081/2","v":6040.5},"2022-07-08","81536 Щиток СП на 36 мод. IP41 белый DKC "]
["24318 Бокс ЩРв-П-54 (3х18) IP40 пласт., прозр. дверь белый Pragma ",null,8886.84,{"$f":"17256/2","v":8628},"2022-07-08","81554 Бокс СП 54мод. IP41 бел./дым. двер. DKC "]
["24418 Бокс ЩРв-П-72 (4х18) IP40 пласт., прозр. дверь белый Pragma ",null,14663.08,14236,"2022-07-08","81572 Бокс СП IP41 72м бел/дым. двер. DKC "]
["407293 Авт. выкл. 3P 25A C 6kA DX3-E",null,2126.4556000000002,2064.52,"2023-12-04"]
["407861 Авт. выкл. 3P 25A C 6kA/10кА DX3-E","шт",2894.3,2810,"2023-12-04"]
[null,null,null,null,null,"Запас 10% ввиду скачка курса (16.03.20)"]
["Автоматика для стандартных точек",null,null,null,null,1.03]
["407263 Авт. выкл. 1P 16A C 6kA DX3-E","шт",{"$f":"D498*$F$497","v":880.65},855,"2023-12-04"]
["411555 УЗО 2P 40A 30mA A DX3","шт",{"$f":"D499*$F$497","v":6229.4400000000005},6048,"2023-12-04"]
[]
["Автоматика для генератора без АВР"]
["406315 Ввод резерва ручной 3 полюса DX3","шт",{"$f":"D502*$F$497","v":1253.51},1217,"2023-12-04"]
["407294 Авт. выкл. 3P 32A C 6kA DX3-E","шт",{"$f":"D503*$F$497","v":2993.1800000000003},2906,"2023-12-04"]
[]
["Автоматика для архитектурной подсветки"]
["407263 Авт. выкл. 1P 16A C 6kA DX3-E","шт",{"$f":"D506*$F$497","v":880.65},855,"2023-12-04"]
["411555 УЗО 2P 40A 30mA A DX3","шт",{"$f":"D507*$F$497","v":6229.4400000000005},6048,"2023-12-04"]
[]
["Автоматика для рольставней"]
["411555 УЗО 2P 40A 30mA A DX3","шт",{"$f":"D510*$F$497","v":6229.4400000000005},6048,"2023-12-04"]
["407261 Авт. выкл. 1P 10A C 6kA DX3-E","шт",{"$f":"D511*$F$497","v":659.2},640,"2023-12-04"]
["412535 Контактор 230V 4НО 25А CX3","шт",{"$f":"D512*$F$497","v":4694.74},4558,"2023-12-04"]
[]
["Автоматика для силовых точек"]
["411760 УЗО 4P 40A 30mA A DX3 N справа","шт",{"$f":"D515*$F$497","v":11711.1},11370,"2023-12-04"]
["407292 Авт. выкл. 3P 20A C 6kA DX3-E","шт",{"$f":"D516*$F$497","v":2184.9802000000004},2121.34,"2023-12-04"]
[]
["Автоматика для мастер ключа (только свет)"]
["407663 Авт. выкл. 1P 2A C 6kA DX3-E","шт",{"$f":"D519*$F$497","v":1662.5436},1614.12,"2023-12-04"]
["412536 Контактор 230V 4H3 25A CX3","шт",{"$f":"D520*$F$497","v":7946.45},7715,"2023-12-04"]
[]
["Автоматика для мастер ключа (вся электрика)"]
["407663 Авт. выкл. 1P 2A C 6kA DX3-E","шт",{"$f":"D523*$F$497","v":1662.5436},1614.12,"2023-12-04"]
["412557 Контактор 230V 4НЗ 63А с руч. управл. CX3","шт",{"$f":"D524*$F$497","v":14241.439199999999},13826.64,"2023-12-04"]
[]
["Боксы"]
["24118 Бокс ЩРв-П-18 IP40 пластик., прозр. дверь белый Pragma","шт",{"$f":"D527*$F$497","v":3563.8},3460,"2023-12-18","81518 Бокс СП IP41 18м бел/дым. двер. DKC "]
["13982 Бокс ЩРн-П-18 IP65 пласт., прозр. дверь, белый Kaedra ","шт",{"$f":"D528*$F$497","v":5556.85},{"$f":"D486","v":5395},"2023-04-06","85618 Щиток 18 мод. настен. IP65 с дверцей ДКС"]
["24318 Бокс ЩРв-П-54 (3х18) IP40 пласт., прозр. дверь белый Pragma ","шт",7211.03,7001,"2023-12-18","81554 Бокс СП 54мод. IP41 бел./дым. двер. DKC "]
["13986 Бокс ЩРн-П-54 (3х18) IP65 пласт., прозр. дверь, белый Kaedra ","шт",9341.07,{"$f":"D489","v":9069},"2023-04-06","85654  Щиток 54 мод. настен. IP65 с дверцей ДКС"]
["Распаечный щит освещения (расходники)","узел",{"$f":"D531","v":3745},3745,"2023-04-06"]
["Расходники максимальная наполняемость","узел",{"$f":"D532","v":26243},26243,"2023-04-06"]
[]
["Вводной АВ"]
["407293 Авт. выкл. 3P 25A C 6kA DX3-E","шт",{"$f":"D535*$F$497","v":2246.4299999999998},2181,"2023-12-04","407861 Автоматический выключатель DX3  /3Р/ C25A 6/10 кА"]
["411781 УЗО 4P 63A 300mA A DX3 N справа","шт",{"$f":"D536*$F$497","v":14800.07},14369,"2023-12-04","411746 Устройство защитного отключения DX\"3\" (тип АС)\n63А-300мА 400В 3P+N 4мод. селект. "]
[]
["Расходники"]
["97244 Кабель ВВГ нг-LS 5x6","шт",{"$f":"D539*$F$497","v":405.82},394,"2023-12-04"]
["32017DEK Шина 4/7 на DIN-рейку DEKraft","шт",{"$f":"D540*$F$497","v":1047.51},1017,"2023-12-04"]
["Кабель-канал 25х16 белый 2 метра Элекор","шт",155.53,151,"2023-12-04"]
[]
["Автоматика для УЗИП"]
["407861 Авт. выкл. 1P 25A C 10kA/25kA DX3","шт",{"$f":"D544*$F$497","v":2894.3},2810,"2023-12-04"]
["Разница в стоимости между АВ для УЗИП и обычным АВ","шт",{"$f":"C535","v":2246.4299999999998}]
["\nEA04.009.015 Реле контроля напряжения CP-723","шт.",{"$f":"D546*$F$497","v":10310.712},{"$f":"10010.4","v":10010.4},"2023-12-15"]
["Распределительный слаботочный щит (наружн.)","шт",{"$f":"D547+(10*C400)+(3*13.4)","v":6575.5999999999995},{"$f":"2974+605+40.2+245+500+1100","v":5464.2},"2023-04-06"]
["Распределительный слаботочный щит (внутр.)","шт",{"$f":"D548+(10*C400)+(3*13.4)","v":9406.5800000000017},{"$f":"5804.98+605+40.2+245+500+1100","v":8295.18},"2023-04-06","щит 5 277 + кабель 55*10м + заглушка 01-06-049 на 6 модулей 13,4*3шт + автомат (арт.407263) 245р + удорожание 06.04"]
[]
["Щит автоматики котельной DX","узел",{"$f":"D550*F497","v":13905},13500,"2023-04-06"]
["Щит автоматики котельной ТX","узел",{"$f":"D551*F497","v":13905},13500,"2023-04-06"]
[]
[]
["404028 Авт. выкл. 1P 16A C 6kA ТХ",null,{"$f":"D554*$F$497","v":723.06000000000006},702,"2023-12-04"]
["403001 УЗО 2P 40A 30mA A ТХ",null,3107.5203000000001,3017.01,"2023-12-04"]
[]
["403009 УЗО 4P 40A 30mA A ТХ",null,5681.4800000000005,5516,"2023-12-04"]
["404057 Авт. выкл. 3P 20A C 6kA ТХ",null,1232.9100000000001,1197,"2023-12-04"]
[]
["774351 Рамка 1 пост бежевая Valena","шт",{"$f":"D560*F497","v":90.64},88,"2023-12-04"]
[]
["Электрика на ПНР","усл",{"$f":"D562*F497","v":15347},14900,"2022-11-17"]
["Распаечный щит освещения МН 25 комнат  на DIN-клеммниках"]
["Гибкая обвязка щита",null,{"$f":"D564*F497","v":5303.47},5149,"2023-05-29"]
[]
["Котельная группами ППР 2023",null,null,null,null,"Запас 3% "]
["Газовый котел Baxi LUNA 3 Comfort t 1.240 Fi ОДНОКОНТУРНЫЙ, Без Сервопривода!","шт.",{"$f":"D567*$F$567","v":86211},83700,"2024-01-10",1.03]
["Газовый котел Baxi LUNA-3 Comfort 1.310 Fi ОДНОКОНТУРНЫЙ, Без Сервопривода!","шт.",{"$f":"D568*$F$567","v":92007.335299999992},89327.51,"2023-11-14"]
["Котел газовый настенный BAXI LUNA-3 Comfort 240 Fi ДВУХКОНТУРНЫЙ!","шт.",100728.6955,97794.85,"2023-11-14"]
["[A] Котел газовый настенный BAXI LUNA-3 Comfort 310 Fi ДВУХКОНТУРНЫЙ!","шт.",109004.6528,105829.75999999999,"2023-11-14"]
["Подключение ГК ППР 2023","шт.",3708,3600,"2024-01-10"]
["Трубопроводы ППР для НГ 1 прямая 1 смесительная","шт.",15965,15500,"2024-01-10"]
["Трубопроводы ППР для НГ 1 прямая 2 смесительная","шт.",17510,17000,"2024-01-10"]
["Трубопроводы ППР для НГ 1 прямая 3 смесительных","шт.",24411,23700,"2024-01-10"]
["Трубопроводы ППР для НГ 1 прямая 4 смесительных","шт.",25956,25200,"2024-01-10"]
["Комплект расходных материалов на котельную (PPR)","шт.",2369,2300,"2024-01-10"]
["Узел Минерит+Лист нержи. (Только для брусовой котельной!)","шт.",5150,5000,"2024-01-10"]
["STOUT котел электрический 9 кВт","шт.",55929,54300,"2024-01-10"]
["STOUT котел электрический 12 кВт","шт.",56547,54900,"2024-01-10"]
["STOUT котел электрический 14 кВт","шт.",59019,57300,"2024-01-10"]
["STOUT котел электрический 18 кВт","шт.",60667,58900,"2024-01-10"]
["Подключение ЭК ППР 2023","шт.",3615.3,3510,"2024-01-10"]
["ZONT Climatic 1.3 Автоматический регулятор","шт.",39054.51,37917,"2024-01-10"]
["Универсальная плата цифровой шины для ZONT Climatic","шт.",3038.5,2950,"2024-01-10"]
["Отопительный контролер ZONT SMART 2.0","шт.",11227,10900,"2024-01-10"]
["Универсальный адаптер цифровых шин (ECO) для Smart","шт.",2781,2700,"2024-01-10"]
["Датчик температуры комнатный цифровой МЛ-772 (DS)","шт.",630.36,612,"2024-01-10"]
["Комплект радио датчиков к Zont Climatic и Smart","шт.",8053.5700000000006,7819,"2024-01-10"]
["Дымоход для Baxi (традиц. котел 20-31кВт) 80/100 Через кровлю для 2 этажного здания (Приток из котельной)","шт.",84460,82000,"2024-01-10"]
["Дымоход для Baxi (традиц. котел 20-31кВт) 60/100 Через кровлю для 1 этажного здания","шт.",38110,37000,"2024-01-10"]
["Дымоход для Baxi (традиц. котел 20-31кВт) 60/100 Через стену 1000мм (Обычный котёл)","шт.",6489,6300,"2024-01-10"]
["Бойлер косвенного нагрева напольный 150л Stout","шт.",60543.709000000003,58780.3,"2024-01-10"]
["Напольный бойлер 200л Stout","шт.",64272,62400,"2024-01-10"]
["Напольный бойлер 300л Stout","шт.",95263.67,92489,"2023-09-12"]
["STOUT бойлер косвенного нагрева настенный 150 л.","шт.",55916.434000000001,54287.8,"2024-01-10"]
["STOUT бойлер косвенного нагрева настенный 200 л.","шт.",61800,60000,"2024-01-10"]
["ППР Бойлер 150л Напольный 2023 (Без бойлера)","шт.",26574,25800,"2024-01-10"]
["ППР Бойлер 200л Напольный 2023 (Без бойлера)","шт.",26574,25800,"2024-01-10"]
["ППР Бойлер 300л Напольный 2023 (Без бойлера)","шт.",{"$f":"D599*$F$567","v":26780},26000,"2024-01-10"]
["ППР Бойлер 150л Настенный 2023 (Без бойлера)","шт.",27411.39,26613,"2024-01-10"]
["ППР Бойлер 200л Настенный 2023 (Без бойлера)","шт.",27538.080000000002,26736,"2024-01-10"]
["Крепеж Настенного Бойлера на ПРОТЕРМ 2023","шт.",3605,3500,"2024-01-10"]
["Крепеж Настенного Бойлера на КАРКАС 2023","шт.",2266,2200,"2024-01-10"]
["Циркуляция ГВС ППР 2023","шт.",14626,14200,"2024-01-10"]
["Байпас водоподготовки ППР 2023","шт.",5319.8985000000002,5164.95,"2024-01-10"]
["Полив ППР 2023","шт.",3502,3400,"2024-01-10"]
["НГ ППР 1 прямая 1 смесительная 2023","шт.",124630,121000,"2024-01-10"]
["НГ ППР 1 прямая 2 смесительных 2023","шт.",160680,156000,"2024-01-10"]
["НГ ППР 1 прямая 3 смесительных 2023","шт.",214240,208000,"2024-01-10"]
["НГ ППР 1 прямая 4 смесительных 2023","шт.",250290,243000,"2024-01-10"]
["Ввод воды с ГА для скважины ППР (Без полива и байпаса, для экономиста)","шт.",24720,24000,"2024-01-10"]
["Ввод воды без ГА для скважины ППР (Без полива и байпаса, для экономиста)","шт.",17510,17000,"2024-01-10"]
["Ввод воды центральное ППР (Без полива и байпаса, для экономиста)","шт.",18849,18300,"2024-01-10"]
["Греющий кабель отдельно ППР (Для экономиста)","шт.",2781,2700,"2024-01-10"]
["Второй ввод ППР 2023","шт.",10918,10600,"2024-01-10"]
["Комплект Антипротечки ППР/Медь 2023","шт.",24205,23500,"2024-01-10"]
["Инверторный стабилизатор напряжения BAXI/Tеплоком/Штиль ИнСтаб IS1500 (1.5кВА)","шт.",14420,14000,"2024-01-10"]
["Электрика на КОТЕЛЬНУЮ","шт.",13905,13500,"2024-01-10"]
["GSM-Розетка Т40 (ведущ.) с SIM-картой (М) новые","шт.",6180,6000,"2024-01-10"]
["Беламос Реле давления PS-02C (М) новые","шт.",721,700,"2024-01-10"]
["Место под ГК или ЭК ППР 2023","шт.",72.100000000000009,70,"2024-01-10"]
["Baxi Комплект инжекторов для сжиженного газа для Baxi LUNA-3 1.310 Fi; 310 Fi","шт.",1751,1700,"2024-01-10"]
["Блок расширения EX-77 для ZONT Climatic 1.3","шт.",10927.27,10609,"2024-01-10"]
["Блок питания 12-24V (Для EX-77)","шт.",927,900,"2024-01-10"]
[]
[]
["Котельная группами Медь 2023",null,null,null,null,"Запас 3% "]
["Газовый котел Baxi LUNA 3 Comfort t 1.240 Fi ОДНОКОНТУРНЫЙ, Без Сервопривода!","шт.",{"$f":"D628*$F$628","v":86211},83700,"2024-01-10",1.03]
["Газовый котел Baxi LUNA-3 Comfort 1.310 Fi ОДНОКОНТУРНЫЙ, Без Сервопривода!","шт.",{"$f":"D629*$F$628","v":92007.335299999992},89327.51,"2023-11-24"]
["Котел газовый настенный BAXI LUNA-3 Comfort 240 Fi ДВУХКОНТУРНЫЙ!","шт.",100728.6955,97794.85,"2023-11-24"]
["[A] Котел газовый настенный BAXI LUNA-3 Comfort 310 Fi ДВУХКОНТУРНЫЙ!","шт.",109004.6528,105829.75999999999,"2023-11-24"]
["Подключение ГК Медь 2023","шт.",8538.7000000000007,8290,"2024-01-10"]
["Трубопроводы Медь для НГ 1 прямая 1 смесительная","шт.",72531.724499999997,70419.149999999994,"2024-01-10"]
["Трубопроводы Медь для НГ 1 прямая 2 смесительная","шт.",79779.556400000001,77455.88,"2024-01-10"]
["Трубопроводы Медь для НГ 1 прямая 3 смесительных","шт.",128521.88590000001,124778.53,"2024-01-10"]
["Трубопроводы Медь для НГ 1 прямая 4 смесительных","шт.",135969.16699999999,132008.9,"2024-01-10"]
["Комплект расходных материалов на котельную (Медь)","шт.",19467,18900,"2024-01-10"]
["Узел Минерит+Лист нержи. (Только для брусовой котельной!)","шт.",5150,5000,"2024-01-10"]
["STOUT котел электрический 9 кВт","шт.",53929.244700000003,52358.49,"2024-01-10"]
["STOUT котел электрический 12 кВт","шт.",54752.74,53158,"2024-01-10"]
["STOUT котел электрический 14 кВт","шт.",56967.24,55308,"2024-01-10"]
["STOUT котел электрический 18 кВт","шт.",60667,58900,"2024-01-10"]
["Подключение ЭК Медь 2023","шт.",9064,8800,"2024-01-10"]
["ZONT Climatic 1.3 Автоматический регулятор","шт.",38886.640599999999,37754.019999999997,"2024-01-10"]
["Универсальная плата цифровой шины для ZONT Climatic","шт.",3038.5,2950,"2024-01-10"]
["Отопительный контролер ZONT SMART 2.0","шт.",12321.375,11962.5,"2024-01-10"]
["Универсальный адаптер цифровых шин (ECO) для Smart","шт.",3012.6572999999999,2924.91,"2024-01-10"]
["Датчик температуры комнатный цифровой МЛ-772 (DS)","шт.",630.5145,612.15,"2024-01-10"]
["Комплект радио датчиков к Zont Climatic и Smart","шт.",8054.2806999999993,7819.69,"2024-01-10"]
["Дымоход для Baxi (традиц. котел 20-31кВт) 80/100 Через кровлю для 2 этажного здания (Приток из котельной)","шт.",84460,82000,"2024-01-10"]
["Дымоход для Baxi (традиц. котел 20-31кВт) 60/100 Через кровлю для 1 этажного здания","шт.",38110,37000,"2024-01-10"]
["Дымоход для Baxi (традиц. котел 20-31кВт) 60/100 Через стену 1000мм (Обычный котёл)","шт.",8652,8400,"2024-01-10"]
["Бойлер косвенного нагрева напольный 150л Stout","шт.",60512.809000000001,58750.3,"2024-01-10"]
["Напольный бойлер 200л Stout","шт.",65819.163,63902.1,"2024-01-10"]
["Напольный бойлер 300л Stout","шт.",83949.758600000001,81504.62,"2024-01-10"]
["STOUT бойлер косвенного нагрева настенный 150 л.","шт.",55916.434000000001,54287.8,"2024-01-10"]
["STOUT бойлер косвенного нагрева настенный 200 л.","шт.",68918.669900000008,66911.33,"2024-01-10"]
["Медь Бойлер Напольный 150л 2023 (Без бойлера)","шт.",44269.544200000004,42980.14,"2024-01-10"]
["Медь Бойлер Напольный 200л 2023 (Без бойлера)","шт.",44269.544200000004,42980.14,"2024-01-10"]
["Медь Бойлер Напольный 300л 2023 (Без бойлера)","шт.",45163.264900000002,43847.83,"2024-01-10"]
["Медь Бойлер Настенный 150л 2023 (Без бойлера)","шт.",42414.596600000004,41179.22,"2024-01-10"]
["Медь Бойлер Настенный 200л 2023 (Без бойлера)","шт.",42414.596600000004,41179.22,"2024-01-10"]
["Крепеж Настенного Бойлера на ПРОТЕРМ 2023","шт.",3708,3600,"2024-01-10"]
["Крепеж Настенного Бойлера на КАРКАС 2023","шт.",2369,2300,"2024-01-10"]
["Циркуляция ГВС Медь 2023","шт.",15244,14800,"2024-01-10"]
["Байпас водоподготовки Медь 2023","шт.",6592,6400,"2024-01-10"]
["Полив Медь 2023","шт.",5562,5400,"2024-01-10"]
["НГ Медь 1 прямая 1 смесительная 2023","шт.",136990,133000,"2024-01-10"]
["НГ Медь 1 прямая 2 смесительных 2023","шт.",179220,174000,"2024-01-10"]
["НГ Медь 1 прямая 3 смесительных 2023","шт.",242050,235000,"2024-01-10"]
["НГ Медь 1 прямая 4 смесительных 2023","шт.",284280,276000,"2024-01-10"]
["Ввод воды с ГА для скважины Медь (Без полива и байпаса, для экономиста)","шт.",27810,27000,"2024-01-10"]
["Ввод воды без ГА для скважины Медь (Без полива и байпаса, для экономиста)","шт.",18746,18200,"2024-01-10"]
["Ввод воды центральное Медь (Без полива и байпаса, для экономиста)","шт.",20085,19500,"2024-01-10"]
["Греющий кабель отдельно Медь (Для экономиста)","шт.",2781,2700,"2024-01-10"]
["Второй ввод Медь 2023","шт.",13390,13000,"2024-01-10"]
["Комплект Антипротечки ППР/Медь 2023","шт.",24102,23400,"2024-01-10"]
["Инверторный стабилизатор напряжения BAXI/Tеплоком/Штиль ИнСтаб IS1500 (1.5кВА)","шт.",15244,14800,"2024-01-10"]
["Электрика на КОТЕЛЬНУЮ","шт.",14420,14000,"2024-01-10"]
["GSM-Розетка Т40 (ведущ.) с SIM-картой (М) новые","шт.",6180,6000,"2024-01-10"]
["Беламос Реле давления PS-02C (М) новые","шт.",721,700,"2024-01-10"]
["Место под ГК или ЭК Медь 2023","шт.",632.39940000000001,613.98,"2024-01-10"]
["Baxi Комплект инжекторов для сжиженного газа для Baxi LUNA-3 1.240 Fi; 240 Fi","шт.",1658.3,1610,"2024-01-10"]
["Baxi Комплект инжекторов для сжиженного газа для Baxi LUNA-3 1.310 Fi; 310 Fi","шт.",1658.3,1610,"2024-01-10"]
["Блок расширения EX-77 для ZONT Climatic 1.3","шт.",{"$f":"D685*$F$567","v":10927.27},10609,"2023-05-02"]
["Блок питания 12-24V (Для EX-77)","шт.",{"$f":"D686*$F$567","v":840.37699999999995},815.9,"2023-05-02"]
[]
[]
["Подготовка под Теплый Пол (без пароизоляции)",null,{"$f":"D689*$F$567","v":169.95000000000002},165]
["Подготовка под стяжку без ТП (по пеноплексу)",null,{"$f":"D690*$F$567","v":81.37},79]
[null,"работы под ТП",88,19]
[null,"работы под стяжку",176,39]

{"sheet":"Расчёты ОВиВК","index":16,"n_rows":192,"n_cols":30,"rows_kept":192,"cut":false,"hidden":false,"merged":[[8,14,8,15],[8,4,8,5],[132,1,132,5],[173,21,173,23],[173,25,173,26],[127,0,127,7],[128,1,128,5],[129,1,129,5],[130,1,130,5],[131,1,131,5],[144,1,144,5],[133,1,133,5],[134,1,134,5],[135,1,135,5],[136,1,136,5],[137,1,137,5],[138,1,138,5],[139,1,139,5],[140,1,140,5],[141,1,141,5],[142,1,142,5],[143,1,143,5],[202,1,202,5],[145,1,145,5],[146,1,146,5],[198,1,198,5],[199,1,199,5],[200,1,200,5],[201,1,201,5],[174,8,174,9],[174,10,174,11],[195,0,195,7],[196,1,196,5],[197,1,197,5],[214,1,214,5],[203,1,203,5],[204,1,204,5],[205,1,205,5],[206,1,206,5],[207,1,207,5],[208,1,208,5],[209,1,209,5],[210,1,210,5],[211,1,211,5],[212,1,212,5],[213,1,213,5],[132,21,132,25],[133,21,133,25],[134,21,134,25],[135,21,135,25],[127,10,127,17],[127,20,127,27],[128,21,128,25],[129,21,129,25],[130,21,130,25],[8,22,8,23],[159,3,159,5],[159,14,159,16],[159,23,159,25],[146,21,146,25],[141,21,141,25],[142,21,142,25],[143,21,143,25],[144,21,144,25],[145,21,145,25],[136,21,136,25],[137,21,137,25],[138,21,138,25],[139,21,139,25],[140,21,140,25],[131,21,131,25]]}
[]
[null,"1 м2 ОТОПЛЕНИЯ ТЕСЕ",null,null,"м2 отапл.площади",null,null,null,null,null,null,"1 м2 ОТОПЛЕНИЯ STOUT",null,null,"м2 отапл.площади",null,null,null,null,"1 м2 ОТОПЛЕНИЯ REHAU",null,null,"м2 отапл.площади"]
[null,null,null,null,195,null,null,null,null,null,null,null,null,null,195,null,null,null,null,null,null,null,235]
[null,"Узел / Номенклатура","Арт.","Ед.","Количество","Цена ","Стоимость",null,null,null,null,"Узел / Номенклатура","Арт.","Ед.","Количество","Цена ","Стоимость",null,null,"Узел / Номенклатура","Арт.","Ед.","Количество","Цена ","Стоимость"]
[1,"Труба для отопления d16",null,"шт",305,233,{"$f":"(F5*E5)/E3","v":364.43589743589746},"2024-01-10",null,null,null,"Труба PEX 16*2,2 ",null,"шт",305,193.11,{"$f":"(P5*O5)/O3","v":302.04384615384618},"2024-01-10",null,"Rehau Pink 16*2,2",null,"шт",400,182.68,{"$f":"(X5*W5)/W3","v":310.94468085106382}]
[2,"Труба универсальная многослойная d32 TECE",null,"шт",17,1213.45,{"$f":"(F6*E6)/E3","v":105.78794871794872},null,null,null,null,"Труба PEX 32*4,4",null,"шт",17,585.28,{"$f":"(P6*O6)/O3","v":51.024410256410256},null,null,"Rehau Pink 32*4,4",null,"шт",16,842.07,{"$f":"(X6*W6)/W3","v":57.3324255319149}]
[3,"Запасной материал для систем TECE d16 d20 d32",null,"шт",1,null,{"$f":"(F7*E7)/E3","v":0},null,null,null,null,"Запасной материал для систем STOUT ",null,"шт",1,null,{"$f":"(P7*O7)/O3","v":0},null,null,"Запасной материал для систем REHAU",null,"шт",1,11932.77,{"$f":"(X7*W7)/W3","v":50.777744680851065}]
[]
[null,null,null,null,"ИТОГО ЗА 1м2",null,{"$f":"SUM(G5:G7)","v":470.22384615384618},null,null,null,null,null,null,null,"ИТОГО ЗА 1м2",null,{"$f":"SUM(Q5:Q7)","v":353.06825641025642},null,null,null,null,null,"ИТОГО ЗА 1м2",null,{"$f":"SUM(Y5:Y7)","v":419.0548510638298}]
[]
[]
[]
[]
[]
[]
[null,"Расчет номенклатуры по узлам"]
[null,"1 м2 ОТОПЛЕНИЯ REHAU",null,null,null,null,null,null,null,null,null,"1 м2 ОТОПЛЕНИЯ STOUT"]
[]
[null,"Узел / Номенклатура","Арт.","Ед.","Количество",235,"м2 отапливаемой площади"]
[1,"Rehau Pink 16*2,2 более 300м",null,"шт",445]
[2,"Rehau Pink 32*4,4",null,"шт",14]
[3,"REHAU_Узел подключения вне котельной 32",null,"шт",1]
[4,"Запасной материал для систем REHAU",null,"шт",1]
[]
[null,null,null,null,null,null,1,null,null,null,null,null,null,null,null,null,null,1]
[null,"Номенклатура","Арт.","Ед.","Количество","Цена за шт",null,null,null,null,null,null,"Номенклатура","Арт.","Ед.","Количество","Цена за шт"]
[1,"092 Шаровый кран латунный полнопр. 1\" ВР, ручка-\"бабочка\", Tmax=150*C Itap Ideal 092","092 1","шт.",2,750,{"$f":"F27*E27","v":1500},"2022-06-06",null,null,null,1,"SVB-0002-000025 STOUT Кран шаровой полнопроходной, ВР/ВР, ручка бабочка 1",null,"шт.",2,750,{"$f":"Q27*P27","v":1500},"2022-06-06"]
[2,"Гильза 16 PX PVDF надвижная RAUTITAN REHAU",160001,"шт.",12,86,{"$f":"F28*E28","v":1032},"2022-06-29",null,null,null,2,"SFA-0020-000016 STOUT Монтажная гильза 16 для труб из сшитого полиэтилена аксиальный",null,"шт.",12,47,{"$f":"P28*Q28","v":564},"2022-06-06","повышение цен на Стаут 11.05.22"]
[3,"Гильза 20 PX PVDF надвижная RAUTITAN REHAU",160002,"шт",18,113,2034,"2022-06-29",null,null,null,3,"SFA-0020-000020 STOUT Монтажная гильза 20 для труб из сшитого полиэтилена аксиальный",null,"шт",18,50,{"$f":"P29*Q29","v":900},"2022-06-06"]
[4,"Монтажная гильза Rehau Rautitan 25 PX",160003,"шт",2,121,242,"2022-06-29",null,null,null,4,"SFA-0020-000025 STOUT Монтажная гильза 25 для труб из сшитого полиэтилена аксиальный",null,"шт",2,null,null,null,"трасса"]
[5,"Монтажная гильза Rehau Rautitan 32 PX",160004,"шт",2,null,null,null,"трасса",null,null,5,"SFA-0020-000032 STOUT Монтажная гильза 32 для труб из сшитого полиэтилена аксиальный",null,"шт",18,null,null,null,"трасса"]
[6,"Надвижная гильза RAUTITAN PX 32",160004,"шт",16,null,null,null,"трасса",null,null,6,"SFA-0001-003210 STOUT Переходник с наружной резьбой 32xR 1\" для труб из сшитого полиэтилена аксиальный",null,"шт",5,null,null,null,"трасса"]
[7,"Переходник RAUTITAN MX/RX. С наружной резьбой 32x1\"",366060,"шт",5,null,null,null,"трасса",null,null,7,"SFA-0001-002510 STOUT Переходник с наружной резьбой 25xR 1\" для труб из сшитого полиэтилена аксиальный",null,"шт",1,null,null,null,"трасса"]
[8,"Переходник Rehau Rautitan RX с наружной резьбой 25-R1-L22",366058,"м",1,null,null,null,"трасса",null,null,8,"SFA-0003-000016 STOUT Муфта соединительная равнопроходная 16 для труб из сшитого полиэтилена аксиальный",null,"шт",6,110,660,"2022-06-06"]
[9,"Соединительная муфта Rehau Rautitan равнопроходная 16 PХ",null,"шт",6,325,1950,"2022-06-06",null,null,null,9,"SFA-0003-000020 STOUT Муфта соединительная равнопроходная 20 для труб из сшитого полиэтилена аксиальный",null,"шт",6,160,960,"2022-06-06"]
[10,"Соединительная муфта Rehau Rautitan равнопроходная 20 PХ",160012,"шт",6,445,2670,"2022-06-06",null,null,null,10,"EFXT018062SUPRK Энергофлекс Трубка СУПЕР ПРОТЕКТ - К 18/6 (2м) (в коробке 180м)",null,"шт",256,{"$f":"16*R25","v":16},4096,"2022-06-06"]
[11,"Теплоизоляция СУПЕР ПРОТЕКТ 18(6мм) Красный",null,"м",256,18,4608,"2022-06-06",null,null,null,11,"EFXT018062SUPRS Энергофлекс Трубка СУПЕР ПРОТЕКТ - С 18/6 (2м) (в коробке 180м)",null,"шт",256,{"$f":"16*R25","v":16},4096,"2022-06-06"]
[12,"Теплоизоляция СУПЕР ПРОТЕКТ 18(6мм) Синий",null,"м",256,18,4608,"2022-06-06",null,null,null,12,"EFXT035062SUPRK Энергофлекс Трубка СУПЕР ПРОТЕКТ - К 35/6 (2м) (в коробке 80м)",null,"шт",10,null,null,null,"трасса"]
[13,"Теплоизоляция СУПЕР ПРОТЕКТ 35 (6) Красный",null,"м",9,null,null,null,"трасса",null,null,13,"EFXT035062SUPRS Энергофлекс Трубка СУПЕР ПРОТЕКТ - С 35/6 (2м) (в коробке 80м)",null,"шт",10,null,null,null,"трасса"]
[14,"Теплоизоляция СУПЕР ПРОТЕКТ 35 (6) Синий",null,"м",9,null,null,null,"трасса",null,null,14,"SFA-0013-000020 STOUT Тройник равнопроходный 20x20x20  для труб из сшитого полиэтилена аксиальный",null,"шт",3,320,960,"2022-06-06"]
[15,"Тройник 20  РХ надвижной REHAU",160032,"шт",3,739,2217,"2022-04-12",null,null,null,15,"SPX-0001-001622 STOUT 16х2,2 (бухта 100 метров) PEX-a труба из сшитого полиэтилена с кислородным слоем, серая",null,"шт",510,88,44880,"2022-06-06"]
[16,"​Труба RAUTITAN ​Pink для систем отопления d16x2.2 (бухта 120м)",136042,"м",512,107,54784,"2022-04-12",null,null,null,16,"SPX-0001-003244 STOUT 32х4,4 (бухта 50 метров) PEX-a труба из сшитого полиэтилена с кислородным слоем, серая",null,"шт",20,330,6600,"2022-06-06","2022-05-17"]
[17,"Труба RAUTITAN ​Pink для систем отопления d32x4.4 (бухта 50м)",136072,"м",18,523,9414,null,"трасса",null,null,17,"SFT-0011-000001 STOUT Угольник НВ 1\"",null,"шт",2,null,null,null,"трасса"]
[18,"Угол 90* ВР-НР 1\" латунь Стаут",null,"шт.",2,null,null,null,"трасса",null,null,18,"SFA-0007-000032 STOUT Угольник  90° 32 для труб из сшитого полиэтилена аксиальный",null,"шт",6,null,null,null,"трасса"]
[19,"Угольник RAUTITAN PX 90* 32",160024,"шт",6,null,null,null,"трасса",null,null,19,"SFA-0032-002012 STOUT Угольник настенный с длинным нарезным патрубком 20-Rp 1/2\" для труб из сшитого полиэтилена аксиальный",null,"шт",2,820,1640,"2022-06-06"]
[20,"Угольник настенный (водорозетка) RAUTITAN MX Внутрення резьба (длинный) 20-Rp 1/2",366106,"шт",2,825,1650,"2022-06-06",null,null,null,20]
[null,null,null,null,null,null,{"$f":"SUM(G27:G46)","v":86709},{"$f":"G47/F19","v":368.97446808510637},null,null,null,null,null,null,null,null,null,{"$f":"SUM(R27:R46)","v":66856},{"$f":"R47/F19","v":284.49361702127658}]
[null,null,null,null,null,null,null,"за 1м2",null,null,null,null,null,null,null,null,null,null,"за 1м2"]
[]
[]
[]
[null,"Расчет номенклатуры по узлам",null,null,null,null,null,null,null,null,null,"Расчет номенклатуры по узлам",null,null,null,null,null,null,null,null,null,"Расчет номенклатуры по узлам"]
[null,"ТОЧКА КАНАЛИЗАЦИИ SINICON",null,null,null,null,null,null,null,null,null,"ТОЧКА КАНАЛИЗАЦИИ REXAU",null,null,null,null,null,null,null,null,null,"ТОЧКА КАНАЛИЗАЦИИ SINICON",null,"Не ИСПОЛЬЗУЕМ"]
[null,"шумопоглащающие",null,null,null,null,null,null,null,null,null,null,null,null,null,null,null,null,null,null,null,"обычные"]
[null,"Узел / Номенклатура","Арт.","Ед.","Количество",16,"ТОЧЕК",null,null,null,null,"Узел / Номенклатура","Арт.","Ед.","Количество",16,"ТОЧЕК",null,null,null,null,"Узел / Номенклатура","Арт.","Ед.","Количество",16,"ТОЧЕК"]
[1,"Труба 50*250 Комфорт",null,"шт",10,null,null,null,null,null,1,"Труба 50*250 Raupiano Plus",null,"шт",10,null,null,null,null,null,1,"Труба 50*250 ",null,"шт",10]
[2,"Труба 50*500 Комфорт",null,"шт",10,null,null,null,null,null,2,"Труба 50*500 Raupiano Plus",null,"шт",10,null,null,null,null,null,2,"Труба 50*500 ",null,"шт",10]
[3,"Труба 50*1000 Комфорт",null,"шт",5,null,null,null,null,null,3,"Труба 50*1000 Raupiano Plus",null,"шт",5,null,null,null,null,null,3,"Труба 50*1000 ",null,"шт",5]
[4,"Труба 50*2000 Комфорт",null,"шт",9,null,null,null,null,null,4,"Труба 50*2000 Raupiano Plus",null,"шт",9,null,null,null,null,null,4,"Труба 50*2000 ",null,"шт",9]
[5,"Труба 110*250 Комфорт",null,"шт",6,null,null,null,null,null,5,"Труба 110*250 Raupiano Plus",null,"шт",6,null,null,null,null,null,5,"Труба 110*250 ",null,"шт",6]
[6,"Труба 110*500 Комфорт",null,"шт",6,null,null,null,null,null,6,"Труба 110*500 Raupiano Plus",null,"шт",6,null,null,null,null,null,6,"Труба 110*500 ",null,"шт",6]
[7,"Труба 110*1000 Комфорт",null,"шт",4,null,null,null,null,null,7,"Труба 110*1000 Raupiano Plus",null,"шт",4,null,null,null,null,null,7,"Труба 110*1000 ",null,"шт",4]
[8,"Труба 110*2000 Комфорт",null,"шт",7,null,null,null,null,null,8,"Труба 110*2000 Raupiano Plus",null,"шт",7,null,null,null,null,null,8,"Труба 110*2000 ",null,"шт",7]
[9,"Утеплитель 110",null,"шт",14,null,null,null,null,null,9,"Утеплитель 110",null,"шт",14,null,null,null,null,null,9,"Утеплитель 110",null,"шт",14]
[10,"Утеплитель 50",null,"шт",10,null,null,null,null,null,10,"Утеплитель 50",null,"шт",10,null,null,null,null,null,10,"Утеплитель 50",null,"шт",10]
[11,"отвод 50*45 комфорт",null,"шт",26,null,null,null,null,null,11,"отвод 50*45 Raupiano Plus",null,"шт",26,null,null,null,null,null,11,"отвод 50*45 ",null,"шт",26]
[12,"отвод 50*90 комфорт",null,"шт",11,null,null,null,null,null,12,"отвод 50*90 Raupiano Plus",null,"шт",11,null,null,null,null,null,12,"отвод 50*90 ",null,"шт",11]
[13,"отвод 110*45 комфорт",null,"шт",6,null,null,null,null,null,13,"отвод 110*45 Raupiano Plus",null,"шт",6,null,null,null,null,null,13,"отвод 110*45 ",null,"шт",6]
[14,"отвод 110*90 комфорт",null,"шт",2,null,null,null,null,null,14,"отвод 110*90 ",null,"шт",2,null,null,null,null,null,14,"отвод 110*90 ",null,"шт",2]
[15,"Ревизия с крышкой   Ø110 Комфорт",516007,"шт",1,null,null,null,null,null,15,"Ревизия с крышкой   Ø110",null,"шт",1,null,null,null,null,null,15,"Ревизия с крышкой   Ø110 ",516007,"шт",1]
[16,"Компенсационный патрубок учетверенной длины Ø110 Синикон Комфорт",531011,"шт",2,null,null,null,null,null,16,"Компенсационный патрубок учетверенной длины Ø110 ",null,"шт",2,null,null,null,null,null,16,"Компенсационный патрубок учетверенной длины Ø110 Синикон ",531011,"шт",2]
[17,"Аэратор канализационный d50 серый",null,"шт.",1,null,null,null,null,null,17,"Аэратор канализационный d50 серый",null,"шт.",1,null,null,null,null,null,17,"Аэратор канализационный d50 серый",null,"шт.",1]
[18,"Тройник D 110x110x87º Синикон Комфорт",508029,"шт",1,null,null,null,null,null,18,"Тройник D 110x110x87º ",null,"шт",1,null,null,null,null,null,18,"Тройник D 110x110x87º Синикон ",508029,"шт",1]
[19,"Тройник D 110x50x87º Комфорт",null,"шт",1,null,null,null,null,null,19,"Тройник D 110x50x87º Raupiano Plus",null,"шт",1,null,null,null,null,null,19,"Тройник D 110x50x87º ",null,"шт",1]
[20,"Тройник 110*50*45 Комфорт",510031,"шт",1,null,null,null,null,null,20,"Тройник 110*50*45 Raupiano Plus",null,"шт",1,null,null,null,null,null,20,"Тройник 110*50*45 ",510031,"шт",1]
[21,"Тройник D 50x50x45º Синикон Комфорт",508013,"шт",1,null,null,null,null,null,21,"Тройник D 50x50x45º Raupiano Plus",null,"шт",1,null,null,null,null,null,21,"Тройник D 50x50x45º Синикон ",508013,"шт",1]
[22,"Переход эксцентр.   Ø110*50 Синикон Комфорт",514009,"шт",1,null,null,null,null,null,22,"Переход эксцентр.   Ø110*50 Raupiano Plus",null,"шт",1,null,null,null,null,null,22,"Переход эксцентр.   Ø110*50 Синикон",514009,"шт",1]
[23,"Отвод D 110х15 Синикон Комфорт",504049,"шт",1,null,null,null,null,null,23,"Отвод D 110х15 Raupiano Plus",null,"шт",1,null,null,null,null,null,23,"Отвод D 110х15 Синикон ",504049,"шт",1]
[24,"Отвод D 110х30 Синикон Комфорт",504051,"шт",1,null,null,null,null,null,24,"Отвод D 110х30 Raupiano Plus",null,"шт",1,null,null,null,null,null,24,"Отвод D 110х30 Синикон ",504051,"шт",1]
[25,"Отвод D 050х15 Синикон Комфорт",504025,"шт",1,null,null,null,null,null,25,"Отвод D 050х15 Raupiano Plus",null,"шт",1,null,null,null,null,null,25,"Отвод D 050х15 Синикон ",504025,"шт",1]
[26,"Заглушка ПП Ø50 Синикон Комфорт",524003,"шт",1,null,null,null,null,null,26,"Заглушка ПП Ø50 Raupiano Plus",null,"шт",1,null,null,null,null,null,26,"Заглушка ПП Ø50 Синикон",524003,"шт",1]
[27,"Заглушка ПП Ø110 Синикон Комфорт",524007,"шт",1,null,null,null,null,null,27,"Заглушка ПП Ø110 Raupiano Plus",null,"шт",1,null,null,null,null,null,27,"Заглушка ПП Ø110 Синикон ",524007,"шт",1]
[]
[null,null,null,null,null,null,null,null,null,null,null,null,null,null,null,null,1]
[null,"Номенклатура","Арт.","Ед.","Количество","Цена","Стоимость",null,null,null,null,"Номенклатура","Арт.","Ед.","Количество","Цена","Стоимость",null,null,null,null,"Номенклатура","Арт.","Ед.","Количество","Цена","Стоимость"]
[1,"Аэратор канализационный d50 серый",null,"шт.",1,205,{"$f":"F86*E86","v":205},"2024-01-10",188.77,null,1,"Аэратор канализационный d50 серый",null,"шт.",1,205,{"$f":"P86*O86","v":205},"2023-11-30",null,null,1,"Аэратор канализационный d50 серый",null,"шт.",1,123,{"$f":"Z86*Y86","v":123}]
[2,null,null,null,null,null,null,null,null,null,2,"Винт-шуруп М10*100 мм (шпилька сантехническая)",null,"шт.",41,32,1312,"2022-06-06",null,null,2,"Винт-шуруп М10*100 мм (шпилька сантехническая)",null,"шт.",41,null,0]
[3,null,null,null,null,null,null,null,null,null,3,"Винт-шуруп М8*80 мм (шпилька сантехническая)",null,"шт.",64,15,960,"2022-06-06",null,null,3,"Винт-шуруп М8*80 мм (шпилька сантехническая)",null,"шт.",64,null,0]
[4,"Гайка оцинк. (муфта) М10 (DIN6334)",1730,"шт",13,23,299,"2024-01-10",null,null,4,"Гайка оцинк. (муфта) М10 (DIN6334)",1730,"шт",13,23,299,"2023-11-30",null,null,4,"Гайка оцинк. (муфта) М10 (DIN6334)",1730,"шт",13,2.64,34.32]
[5,"Гайка оцинк. (муфта) М8",null,"шт",9,17,153,"2024-01-10",null,null,5,"Гайка оцинк. (муфта) М8",null,"шт",9,17,153,"2023-11-30",null,null,5,"Гайка оцинк. (муфта) М8",null,"шт",9,3.65,32.85]
[6,"Дюбель  S12x60","D-S12x60","шт.",41,16,656,"2024-01-10",153.25,null,6,"Дюбель  S12x60","D-S12x60","шт.",41,16,656,"2023-11-30",null,null,6,"Дюбель  S12x60","D-S12x60","шт.",41,0.7,28.7]
[7,"Дюбель S10x50","D-S10x50","шт.",64,9.77,625.28,"2024-01-10",180.5,null,7,"Дюбель S10x50","D-S10x50","шт.",64,10,640,"2023-11-30",null,null,7,"Дюбель S10x50","D-S10x50","шт.",64,4.75,304]
[8,"Заглушка ПП Ø110 Синикон Комфорт",524007,"шт",3,47,141,"2024-01-10",null,null,8,"Заглушка ПП Ø110 Raupiano Plus","121474-002","шт",3,182,546,"2022-06-06",null,null,8,"Заглушка ПП Ø110 Синикон",524007,"шт",3,28,84]
[9,"Заглушка ПП Ø50 Синикон Комфорт",524003,"шт",12,27,324,"2024-01-10",null,null,9,"Заглушка ПП Ø50 Raupiano Plus","121454-002","шт",12,79,948,"2022-06-06",null,null,9,"Заглушка ПП Ø50 Синикон ",524003,"шт",12,16,192]
[10,"Компенсационный патрубок учетверенной длины Ø110 Синикон Комфорт",531011,"шт",2,227.53,455.06,"2024-01-10",null,null,10,"Компенсационный патрубок 110 Raupiano Plus","121594-001","шт",2,1144,2288,"2022-06-06",null,null,10,"Компенсационный патрубок учетверенной длины Ø110 Синикон ",531011,"шт",2,151,302]
[11,"Отвод D 050х15 Синикон Комфорт",504025,"шт",6,52.73,316.38,"2024-01-10",0,null,11,"Отвод D 050х15 Raupiano Plus",null,"шт",6,158,948,"2022-06-06",null,null,11,"Отвод D 050х15 Синикон ",504025,"шт",6,27,162]
[12,"Отвод D 110х15 Синикон Комфорт",504049,"шт",2,140.62,281.24,"2024-01-10",0,null,12,"Отвод D 110х15 Raupiano Plus",null,"шт",2,476,952,"2022-06-06",null,null,12,"Отвод D 110х15 Синикон ",504049,"шт",2,72,144]
[13,"Отвод D 110х30 Синикон Комфорт",504051,"шт",2,140.62,281.24,"2024-01-10",0,null,13,"Отвод D 110х30 Raupiano Plus",null,"шт",2,528,1056,"2022-06-06",null,null,13,"Отвод D 110х30 Синикон ",504051,"шт",2,45,90]
[14,"Отвод ПП Ø110*45 Синикон Комфорт",504053,"шт",9,127.92,1151.28,"2024-01-10",null,null,14,"Отвод ПП Ø110*45 Raupiano Plus","123444-001","шт",9,581,5229,"2022-06-06",null,null,14,"Отвод ПП Ø110*45 Синикон ",504053,"шт",9,76,684]
[15,"Отвод ПП Ø110*87  Синикон Комфорт",504059,"шт",3,127.92,383.76,"2024-01-10",null,null,15,"Отвод ПП Ø110*87  Raupiano Plus","123464-001","шт",3,581,1743,"2022-06-06",null,null,15,"Отвод ПП Ø110*87  Синикон ",504059,"шт",3,76,228]
[16,"Отвод ПП Ø50*45 Синикон Комфорт",504029,"шт",39,41.99,1637.6100000000001,"2024-01-10",null,null,16,"Отвод ПП Ø50*45 Raupiano Plus","121114-001","шт",39,161,6279,"2022-06-06",null,null,16,"Отвод ПП Ø50*45 Синикон ",504029,"шт",39,25,975]
[17,"Отвод ПП Ø50*87 Синикон Комфорт",504035,"шт",13,41.99,545.87,"2024-01-10",null,null,17,"Отвод ПП Ø50*87 Raupiano Plus","121134-001","шт",13,161,2093,"2022-06-06",null,null,17,"Отвод ПП Ø50*87 Синикон ",504035,"шт",13,25,325]
[18,"Переход эксцентр.   Ø110*50 Синикон Комфорт",514009,"шт",3,100,300,"2024-01-10",null,null,18,"Переход эксцентр.   Ø110*50 Raupiano Plus","121394-001","шт",3,324,972,"2022-06-06",null,null,18,"Переход эксцентр.   Ø110*50 Синикон ",514009,"шт",3,60,180]
[19,"Ревизия с крышкой   Ø110 Комфорт",516007,"шт",1,252.91,252.91,"2024-01-10",null,null,19,"Ревизия с крышкой   Ø110 Raupiano Plus","121534-003","шт",1,1052,1052,"2022-06-06",null,null,19,"Ревизия с крышкой   Ø110 ",516007,"шт",1,153,153]
[20,"Теплоизоляция \"Энергофлекс\" 114/9 мм",null,"м",19,187,3553,"2024-01-10",null,null,"19а","Трубка Energoflex super 54/9-2м (толщина 9мм)",null,"пог.м.",14,63,882,"2022-06-06",null,null,20,"Теплоизоляция \"Энергофлекс\" 114/9 мм",null,"м",18,138,2484]
[21,"Теплоизоляция \"Энергофлекс\" 54/9 мм",null,"м",14,62,868,"2024-01-10",null,null,20,"Теплоизоляция \"Энергофлекс\" 114/9 мм",null,"м",19,182,3458,"2023-11-30",null,null,21,"Теплоизоляция \"Энергофлекс\" 54/9 мм",null,"м",13,48,624]
[22,"Тройник 110*50*45 Комфорт",510031,"шт",2,171,342,"2024-01-10",null,null,21,"Теплоизоляция \"Энергофлекс\" 54/9 мм",null,"м",14,61,854,"2023-11-30",null,null,22,"Тройник 110*50*45 ",510031,"шт",2,102,204]
[23,"Тройник D 110x110x87º Синикон Комфорт",508029,"шт",5,231.43,1157.1500000000001,"2024-01-10",null,null,22,"Тройник 110*50*45 Raupiano Plus","21304-001","шт",2,663,1326,"2022-06-06",null,null,23,"Тройник D 110x110x87º Синикон",508029,"шт",5,138,690]
[24,"Тройник D 110x50x87º Комфорт",null,"шт",1,170.89,170.89,"2024-01-10",null,null,23,"Тройник D 110x110x87º Raupiano Plus","121374-001","шт",5,1141,5705,"2022-06-06",null,null,24,"Тройник D 110x50x87º ",null,"шт",1,96,96]
[25,"Тройник D 50x50x45º Синикон Комфорт",508013,"шт",6,88.86,533.16,"2024-01-10",null,null,24,"Тройник D 110x50x87ºRaupiano Plus","121324-001","шт",1,626,626,"2022-06-06",null,null,25,"Тройник D 50x50x45º Синикон ",508013,"шт",6,53,318]
[26,"Труба d50 L2000 мм Синикон Комфорт",500053,"шт",10,333.96,3339.6,"2024-01-10",null,null,25,"Тройник D 50x50x45º Raupiano Plus","121234-001","шт",6,290,1740,"2022-06-06",null,null,26,"Труба d50 L2000 мм Синикон ",500053,"шт",10,200,2000]
[27,"Труба d50 L250 мм Комфорт",500043,"шт",14,97.65,1367.1000000000001,"2024-01-10",null,null,26,"Труба d50 L2000 мм Синикон Комфорт","120154-200","шт",10,240,2400,"2022-06-06",null,null,27,"Труба d50 L250 мм ",500043,"шт",14,58,812]
[28,"Труба Ø-110, L -1000 мм Синикон Комфорт",500089,"шт",5,513.64,2568.1999999999998,"2024-01-10",null,null,27,"Труба d50 L250 мм Raupiano Plus","120104-005","шт",14,323,4522,"2022-06-06",null,null,28,"Труба Ø-110, L -1000 мм Синикон ",500089,"шт",5,308,1540]
[29,"Труба Ø-110, L -2000 мм Синикон Комфорт",500093,"шт",8,847.6,6780.8,"2024-01-10",null,null,28,"Труба Ø-110, L -1000 мм Raupiano Plus","120294-200","шт",5,1040,5200,"2022-06-06",null,null,29,"Труба Ø-110, L -2000 мм Синикон ",500093,"шт",8,508,4064]
[30,"Труба Ø-110, L -250 мм Комфорт",500083,"шт",8,230.45,1843.6,"2024-01-10",null,null,29,"Труба Ø-110, L -2000 мм Raupiano Plus","120314-200","шт",8,1814,14512,"2022-06-06",null,null,30,"Труба Ø-110, L -250 мм ",500083,"шт",8,138,1104]
[31,"Труба Ø-110, L -500 мм Синикон Комфорт",500085,"шт",8,342.75,2742,"2024-01-10",null,null,30,"Труба Ø-110, L -250 мм Raupiano Plus","120264-003","шт",8,439,3512,"2022-06-06",null,null,31,"Труба Ø-110, L -500 мм Синикон ",500085,"шт",8,205,1640]
[32,"Труба ПП Ø50 L1000 Синикон Комфорт",500049,"шт",7,195.3,1367.1000000000001,"2024-01-10",null,null,31,"Труба Ø-110, L -500 мм Raupiano Plus","120274-005","шт",8,622,4976,"2022-06-06",null,null,32,"Труба ПП Ø50 L1000 Синикон ",500049,"шт",7,117,819]
[33,"Труба ПП Ø50 L500 Синикон Комфорт",500045,"шт",13,123.04,1599.52,"2024-01-10",null,null,32,"Труба ПП Ø50 L1000 Raupiano Plus","123034-200","шт",7,403,2821,"2022-06-06",null,null,33,"Труба ПП Ø50 L500 Синикон ",500045,"шт",13,74,962]
[34,"Хомут 1 1/2” (47-52 мм) с резиновым уплотнителем, шпилькой и дюбелем unifit",null,"шт",66,44,2904,"2024-01-10",null,null,33,"Труба ПП Ø50 L500 Raupiano Plus","120114-005","шт",13,330,4290,"2022-06-06",null,null,34,"Хомут 1 1/2” (47-52 мм) с резиновым уплотнителем, шпилькой и дюбелем unifit",null,"шт",63,23,1449]
[35,"Хомут 4” (107-116 мм) с резиновым уплотнителем, шпилькой и дюбелем unifit",null,"шт.",42,108,4536,"2024-01-10",null,null,34,"Хомут М8 50мм raupianoplus",120504,"шт",66,137,9042,"2022-06-06",null,null,35,"Хомут 4” (107-116 мм) с резиновым уплотнителем, шпилькой и дюбелем unifit",null,"шт.",40,50,2000]
[36,"Шпилька оцинк. М08 1м цельнорезьбовая",7189,"шт.",2,105.46,210.92,"2024-01-10",null,null,35,"Хомут М8/M100 110мм raupianoplus",null,"шт.",38,264,10032,"2022-06-06",null,null,36,"Шпилька оцинк. М08 1м цельнорезьбовая",7189,"шт.",2,27,54]
[null,null,null,null,null,null,null,"2024-01-10",null,null,36,"Хомут М8/M100 110мм шумопогл. На защёлке, raupianoplus",122014,"шт.",5,725,3625,"2022-06-06"]
[37,"Шпилька оцинк. М10 1м цельнорезьбовая",10350,"шт",3,164.05,{"$f":"F123*E123","v":492.15000000000003},"2024-01-10",null,null,37,"Шпилька оцинк. М08 1м цельнорезьбовая",7189,"шт.",2,105,210,"2022-06-06",null,null,37,"Шпилька оцинк. М10 1м цельнорезьбовая",10350,"шт",3,57,{"$f":"Z123*Y123","v":171}]
[null,null,null,null,null,null,{"$f":"SUM(G86:G123)","v":44383.819999999992},{"$f":"((G124+J148)/F55)+((G124+J148)/F55)*2%","v":3407.7817499999996},null,null,38,"Шпилька оцинк. М10 1м цельнорезьбовая",10350,"шт",3,164,{"$f":"P124*O124","v":492},{"$f":"(Q125+T148)/P55","v":7358.2237500000001},null,null,null,null,null,null,null,null,{"$f":"SUM(AA86:AA123)","v":25072.87},{"$f":"(AA124+AD148)/Z55","v":1940.6103125}]
[null,null,null,null,null,null,null,null,null,null,null,"ИТОГО:",null,null,null,null,{"$f":"SUM(Q86:Q124)","v":108556}]
[]
[null,null,null,null,null,null,null,null,1,null,null,null,null,null,null,null,null,null,1]
["Комплект расходных материалов (ПБ и Брусовые дома)",null,null,null,null,null,null,null,null,null,"Комплект расходных материалов (ПБ и Брусовые дома)",null,null,null,null,null,null,null,null,null,"Комплект расходных материалов (ПБ и Брусовые дома)"]
[1,"DELTA-MULTI-BAND M 60 универсальный скотч 25 м",null,null,null,null,5,954,{"$f":"G129*H129","v":4770},null,1,"DELTA-MULTI-BAND M 60 универсальный скотч 25 м",null,null,null,null,5,{"$f":"H129","v":954},{"$f":"Q129*R129","v":4770},null,1,"DELTA-MULTI-BAND M 60 универсальный скотч 25 м",null,null,null,null,5,876.67,4383.3500000000004]
[2,"Бирка кабельная У-134 У3,5 (большая)",null,null,null,null,75,3,{"$f":"G130*H130","v":225},null,2,"Бирка кабельная У-134 У3,5 (большая)",null,null,null,null,75,{"$f":"H130","v":3},{"$f":"Q130*R130","v":225},null,2,"Бирка кабельная У-134 У3,5 (большая)",null,null,null,null,75,1.45,108.75]
[3,null,null,null,null,null,null,null,null,null,3,"Винт-шуруп М10*120 мм (шпилька сантехническая)",null,null,null,null,8,17,136,null,3,"Винт-шуруп М10*120 мм (шпилька сантехническая)",null,null,null,null,8,8,64]
[4,null,null,null,null,null,null,null,null,null,4,"Винт-шуруп М8*140-150 мм (шпилька сантехническая)",null,null,null,null,8,9,72,null,4,"Винт-шуруп М8*140-150 мм (шпилька сантехническая)",null,null,null,null,8,7,56]
[5,"Вода бутилированная 19л.",null,null,null,null,3,280,840,null,5,"Вода бутилированная 19л.",null,null,null,null,3,{"$f":"H133","v":280},840,null,5,"Вода бутилированная 19л.",null,null,null,null,3,136,408]
[6,"Герметик анаэробный для газа и жидкости Юнифитт 75 мл",null,null,null,null,1,{"$f":"510*I127","v":510},510,null,6,"Герметик анаэробный для газа и жидкости Юнифитт 75 мл",null,null,null,null,1,{"$f":"H134","v":510},510,null,6,"Герметик анаэробный для газа и жидкости Юнифитт 75 мл",null,null,null,null,1,383.87,383.87]
[7,"Дюбель  S12x60",null,null,null,null,8,16,128,null,7,"Дюбель  S12x60",null,null,null,null,8,{"$f":"H135","v":16},128,null,7,"Дюбель  S12x60",null,null,null,null,8,0.7,5.6]
[8,"Дюбель для пустотелого кирпича Mungo ML 10 х 90",null,null,null,null,8,{"$f":"13.02*I127","v":13.02},104.16,null,8,"Дюбель для пустотелого кирпича Mungo ML 10 х 90",null,null,null,null,8,13.02,104.16,null,8,"Дюбель для пустотелого кирпича Mungo ML 10 х 90",null,null,null,null,8,13.02,104.16]
[9,"Лента армированная Energoflex 48мм*25 красная",null,null,null,null,6,341,2046,null,9,"Лента армированная Energoflex 48мм*25 красная",null,null,null,null,6,341,2046,null,9,"Лента армированная Energoflex 48мм*25 красная",null,null,null,null,6,216.04,1296.24]
[10,"Лента армированная Energoflex 48мм*25 синяя",null,null,null,null,6,341,2046,null,10,"Лента армированная Energoflex 48мм*25 синяя",null,null,null,null,6,341,2046,null,10,"Лента армированная Energoflex 48мм*25 синяя",null,null,null,null,6,216.04,1296.24]
[11,"Лента перфорированная монтажная 12*0,55мм (25м в упаковке) ",null,null,null,null,2,2030,4060,null,11,"Лента перфорированная монтажная 12*0,55мм (25м в упаковке) ",null,null,null,null,2,2030,4060,null,11,"Лента перфорированная монтажная 12*0,55мм (25м в упаковке) ",null,null,null,null,2,122,244]
[12,"Очиститель Loctite 7063  400 мл спрей",null,null,null,null,1,1247,1247,null,12,"Очиститель Loctite 7063  400 мл спрей",null,null,null,null,1,1247,1247,null,12,"Очиститель Loctite 7063  400 мл спрей",null,null,null,null,1,714,714]
[13,"Пена монтажная Профессиональная О2 65 (750 мл)",null,null,null,null,1,450,450,null,13,"Пена монтажная Профессиональная О2 65 (750 мл)",null,null,null,null,1,450,450,null,13,"Пена монтажная Профессиональная О2 65 (750 мл)",null,null,null,null,1,298,298]
[14,"Саморез ЖЦ 4,2*70 (по дереву потай)",null,null,null,null,1,215,215,null,14,"Саморез ЖЦ 4,2*70 (по дереву потай)",null,null,null,null,1,215,215,null,14,"Саморез ЖЦ 4,2*70 (по дереву потай)",null,null,null,null,1,175,175]
[15,"Саморезы желтые по дереву 3,5*35мм",null,null,null,null,2,188,376,null,15,"Саморезы желтые по дереву 3,5*35мм",null,null,null,null,2,188,376,null,15,"Саморезы желтые по дереву 3,5*35мм",null,null,null,null,2,172,344]
[16,"Силиконовая смазка 250гр.",null,null,null,null,1,196,196,null,16,"Силиконовая смазка 250гр.",null,null,null,null,1,196,196,null,16,"Силиконовая смазка 250гр.",null,null,null,null,1,99.94,99.94]
[17,"Стяжки нейлоновые СН 3*150 - 200 (б)",null,null,null,null,100,{"$f":"0.58*I127","v":0.57999999999999996},57.999999999999993,null,17,"Стяжки нейлоновые СН 3*150 - 200 (б)",null,null,null,null,100,0.57999999999999996,57.999999999999993,null,17,"Стяжки нейлоновые СН 3*150 - 200 (б)",null,null,null,null,100,0.57999999999999996,58]
[18,"Хомут 1 1/2” (47-52 мм) с резиновым уплотнителем, шпилькой и дюбелем unifit",null,null,null,null,8,35,280,null,18,"Хомут М8 50мм raupianoplus",null,null,null,null,8,35,280,null,18,"Хомут М8/М10  50-56мм Walraven BIS ",null,null,null,null,8,72.61,580.88]
[19,"Хомут 4” (107-116 мм) с резиновым уплотнителем, шпилькой и дюбелем unifit",null,null,null,null,8,74,592,null,19,"Хомут М8/M100 110мм raupianoplus",null,null,null,null,8,74,592,null,19,"Хомут М8/М10 108-114мм Walraven BIS",null,null,null,null,8,166.72,1333.76]
[null,null,null,null,null,null,null,null,{"$f":"SUM(I129:I147)","v":18143.16},{"$f":"I148/2","v":9071.58},null,null,null,null,null,null,null,null,{"$f":"SUM(S129:S147)","v":18351.16},{"$f":"S148/2","v":9175.58},null,null,null,null,null,null,null,null,{"$f":"SUM(AC129:AC147)","v":11953.789999999999},{"$f":"AC148/2","v":5976.8949999999995}]
[]
[]
[]
[null,"СТОИМОСТЬ ВОДОТОЧКИ",null,"точки","21",null,null,null,null,null,null,null,"СТОИМОСТЬ ВОДОТОЧКИ",null,"точки","21",null,null,null,null,null,"СТОИМОСТЬ ВОДОТОЧКИ",null,"точки","21"]
[null,"TECE",null,"циркуляция","4",null,null,null,null,null,null,null,"STOUT",null,"циркуляция","4",null,null,null,null,null,"REHAU",null,"циркуляция","4"]
[null,"Узел / Номенклатура","Арт.","Ед.","Количество","Цена","Стоимость",null,null,null,null,null,"Узел / Номенклатура","Арт.","Ед.","Количество","Цена","Стоимость",null,null,null,"Узел / Номенклатура","Арт.","Ед.","Количество","Цена","Стоимость"]
[1,"TECE flex 20*2,8 Цирк",null,"шт",150,336,{"$f":"(E155*F155)/E152","v":2400},"2024-01-10",null,null,null,1,"PEX 20*2,8 Цирк",null,"шт",150,208.27,{"$f":"(P155*Q155)/P152","v":1487.6428571428571},"2024-01-10",null,1,"REHAU 20*2,8 Цирк",null,"шт",150,239.11,{"$f":"(Y155*Z155)/Y152","v":1707.9285714285713}]
[2,"TECE_Концевая водоточка (без пластины)",null,"шт",5,2707,{"$f":"(E156*F156)/E152","v":644.52380952380952},null,null,null,null,2,"STOUT_Концевая водоточка (без пластины)",null,"шт",5,1908.35,{"$f":"(P156*Q156)/P152","v":454.36904761904759},null,null,2,"REHAU_Концевая водоточка (без пластины)",null,"шт",5,1089.57,{"$f":"(Y156*Z156)/Y152","v":259.42142857142852}]
[3,"TECE_Проходная точка (без пластины)",null,"шт",16,3642,{"$f":"(E157*F157)/E152","v":2774.8571428571427},null,null,null,null,3,"STOUT_Проходная точка (без пластины)",null,"шт",16,2534.7399999999998,{"$f":"(P157*Q157)/P152","v":1931.2304761904761},null,null,3,"REHAU_Проходная точка (без пластины)",null,"шт",16,1948.66,{"$f":"(Y157*Z157)/Y152","v":1484.6933333333334}]
[4,"Подключение перемычки полотенцесушителя TECE",null,"шт",2,7309,{"$f":"(E158*F158)/E152","v":696.09523809523807},null,null,null,null,4,"Подключение перемычки полотенцесушителя STOUT",null,"шт",2,5104.59,{"$f":"(P158*Q158)/P152","v":486.1514285714286},null,null,4,"Подключение перемычки полотенцесушителя REHAU",null,"шт",2,3967.73,{"$f":"(Y158*Z158)/Y152","v":377.87904761904764}]
[5,"TECE_узел подключения санузла на 2-ом этаже c Циркуляцией",null,"шт",1,4390,{"$f":"(E159*F159)/E152","v":209.04761904761904},null,null,null,null,5,"STOUT_узел подключения санузла на 2-ом этаже c Циркуляцией",null,"шт",1,4810.41,{"$f":"(P159*Q159)/P152","v":229.06714285714284},null,null,5,"REHAU_узел подключения санузла на 2-ом этаже c Циркуляцией",null,"шт",1,4269.6000000000004,{"$f":"(Y159*Z159)/Y152","v":203.31428571428575}]
[null,null,null,"ИТОГО ",null,null,{"$f":"SUM(G155:G159)","v":6724.5238095238101},null,null,null,null,null,null,null,"ИТОГО ",null,null,{"$f":"SUM(R155:R159)","v":4588.4609523809522},null,null,null,null,null,"ИТОГО ",null,null,{"$f":"SUM(AA155:AA159)","v":4033.2366666666662}]
[]
[]
[]
[null,"Расчет номенклатуры по узлам",null,null,null,null,null,null,null,null,null,null,null,null,null,null,null,null,null,"Расчет номенклатуры по узлам"]
[null,"СТОИМОСТЬ ВОДОТОЧКИ",null,null,null,null,null,null,null,null,null,null,null,null,null,null,null,null,null,"СТОИМОСТЬ ВОДОТОЧКИ"]
[null,"REHAU",null,null,null,null,null,null,null,null,null,null,null,null,null,null,null,null,null,"STOUT"]
[null,"Узел / Номенклатура","Арт.","Ед.","Количество",24,"точек",null,null,null,null,null,null,null,null,null,null,null,null,null,24,"точек"]
[1,"Rehau His 20*2,8 Цирк",null,"шт",260,"4","точки циркуляции",null,null,null,null,null,null,null,null,null,null,null,null,null,"4","точки циркуляции"]
[2,"REHAU_Концевая водоточка (без пластины)",null,"шт",4]
[3,"REHAU_Проходная точка (без пластины)",null,"шт",19]
[4,"Подключение перемычки полотенцесушителя REHAU",null,"шт",3]
[5,"REHAU_узел подключения санузла на 2-ом этаже c Циркуляцией",null,"шт",2]
[]
[null,null,null,null,null,"1",null,null,null,null,null,null,null,null,null,null,null,null,null,null,null,"Водоточка без цирк. Stout",null,null,null,"Циркуляция",null,1]
[null,"Номенклатура","Арт.","Ед.","Количество","Цена",null,null,"водоточка без цирк.",null,"циркуляция",null,null,null,null,null,null,null,null,"Номенклатура",null,"Количество","Цена","Стоимость",null,"Кол-во","Стоимость"]
[1,"Гильза 16 PX PVDF надвижная RAUTITAN REHAU",160001,"шт.",9,86,null,null,9,{"$f":"I176*F176","v":774},null,{"$f":"K176*F176","v":0},"2022-06-29",null,null,null,null,null,null,"SFA-0020-000016 STOUT Монтажная гильза 16 для труб из сшитого полиэтилена аксиальный","шт",9,47,{"$f":"V176*W176","v":423},null,null,null,"2022-06-06"]
[2,"Гильза 20 PX PVDF надвижная RAUTITAN REHAU",160002,"шт",125,93,null,null,105,{"$f":"I177*F177","v":9765},{"$f":"E177-I177","v":20},{"$f":"K177*F177","v":1860},"2022-06-29",null,null,null,null,null,null,"SFA-0020-000020 STOUT Монтажная гильза 20 для труб из сшитого полиэтилена аксиальный","шт",{"$f":"125-20","v":105},50,{"$f":"V177*W177","v":5250},null,20,{"$f":"Z177*W177","v":1000},"2022-06-06"]
[3,"Заглушка для опрессовки 1/2\" красная",null,"шт",29,41,null,null,29,1189,null,0,"2022-06-06",null,null,null,null,null,null,"91405 FV-PLAST Пробка красная 1/2\"","шт",29,{"$f":"33*AB174","v":33},957,null,null,null,"2022-06-06"]
[4,"Заглушка для опрессовки 1/2\" синяя",null,"шт",23,41,null,null,23,943,null,0,"2022-06-06",null,null,null,null,null,null,"91406 FV-PLAST Пробка синяя 1/2\"","шт",23,{"$f":"26*AB174","v":26},598,null,null,null,"2022-06-06"]
[5,"Саморез ЖЦ 3,5*51 (по дереву потай)",3123,"кг",0.214,287,null,null,0.214,61.417999999999999,null,0,"2022-06-06",null,null,null,null,null,null,"EFXT022062SUPRK Энергофлекс Трубка СУПЕР ПРОТЕКТ - К 22/6 (2м) (в коробке 152м)","м",{"$f":"208-Z180","v":156},{"$f":"18*AB174","v":18},2808,null,52,{"$f":"Z180*W180","v":936},"2022-06-06"]
[6,"Теплоизоляция СУПЕР ПРОТЕКТ 22 (6) Красный",null,"м",208,19,null,null,156,2964,{"$f":"E181-I181","v":52},988,"2022-06-06",null,null,null,null,null,null,"EFXT022062SUPRS Энергофлекс Трубка СУПЕР ПРОТЕКТ - С 22/6 (2м) (в коробке 152м)","м",104,{"$f":"18*AB174","v":18},1872,null,null,null,"2022-06-06"]
[7,"Теплоизоляция СУПЕР ПРОТЕКТ 22 (6) Синий",null,"м",104,19,null,null,104,1976,null,0,"2022-06-06",null,null,null,null,null,null,"SFA-0013-000020 STOUT Тройник равнопроходный 20x20x20  для труб из сшитого полиэтилена аксиальный","шт",{"$f":"19-Z182","v":15},320,4800,null,4,1280,"2022-06-06"]
[8,"Тройник 20  РХ надвижной REHAU",160032,"шт",19,741,null,null,15,11115,{"$f":"E183-I183","v":4},2964,"2022-06-06",null,null,null,null,null,null,"SFA-0014-201620 STOUT Тройник переходной 20x16x20 для труб из сшитого полиэтилена аксиальный","шт",6,287,1722,null,null,null,"2022-06-06"]
[9,"Тройник RAUTITAN РХ с уменьшенным боковым проходом 20-16-20",160061,"шт",6,652,null,null,6,3912,null,0,"2022-06-06",null,null,null,null,null,null,"SPX-0001-002028 STOUT 20х2,8 (бухта 100 метров) PEX-a труба из сшитого полиэтилена с кислородным слоем, серая","м",{"$f":"320-Z184","v":242},157,37994,null,78,12246,"2022-06-06"]
[10,"Труба RAUTITANflex  ​ для систем холодного и горячего водоснабжения d20x2.8 (бухта 100м)",137020,"м",312,179,null,null,234,41886,{"$f":"E185-I185","v":78},13962,"2022-06-06",null,null,null,null,null,null,"SFA-0007-000020 STOUT Угольник  90° 20 для труб из сшитого полиэтилена аксиальный","шт",{"$f":"12-Z185","v":8},260,2080,null,4,1040,"2022-06-06"]
[11,"Угол 90 20  РХ надвижной REHAU",160022,"шт",12,554,null,null,8,4432,{"$f":"E186-I186","v":4},2216,"2022-06-06",null,null,null,null,null,null,"SFA-0032-002012 STOUT Угольник настенный с длинным нарезным патрубком 20-Rp 1/2\" для труб из сшитого полиэтилена аксиальный","шт",29,820,23780,null,null,null,"2022-06-06"]
[12,"Угольник настенный (водорозетка) RAUTITAN MX Внутрення резьба (длинный) 20-Rp 1/2",366106,"шт",29,825,null,null,29,23925,null,0,"2022-06-06",null,null,null,null,null,null,"SFA-0029-000020 STOUT Фиксатор поворота 20 (металл)","шт",29,129,3741,null,null,null,"2022-06-06"]
[13,"Фиксатор поворота 20 Rehau",258798,"шт",29,166,null,null,29,4814,null,0,"2022-06-06"]
[null,null,null,null,null,null,null,null,null,null,null,null,null,null,null,null,null,null,null,null,null,null,null,{"$f":"SUM(X176:X188)","v":86025},null,null,{"$f":"SUM(AA177:AA188)","v":16502}]
[null,null,null,null,null,null,null,null,null,null,{"$f":"SUM(J176:J188)","v":107756.41800000001},{"$f":"SUM(L176:L188)","v":21990},null,null,null,null,null,null,null,null,null,null,null,{"$f":"X189/U167","v":3584.375},null,null,{"$f":"AA189/U168","v":4125.5}]
[null,null,null,null,null,null,null,null,null,null,{"$f":"K190/F167","v":4489.8507500000005},{"$f":"L190/F168","v":5497.5}]
[null,null,null,null,null,null,null,null,null,null,"стоимость водоточки","стоимость точки циркуляции"]

{"sheet":"РАБОТЫ","index":17,"n_rows":371,"n_cols":21,"rows_kept":371,"cut":false,"hidden":false,"merged":[[175,13,176,13],[112,5,112,6],[0,5,0,6],[21,5,21,6],[21,2,21,3],[1,5,1,6],[3,2,3,3],[3,5,3,6],[10,5,10,6],[10,2,10,3]]}
[{"$f":"СВОД!B15","v":"Дата"},null,"%  запас","%  культ",null,"без %"]
["2,5% размазаная себестомость ( Амортизация, расходники, надбавка за разряд, гсп прораба) ",null,1.0249999999999999,1.0249999999999999,null,"1:С"]
[null,null,"Бригада","Прораб",null,"Бригада","Прораб"]
["ТЕПЛОТРАССА"]
["Укладка теплотрассы (размещение в траншее с подсыпкой песка)",null,{"$f":"F5*$C$2","v":591.9375},{"$f":"G5*$D$2","v":112.75},null,577.5,110.00000000000001,"27.07.2023 + 10% к ставке + 20т.р к этапу"]
["Монтаж ПНД трубы",null,{"$f":"F6*$C$2","v":169.12499999999997},{"$f":"G6*$D$2","v":32.697499999999998},null,165,31.900000000000002]
["Обвязка теплотрассы (обвязка с существующей системой ОВ рядом стоящих строений)",null,5919.375,1014.75,null,5775.0000000000009,990.00000000000011]
["Комнатный регулятор",null,1775.8125,355.16249999999997,null,1732.5000000000002,346.5]
["Землянные работы ",null,1691.25,338.24999999999994,null,1650.0000000000002,330,"16.08.2021 новая расценка"]
[]
["ОТОПЛЕНИЕ"]
["Монтаж комплекта декоративной подводки к радиатору",null,{"$f":"F12*$C$2","v":428.45000000000005},{"$f":"G12*$D$2","v":68.777500000000003},null,418.00000000000006,67.100000000000009]
["Монтаж радиатора",null,{"$f":"F13*$C$2","v":1713.8000000000002},{"$f":"G13*$D$2","v":289.76750000000004},null,1672.0000000000002,282.70000000000005]
["Монтаж напольного конвектора (радик+подключение изи сметы)",null,2227.94,376.58499999999998,null,2173.6000000000004,367.40000000000003]
["Установка пульта для конвектора",null,473.55,74.415000000000006,null,462.00000000000006,72.600000000000009]
["Монтаж конвектора",null,2096.0225,367.565,null,2044.9,358.6]
["Монтаж закладной петли под радиатор",null,1826.5500000000002,289.76750000000004,null,1782.0000000000002,282.70000000000005]
["Монтаж стояка отопления (подача/обратка)",null,1420.6499999999999,236.77500000000001,null,1386,231.00000000000003]
["Подводка подачи/обратки к коллекторам за пределами котельной (стоимость за 2 трубы)",null,{"$f":"F19*25*$C$2","v":3241.5625},{"$f":"G19*25*$D$2","v":507.37499999999994},null,126.50000000000001,19.8]
["Монтаж коллекторного шкафа",null,3516.6724999999997,608.84999999999991,null,3430.9,594]
[]
["ВОДОСНАБЖЕНИЕ, КАНАЛИЗАЦИЯ"]
["Монтаж точки водоснабжения",null,{"$f":"F23*$C$2","v":1691.25},{"$f":"G23*$D$2","v":338.24999999999994},null,1650.0000000000002,330,"18.08.21 новая расценка с момента продажи (для заявок 1400 и 280)"]
["Монтаж стояка отопления (подача/обратка)",null,{"$f":"F24*$C$2","v":1420.6499999999999},{"$f":"G24*$D$2","v":236.77500000000001},null,1386,231.00000000000003]
["Монтаж коллекторного шкафа",null,3516.6724999999997,608.84999999999991,null,3430.9,594]
["Монтаж точки канализации",null,1691.25,338.24999999999994,null,1650.0000000000002,330,"18.08.21 новая расценка с момента продажи (для заявок 1400)"]
["Монтаж ПВХ трубы (канализация,песчанная подушка,укладка трубы по уровню)",null,591.9375,112.75,null,577.5,110.00000000000001]
["Землянные работы ",null,1691.25,338.24999999999994,null,1650.0000000000002,330,"18.08.2021 новая расценка"]
["Монтаж точки вентиляции d100",null,1691.25,2649.6249999999995,null,1650.0000000000002,2585,"18.08.21 новая расценка с момента продажи (для заявок 1400)"]
["Монтаж точки вентиляции d125",null,1691.25,4510,null,1650.0000000000002,4400,"18.08.21 новая расценка с момента продажи (для заявок 1400)"]
["Монтаж точки вентиляции d150",null,1691.25,7328.75,null,1650.0000000000002,7150.0000000000009,"по чекам от Бугаева 6200 + 300 бонус прораба (Литвиненко обещал промониторить ещё пару заказчиков 01.10.22)"]
["Монтаж точки вентиляции для парных (металл. воздуховод  (оцинковка))",null,3382.5,3382.5,null,3300.0000000000005,3300.0000000000005]
["Смеситель (обычный)",null,1183.875,225.5,null,1155,220.00000000000003]
["Монтаж тарелочного трапа",null,2480.5,428.45000000000005,null,2420,418.00000000000006]
["Монтаж дизайнерского трапа (с коробом и подпорками)",null,4059,642.67499999999995,null,3960.0000000000005,627]
["Штробление (кухня, с/у)",null,118.3875,22.549999999999997,null,115.50000000000001,22]
["Установка скрытых смесителей",null,3382.5,676.49999999999989,null,3300.0000000000005,660]
["Установка скрытых смесителей (для нескольких выводов)",null,5637.4999999999991,902,null,5500,880.00000000000011]
["Установка инсталляции (под сантех.приборы)",null,2976.6000000000004,473.55,null,2904.0000000000005,462.00000000000006]
["Монтаж лотка гаражного трапа (1м)",null,732.875,146.57499999999999,null,715.00000000000011,143]
["Монтаж пескоуловителя",null,2255,451,null,2200,440.00000000000006]
["Подключение к закладной",null,422.8125,68.777500000000003,null,412.50000000000006,67.100000000000009]
[]
["ТЁПЛЫЙ ПОЛ"]
["Монтаж ТП",null,{"$f":"F45*C2","v":394.625},{"$f":"G45*C2","v":73.287499999999994},null,385.00000000000006,71.5]
["Магистрали от коллектора до ТП",null,{"$f":"F46*C2","v":78.924999999999997},{"$f":"G46*C2","v":16.912499999999998},null,77,16.5]
["Монтаж коллекторного шкафа",null,{"$f":"F47*$C$2","v":3516.6724999999997},{"$f":"G47*$D$2","v":608.84999999999991},null,3430.9,594]
["Установка Unibox",null,541.19999999999993,90.199999999999989,null,528,88]
["Установка управляющего модуля ТП",null,1014.75,163.48749999999998,null,990.00000000000011,159.5]
["Установка сервопривода ТП",null,620.125,95.837500000000006,null,605,93.500000000000014]
[]
[]
["КОТЕЛЬНАЯ"]
["Монтаж Газового котла Vaillant turboTEC plus VU INT IV 242/5-5 (24 кВт) (Одноконтурный)",null,{"$f":"F54*$C$2","v":3923.7000000000003},{"$f":"G54*$D$2","v":745.27749999999992},null,3828.0000000000005,727.1,"17.08.2021 прорабские 19%"]
["Монтаж Газового котла Vaillant turboTEC plus VU INT IV 282/5-5 (28 кВт) (Одноконтурный)",null,{"$f":"F55*$C$2","v":3923.7000000000003},{"$f":"G55*$D$2","v":745.27749999999992},null,3828.0000000000005,727.1]
["Монтаж Газового котла Vaillant turboTEC plus VU INT IV 362/5-5 (36 кВт) (Одноконтурный)",null,3923.7000000000003,745.27749999999992,null,3828.0000000000005,727.1]
["Монтаж Газового котла Vaillant turboTEC plus VUW INT IV 242/5-5 (24 кВт) (Двухконтурный)",null,3923.7000000000003,745.27749999999992,null,3828.0000000000005,727.1]
["Монтаж Газового котла Vaillant turboTEC plus VUW INT IV 282/5-5 (28 кВт) (Двухконтурный)",null,3923.7000000000003,745.27749999999992,null,3828.0000000000005,727.1]
["Монтаж Газового котла Vaillant turboTEC plus VUW INT IV 322/5-5 (32 кВт) (Двухконтурный)",null,3923.7000000000003,745.27749999999992,null,3828.0000000000005,727.1]
["Монтаж Газового котла Vaillant turboTEC plus VUW INT IV 362/5-5 (36 кВт) (Двухконтурный)",null,3923.7000000000003,745.27749999999992,null,3828.0000000000005,727.1]
["Монтаж котла электрического Protherm (Протерм) Скат 9 KR 13, (9 кВт)",null,2942.7750000000001,559.24,null,2871.0000000000005,545.6]
["Монтаж котла электрического Protherm (Протерм) Скат 12 KR 13, (12 кВт) ",null,2942.7750000000001,559.24,null,2871.0000000000005,545.6]
["Монтаж котла электрического Protherm (Протерм) Скат 14 KR 13, (14 кВт) ",null,2942.7750000000001,559.24,null,2871.0000000000005,545.6]
["Обвязка трехходового крана в систему отопления и водоснабжения бойлера",null,3788.4,719.34500000000003,null,3696.0000000000005,701.80000000000007,"Добавили расценку из старой сметы 17.08.2021 (согл. Виталий)"]
["Обвязка Котельной Бюджет/ППР",null,9020,1713.8000000000002,null,8800,1672.0000000000002,"Новая расценка (согл.ГСА, Виталий)"]
["Обвязка Котельной Медь",null,11274.999999999998,2142.25,null,11000,2090,"Новая расценка (согл.ГСА, Виталий)"]
["Система управления calorMATIC VRC 630/3 (Упралвение бойлером, одним прямым контуром отопления и двумя смесительными контурами)",null,3923.7000000000003,745.27749999999992,null,3828.0000000000005,727.1]
["Смесительный модуль для двух дополнительный контуров VR60 (только с VRC 630/3)",null,3089.3500000000004,586.29999999999995,null,3014.0000000000005,572]
["Настенный адаптер VR 55 (только с VRC 630/3) Вынос регулятора за пределы помещения котельной",null,1853.61,351.78000000000003,null,1808.4,343.20000000000005]
["Автоматический регулятор multiMATIC VRC 700/5 (Управление бойлером и одним прямым контуром отопления)",null,3089.3500000000004,587.42750000000001,null,3014.0000000000005,573.1]
["Смесительный модуль VR70 (только с VRC 700/5) (Управление бойлером и двумя смесительными контурами отопления)",null,3089.3500000000004,587.42750000000001,null,3014.0000000000005,573.1]
["Смесительный модуль VR71 (только с VRC 700/5) Управление бойлером и тремя смесительными контурами отопления)",null,3923.7000000000003,745.27749999999992,null,3828.0000000000005,727.1]
["Блок передачи данных VR 920 (только с VRC 700/5) (Управление автоматикой через приложение на телефоне)",null,3089.3500000000004,587.42750000000001,null,3014.0000000000005,573.1]
["Zont Climatic Автоматический регулятор + плата (один котёл)",null,10102.4,1919.0049999999999,null,9856,1872.2]
["Zont Climatic Автоматический регулятор + две платы (два котла)",null,13191.75,2508.6875,null,12870.000000000002,2447.5]
["Zont Smart + адаптер  (кот.бюджет)",null,6178.7000000000007,1332.7049999999999,null,6028.0000000000009,1300.2]
["Комнатный датчик (в другом помещении)",null,1775.8125,355.16249999999997,null,1732.5000000000002,346.5]
["EX-77 + блок питания ",null,6178.7000000000007,1332.7049999999999,null,6028.0000000000009,1300.2]
["Комплект сопутсвующих материалов для монтажа  (флюс, припой и тд)",null,0,0,null,0,0]
["Коаксиальный дымоход с проходом через кровлю (обычный котел)",null,19618.5,3727.5149999999999,null,19140,3636.6000000000004]
["Коаксиальный дымоход с проходом через кровлю (конденсационный котел)",null,19618.5,3727.5149999999999,null,19140,3636.6000000000004]
["Коаксиальный дымоход с проходом через кровлю для 1 этажного здания",null,15694.800000000001,2981.1099999999997,null,15312.000000000002,2908.4]
["Коаксиальный дымоход с проходом через стену (обычный котел)",null,2452.3125,465.65749999999997,null,2392.5,454.3]
["Коаксиальный дымоход с проходом через стену (конденсационный котел)",null,2452.3125,465.65749999999997,null,2392.5,454.3]
["Монтаж  ecosystem S160 (720 л/ч)",null,3923.7000000000003,745.27749999999992,null,3828.0000000000005,727.1]
["Монтаж  ecosystem S200 (768 л/ч)",null,4904.625,932.4425,null,4785,909.7]
["Монтаж  ecosystem S300 (882 л/ч)",null,5885.55,1118.48,null,5742.0000000000009,1091.2]
["Узел подключения основного одноконтурного газового котла (Радиаторы+теплые полы) Медь.",null,9809.25,1863.7574999999999,null,9570,1818.3000000000002]
["Узел подключения основного двухконтурного газового котла (Радиаторы+теплые полы) Медь.",null,9809.25,1863.7574999999999,null,9570,1818.3000000000002]
["Узел подключения основного одноконтурного газового котла (Радиаторы) Медь.",null,9809.25,1863.7574999999999,null,9570,1818.3000000000002]
["Узел подключения основного двухконтурного газового котла (Радиаторы) Медь.",null,9809.25,1863.7574999999999,null,9570,1818.3000000000002]
["Узел подключения резервного электрического котла Медь.",null,5885.55,1118.48,null,5742.0000000000009,1091.2]
["Узел подключения основного электрического котла (Радиаторы+теплые полы)Медь.",null,7356.9375,1398.1,null,7177.5000000000009,1364]
["Узел подключения основного электрического котла (Радиаторы)Медь.",null,7356.9375,1398.1,null,7177.5000000000009,1364]
["Узел подключения основного электрического котла (Радиаторы)Пропилен.",null,5885.55,1118.48,null,5742.0000000000009,1091.2]
["Система рециркуляции ГВС позволяет, мгновенно получать горячую воду в конечной точке водоразбора (ремендуется в случае удаленности точек водоразбора от коллектора более 8-10 м). Полипропилен",null,2942.7750000000001,559.24,null,2871.0000000000005,545.6]
["Узел заполнения системы отопления",null,736.25750000000005,139.81,null,718.30000000000007,136.4]
["Смесительный контур для радиаторного отопления автоматический. Полипропилен",null,5885.55,1118.48,null,5742.0000000000009,1091.2]
["Прямой контур для радиаторного отопления ручной. Полипропилен",null,5885.55,1118.48,null,5742.0000000000009,1091.2]
["Смесительный контур для теплых полов автоматический. Полипропилен",null,5885.55,1118.48,null,5742.0000000000009,1091.2]
["Смесительный контур для теплых полов ручной. Полипропилен",null,5885.55,1118.48,null,5742.0000000000009,1091.2]
["Материалы, мембранный бак, автоматика. Полипропилен.",null,2452.3125,465.65749999999997,null,2392.5,454.3]
["Материалы, автоматика. Полипропилен.",null,2452.3125,465.65749999999997,null,2392.5,454.3]
["материалы байпаса, обвязки редуктора и т.д.",null,2452.3125,465.65749999999997,null,2392.5,454.3]
["Автоматический запорный кран Нептун для защиты от протечек  с 4 радиодатчиками и модулем управления по Wi-Fi",null,3382.5,676.49999999999989,null,3300.0000000000005,660]
["Автоматический запорный кран Нептун для защиты от протечек  с 4 радиодатчиками и модулем управления по Wi-Fi  НАСТРОЙКА",null,{"$f":"F106*$C$2","v":1713.8000000000002},{"$f":"G106*$D$2","v":342.76},null,1672.0000000000002,334.40000000000003]
["Стабилизатор необходим для защиты котла от перепадов напряжения",null,490.46250000000003,93.58250000000001,null,478.50000000000006,91.300000000000011]
["Комплект для перенастройки котлов на сжиженный газ ",null,3923.7000000000003,745.27749999999992,null,3828.0000000000005,727.1]
["Котёл призрак, место под возможную установку",null,{"$f":"F109*$C$2","v":1127.5},{"$f":"G109*$D$2","v":225.5},null,1100,220.00000000000003]
["Фильтра",null,563.75,107.11250000000001,null,550,104.50000000000001]
[]
["ЭЛЕКТРИКА"]
[null,null,null,null,null,"без %",null,null,null,"РАСЧЕТ ЩР",null,"Стандарт",null,null,null,null,null,"ТХ3",null,"RX3 (лучше не использовать - это для квартир)"]
[null,null,"Бригада","Прораб",null,"Бригада","Прораб",null,null,null,"мод.","Кол-во","Цена","Стоим.мат.","Бригада","Прораб","Всего",null,"Стоим.мат.",null,"Стоим.мат."]
["Электрическая точка (сечение до 6 мм2) в дереве",null,{"$f":"F115*C$2","v":777.97500000000002},{"$f":"G115*$D$2","v":124.02500000000001},null,759.00000000000011,121.00000000000001,null,null,"Автоматика для стандартных точек"]
["Электрическая точка (свыше 6 мм2) в дереве",null,{"$f":"F116*C$2","v":1409.3749999999998},{"$f":"G116*$D$2","v":230.01},null,1375,224.4,null,null,"407263 Авт. выкл. 1P 16A C 6kA DX3-E",{"$f":"L116*1","v":0},{"$f":"(Электрика!C6+Электрика!C7+Электрика!C18+Электрика!C19+Электрика!C21+Электрика!C23+Электрика!C24+Электрика!C26+Электрика!C36+Электрика!C38+Электрика!C43+Электрика!C53+Электрика!C54)/6+Электрика!C16","v":0},{"$f":"УЗЛЫ!C498","v":880.65},{"$f":"L116*M116","v":0},{"$f":"$L116*C131","v":0},{"$f":"$L116*D131","v":0},{"$f":"SUM(N116:P116)","v":0},"https://www.legrand2.ru/shop_404028_legrand.html",{"$f":"$L$116*УЗЛЫ!C554","v":0},"https://www.legrand2.ru/shop_show_751817.html",{"$f":"L116*111.09","v":0}]
["Световая электрическая точка в пределах одного подключения",null,225.5,37.207500000000003,null,220.00000000000003,36.300000000000004,null,null,"411555 УЗО 2P 40A 30mA A DX3",{"$f":"L117*2","v":0},{"$f":"L116/3","v":0},{"$f":"УЗЛЫ!C499","v":6229.4400000000005},{"$f":"L117*M117","v":0},{"$f":"$L117*C133","v":0},{"$f":"$L117*D133","v":0},{"$f":"SUM(N117:P117)","v":0},"https://www.legrand2.ru/shop_403001_legrand.html",{"$f":"L117*УЗЛЫ!C555","v":0},"https://www.legrand2.ru/shop_show_751776.html",{"$f":"L117*1430.69","v":0}]
["Обогрев водостоков",null,242.41249999999999,36.08,null,236.50000000000003,35.200000000000003]
["Электрическая точка в пределах одного подключения",null,338.24999999999994,50.737500000000004,null,330,49.500000000000007,null,null,"Автоматика для генератора без АВР"]
["Заземление",null,6201.25,958.375,null,6050.0000000000009,935.00000000000011,"зимний коэффициент",null,"406315 Ввод резерва ручной 3 полюса DX3",{"$f":"L120*6","v":0},{"$f":"Электрика!C34","v":0},{"$f":"УЗЛЫ!C502","v":1253.51},{"$f":"L120*M120","v":0},{"$f":"$L120*C135","v":0},{"$f":"$L120*D135","v":0},{"$f":"SUM(N120:P120)","v":0},null,{"$f":"L120*M120","v":0},null,{"$f":"L120*M120","v":0}]
["Электролитическое заземление",null,12402.5,1916.75,null,12100.000000000002,1870.0000000000002,"зимний коэффициент"]
["КУП",null,665.22499999999991,101.47500000000001,null,649,99.000000000000014,null,null,"407294 Авт. выкл. 3P 32A C 6kA DX3-E",{"$f":"L122*3","v":0},{"$f":"L120*2","v":0},{"$f":"УЗЛЫ!C503","v":2993.1800000000003},{"$f":"L122*M122","v":0},{"$f":"$L122*C133","v":0},{"$f":"$L122*D133","v":0},{"$f":"SUM(N122:P122)","v":0},null,{"$f":"L122*M122","v":0},null,{"$f":"L122*M122","v":0}]
["Дополнительное заземление (газ. котел, розетки от КУП)",null,264.96249999999998,45.099999999999994,null,258.5,44]
["Земляные работы (прокладка кабеля в земле)",null,169.12499999999997,32.697499999999998,null,165,31.900000000000002,null,null,"Автоматика для архитектурной подсветки"]
["Штробление свыше метра за точку",null,269.47250000000003,40.589999999999996,null,262.90000000000003,39.6,null,null,"407263 Авт. выкл. 1P 16A C 6kA DX3-E",{"$f":"L125*1","v":0},null,{"$f":"УЗЛЫ!C506","v":880.65},{"$f":"L125*M125","v":0},{"$f":"$L125*C131","v":0},{"$f":"$L125*D131","v":0},{"$f":"SUM(N125:P125)","v":0},"https://www.legrand2.ru/shop_404028_legrand.html",null,"https://www.legrand2.ru/shop_show_751817.html"]
["Прокладка в кабель-канале за 1м",null,45.099999999999994,9.02,null,44,8.8000000000000007,null,null,"411555 УЗО 2P 40A 30mA A DX3",{"$f":"L126*2","v":0},null,{"$f":"УЗЛЫ!C507","v":6229.4400000000005},{"$f":"L126*M126","v":0},{"$f":"$L126*C133","v":0},{"$f":"$L126*D133","v":0},{"$f":"SUM(N126:P126)","v":0},"https://www.legrand2.ru/shop_403001_legrand.html",null,"https://www.legrand2.ru/shop_show_751776.html"]
["Молниезащита",null,0,62012.5,null,null,60500.000000000007,"А. Влада из письма С. Светлова"]
["Рольставни на солнечной батарее",null,3382.5,676.49999999999989,null,3300.0000000000005,660,null,null,"Автоматика для рольставней"]
["Земляные работы ",null,1183.875,225.5,null,1155,220.00000000000003,null,null,"411555 УЗО 2P 40A 30mA A DX3",{"$f":"L129*2","v":0},{"$f":"Электрика!C25/2/2","v":0},{"$f":"УЗЛЫ!C510","v":6229.4400000000005},{"$f":"L129*M129","v":0},{"$f":"$L129*C132","v":0},{"$f":"$L129*D132","v":0},{"$f":"SUM(N129:P129)","v":0},"https://www.legrand2.ru/shop_403001_legrand.html",{"$f":"L129*1430.69","v":0},"https://www.legrand2.ru/shop_show_751776.html",{"$f":"L129*1430.69","v":0}]
[null,null,null,null,null,null,null,null,null,"407261 Авт. выкл. 1P 10A C 6kA DX3-E",{"$f":"L130*1","v":0},{"$f":"Электрика!C25/2","v":0},{"$f":"УЗЛЫ!C511","v":659.2},{"$f":"L130*M130","v":0},{"$f":"$L130*C131","v":0},{"$f":"$L130*D131","v":0},{"$f":"SUM(N130:P130)","v":0},"https://www.legrand2.ru/shop_404026_legrand.html",{"$f":"L130*147.71","v":0},"https://www.legrand2.ru/shop_show_751816.html",{"$f":"L130*116.67","v":0}]
["Установка модульного оборудования 1P",null,{"$f":"F131*C$2","v":208.58750000000001},33.824999999999996,null,203.50000000000003,33,null,null,"412535 Контактор 230V 4НО 25А CX3",{"$f":"L131*4","v":0},{"$f":"Электрика!C25/2","v":0},{"$f":"УЗЛЫ!C512","v":4694.74},{"$f":"L131*M131","v":0},{"$f":"$L131*C134","v":0},{"$f":"$L131*D134","v":0},{"$f":"SUM(N131:P131)","v":0},null,{"$f":"L131*M131","v":0}]
["Установка модульного оборудования 2P",null,348.39749999999998,52.9925,null,339.90000000000003,51.7]
["Установка модульного оборудования 3P",null,483.69749999999999,73.287499999999994,null,471.90000000000003,71.5,null,null,"Автоматика для силовых точек"]
["Установка модульного оборудования 4P",null,618.99750000000006,93.58250000000001,null,603.90000000000009,91.300000000000011,null,null,"411760 УЗО 4P 40A 30mA A DX3 N справа",{"$f":"L134*4","v":0},{"$f":"Электрика!C9+Электрика!C15+Электрика!C10","v":0},{"$f":"УЗЛЫ!C515","v":11711.1},{"$f":"L134*M134","v":0},{"$f":"$L134*C134","v":0},{"$f":"$L134*D134","v":0},{"$f":"SUM(N134:P134)","v":0},"https://vologda.www-legrand.ru/silovye/uzo/403009/",{"$f":"L134*УЗЛЫ!C557","v":0},"https://vologda.www-legrand.ru/silovye/uzo/402063/",{"$f":"L134*2001.62","v":0}]
["Установка модульного оборудования 6P",null,888.47,135.29999999999998,null,866.80000000000007,132,null,null,"407292 Авт. выкл. 3P 20A C 6kA DX3-E",{"$f":"L135*3","v":0},{"$f":"Электрика!C9+Электрика!C15+Электрика!C10","v":0},{"$f":"УЗЛЫ!C516","v":2184.9802000000004},{"$f":"L135*M135","v":0},{"$f":"$L135*C133","v":0},{"$f":"$L135*D133","v":0},{"$f":"SUM(N135:P135)","v":0},"https://www.legrand2.ru/shop_404057_legrand.html",{"$f":"L135*УЗЛЫ!C558","v":0},"https://www.legrand2.ru/shop_show_751836.html",{"$f":"L135*457.93","v":0}]
["Световая распайка",null,33.824999999999996,5.6374999999999993,null,33,5.5]
["Монтаж встраиваемового ЩР ",null,1804,360.79999999999995,null,1760.0000000000002,352,null,null,"Автоматика для мастер ключа (только свет)"]
["Монтаж наружного слаботочного щита",null,563.75,112.75,null,550,110.00000000000001]
["Монтаж встроенного слаботочного щита",null,902,180.39999999999998,null,880.00000000000011,176,null,null,"407663 Авт. выкл. 1P 2A C 6kA DX3-E",{"$f":"L139*1","v":0},{"$f":"Электрика!C31","v":0},{"$f":"УЗЛЫ!C519","v":1662.5436},{"$f":"L139*M139","v":0},{"$f":"$L139*C131","v":0},{"$f":"$L139*D131","v":0},{"$f":"SUM(N139:P139)","v":0},null,{"$f":"L139*M139","v":0},null,{"$f":"L139*M139","v":0}]
["Установка розетки (выключателя)",null,281.875,39.462499999999999,null,275,38.5,null,null,"412536 Контактор 230V 4H3 25A CX3",{"$f":"L140*4","v":0},{"$f":"L139","v":0},{"$f":"УЗЛЫ!C520","v":7946.45},{"$f":"L140*M140","v":0},{"$f":"$L140*C134","v":0},{"$f":"$L140*D134","v":0},{"$f":"SUM(N140:P140)","v":0},null,{"$f":"L140*M140","v":0},null,{"$f":"L140*M140","v":0}]
["Подключение конвектора",null,2757.8650000000002,441.98,null,2690.6000000000004,431.20000000000005]
["Подключение вводного кабеля",null,1691.25,253.6875,null,1650.0000000000002,247.50000000000003,null,null,"Автоматика для мастер ключа (вся электрика)"]
["Подключение электрического котла",null,1278.585,192.80250000000001,null,1247.4000000000001,188.10000000000002,null,null,"407663 Авт. выкл. 1P 2A C 6kA DX3-E",{"$f":"L143*1","v":0},{"$f":"Электрика!C32","v":0},{"$f":"УЗЛЫ!C523","v":1662.5436},{"$f":"L143*M143","v":0},{"$f":"$L143*C131","v":0},{"$f":"$L143*D131","v":0},{"$f":"SUM(N143:P143)","v":0},null,0,null,{"$f":"L143*M143","v":0}]
["Теплый пол",null,213.0975,32.133749999999999,null,207.9,31.35,null,null,"412557 Контактор 230V 4НЗ 63А с руч. управл. CX3",{"$f":"L144*4","v":0},{"$f":"L143","v":0},{"$f":"УЗЛЫ!C524","v":14241.439199999999},{"$f":"L144*M144","v":0},{"$f":"$L144*C134","v":0},{"$f":"$L144*D134","v":0},{"$f":"SUM(N144:P144)","v":0},null,0,null,{"$f":"L144*M144","v":0}]
["Установка стабилизатора, инвертора",null,1349.6174999999998,204.07750000000001,null,1316.7,199.10000000000002]
["Установка аккумуляторной батареи",null,675.37250000000006,101.47500000000001,null,658.90000000000009,99.000000000000014,null,null,"Боксы"]
["Водосток",null,242.41249999999999,36.08,null,236.50000000000003,35.200000000000003,null,null,"Средняя цена бокса 18",null,null,null,{"$f":"L147*M147","v":0},null,null,{"$f":"SUM(N147:P147)","v":0},null,0,null,{"$f":"L147*M147","v":0}]
["Подготовка 1 поста в кругляке",null,355.16249999999997,54.12,null,346.5,52.800000000000004,null,null,"24118 Бокс ЩРв-П-18 IP40 пластик., прозр. дверь белый Pragma",null,1,{"$f":"УЗЛЫ!C527+УЗЛЫ!C531","v":7308.8},{"$f":"L148*M148","v":7308.8},{"$f":"$L148*C137*0.65","v":1172.6000000000001},{"$f":"$L148*D137","v":360.79999999999995},{"$f":"SUM(N148:P148)","v":8842.1999999999989},null,7308.8,null,{"$f":"L148*M148","v":7308.8}]
["Восстановление деревянных конструкций 1 пост",null,1014.75,182.655,null,990.00000000000011,178.20000000000002,null,null,"13982 Бокс ЩРн-П-18 IP65 пласт., прозр. дверь, белый Kaedra ",null,1,{"$f":"УЗЛЫ!C528+УЗЛЫ!C531","v":9301.85},9301.85,null,null,9301.85,null,9301.85,null,9301.85]
["Установка люка в полу",null,1082.3999999999999,180.39999999999998,null,1056,176,null,null,"Количество занятых модулей",null,{"$f":"SUM(K116:K171)","v":8},null,null,null,null,null,null,null,null,0]
["Заземление \"Ezetek\"*",null,5682.5999999999995,947.1,null,5544,924.00000000000011,null,null,"24318 Бокс ЩРв-П-54 (3х18) IP40 пласт., прозр. дверь белый Pragma ",null,2,{"$f":"УЗЛЫ!C529","v":7211.03},{"$f":"(L151*M151)+УЗЛЫ!C532","v":40665.06},{"$f":"$L151*C137/2","v":1804},{"$f":"$L151*D137","v":721.59999999999991},{"$f":"SUM(N151:P151)","v":43190.659999999996},null,14422.06,null,14422.06]
["Заземления на 3 очага EZ-36 ",null,9660.42,1610.07,null,9424.8000000000011,1570.8000000000002,null,null,"13986 Бокс ЩРн-П-54 (3х18) IP65 пласт., прозр. дверь, белый Kaedra ",null,2,{"$f":"УЗЛЫ!C530","v":9341.07},{"$f":"(L152*M152)+УЗЛЫ!C532","v":44925.14},null,null,{"$f":"SUM(N152:P152)","v":44925.14},null,18682.14,null,18682.14]
["Электролитическое заземление EZ-2,5 Г",null,11365.199999999999,1894.2,null,11088,1848.0000000000002]
["Щит автоматики для котельной DX",null,3608,902,null,3520.0000000000005,880.00000000000011,null,null,"Вводной АВ"]
["Щит автоматики для котельной TX",null,3608,902,null,3520.0000000000005,880.00000000000011,null,null,"407293 Авт. выкл. 3P 25A C 6kA DX3-E",{"$f":"L155*3","v":3},1,{"$f":"УЗЛЫ!C495","v":2894.3},{"$f":"L155*M155","v":2894.3},{"$f":"$L155*C133","v":483.69749999999999},{"$f":"$L155*D133","v":73.287499999999994},{"$f":"SUM(N155:P155)","v":3451.2850000000003},null,2894.3,null,2894.3]
["Устан. реле контроля напряжения CP-723 в распред-ый силовой щит (навесной, втраиваемый)",null,{"$f":"F156*C$2","v":888.67499999999995},{"$f":"G156*$D$2","v":135.29999999999998},null,867,132,null,null,"411781 УЗО 4P 63A 300mA A DX3 N справа",{"$f":"L156*4","v":4},1,{"$f":"УЗЛЫ!C536","v":14800.07},{"$f":"L156*M156","v":14800.07},{"$f":"$L156*C134","v":618.99750000000006},{"$f":"$L156*D134","v":93.58250000000001},{"$f":"SUM(N156:P156)","v":15512.65},null,14800.07,null,14800.07]
[]
[null,null,null,null,null,null,null,null,null,"Электровывод под Щит в Котельной",null,1,{"$f":"(УЗЛЫ!C394*15)+(УЗЛЫ!C421*15)+(УЗЛЫ!C426*15)+(УЗЛЫ!C433*15)","v":2949.4763076923073},{"$f":"L158*M158","v":2949.4763076923073},{"$f":"L158*C115","v":777.97500000000002},{"$f":"L158*D115","v":124.02500000000001},{"$f":"SUM(N158:P158)","v":3851.4763076923073}]
[]
[null,null,null,null,null,null,null,null,null,"Расходники"]
[null,null,null,null,null,null,null,"замена позиции 02.06.23 на более эстетичный вид","Кабель ВВГ нг-LS 5x6","Гибкая обвязка щита",null,1,{"$f":"УЗЛЫ!C564","v":5303.47},{"$f":"L161*M161","v":5303.47},null,null,{"$f":"SUM(N161:P161)","v":5303.47},null,5303.47,null,5303.47]
[null,null,null,null,null,null,null,null,null,"Шина  4*7",null,2,{"$f":"УЗЛЫ!C540","v":1047.51},2095.02,null,null,{"$f":"SUM(N162:P162)","v":2095.02},null,2095.02,null,2095.02]
[null,null,null,null,null,null,null,null,null,"Кабель-канал 25х16 белый 2 метра Элекор",null,4,{"$f":"УЗЛЫ!C541","v":155.53},622.12,null,null,{"$f":"SUM(N163:P163)","v":622.12},null,622.12,null,622.12]
[null,null,null,null,null,null,null,null,null,"Расходники максимальная наполняемость",null,1,{"$f":"УЗЛЫ!C532","v":26243},26243]
[null,null,null,null,null,null,null,null,null,"Распаечный щит освещения МН 25 комнат  на DIN-клеммниках",null,1,{"$f":"УЗЛЫ!C531","v":3745},3745,null,null,{"$f":"SUM(N165:P165)","v":3745}]
[null,null,null,null,null,null,null,null,null,"Розетка для дин-рейки Legrand + Автомат ",null,1,{"$f":"615+273","v":888},888,null,null,{"$f":"SUM(N166:P166)","v":888},null,888,null,888]
[]
[null,null,null,null,null,null,null,null,null,"Автоматика для УЗИП"]
[null,null,null,null,null,null,null,null,null,"407861 Авт. выкл. 1P 25A C 10kA/25kA DX3",{"$f":"L169*1","v":1},1,{"$f":"УЗЛЫ!C544","v":2894.3},{"$f":"L169*M169","v":2894.3},null,null,{"$f":"SUM(N169:P169)","v":2894.3},null,2894.3,null,2894.3]
[null,null,null,null,null,null,null,null,null,"Разница в стоимости между АВ для УЗИП и обычным АВ",{"$f":"L170*(1+3)","v":0},{"$f":"Электрика!C83","v":0},{"$f":"УЗЛЫ!C545","v":2246.4299999999998},{"$f":"L170*M170","v":0},{"$f":"$L170*РАБОТЫ!C131","v":0},{"$f":"$L170*РАБОТЫ!D131","v":0},{"$f":"SUM(N170:P170)","v":0},null,0,null,0]
[null,null,null,null,null,null,null,null,null,"Реле контроля напряжения CP-723",null,1,{"$f":"УЗЛЫ!C546","v":10310.712},{"$f":"L171*M171","v":10310.712},{"$f":"L171*C156","v":888.67499999999995},{"$f":"L171*D156","v":135.29999999999998},{"$f":"SUM(N171:P171)","v":11334.686999999998},null,{"$f":"M171","v":10310.712},null,{"$f":"L171*M171","v":10310.712}]
[]
[null,null,null,null,null,null,null,null,null,"ИТОГО, СУММА ЗА ЩР -н",null,null,null,{"$f":"SUM(N115:N171)-N148-N151","v":126972.45830769232},{"$f":"SUM(O115:O171)-O148-O151","v":2769.3450000000003},426.19499999999994,103924.99830769227,null,{"$f":"SUM(S116:S171)-S148-S151","v":67791.982000000004},null,{"$f":"SUM(U116:U171)-U148-U151","v":67791.982000000004}]
[null,null,null,null,null,null,null,null,null,"ИТОГО, СУММА ЗА ЩР -в",null,null,null,{"$f":"SUM(N116:N172)-N149-N152","v":120719.3283076923},5745.9450000000006,1508.5949999999998,101730.86830769228,null,{"$f":"SUM(S117:S171)-S149-S152","v":61538.851999999999}]
[]
[null,null,null,null,null,null,null,null,null,null,null,null,null,"плюс 3% к стоимости ЩР(Виталий на встрече по Электрике 01.06.23)",{"$f":"Q173*3%","v":3117.7499492307679},"ЩР-н"]
[null,null,null,null,null,null,null,null,null,null,null,null,null,null,{"$f":"Q174*3%","v":3051.9260492307681},"ЩР-в"]
[]
[null,null,null,null,null,null,null,null,null,"РАСЧЕТ КОНЕЧНОГО ОБОРУДОВАНИЯ РЕТРО",null,"РЕТРО"]
[null,null,null,null,null,null,null,null,null,null,null,"Кол-во","Цена","Стоим.","Бригада","Прораб","Всего"]
[]
[null,null,null,null,null,null,null,null,null,"Средняя цена розетки/выключателя ретро",null,null,{"$f":"УЗЛЫ!#REF!","v":{"$error":"#REF!"}},{"$f":"L182*M182","v":{"$error":"#REF!"}},{"$f":"L182*C140","v":0},{"$f":"L182*D140","v":0},{"$f":"SUM(N182:P182)","v":{"$error":"#REF!"}}]
[null,null,null,null,null,null,null,null,null,"Средняя цена рамки ретро",null,null,{"$f":"УЗЛЫ!#REF!","v":{"$error":"#REF!"}},{"$f":"L183*M183","v":{"$error":"#REF!"}},null,null,{"$f":"SUM(N183:P183)","v":{"$error":"#REF!"}}]
[]
[null,null,null,null,null,null,null,null,null,"ИТОГО, СУММА ЗА ФИНИШ РЕТРО",null,null,null,{"$f":"SUM(N182:N183)","v":{"$error":"#REF!"}},{"$f":"SUM(O182:O183)","v":0},0,{"$error":"#REF!"}]
[]
[]
[null,null,null,null,null,null,null,null,null,"РАСЧЕТ КОНЕЧНОГО ОБОРУДОВАНИЯ",null,"Стандарт"]
[null,null,null,null,null,null,null,null,null,null,null,"Кол-во","Цена","Стоим.","Бригада","Прораб","Всего"]
[null,null,null,null,null,null,null,null,null,"Стандартные розетки/выключатели"]
[null,null,null,null,null,null,null,null,null,"Средняя цена розетки/выключателя",null,{"$f":"Электрика!C6+Электрика!C7+Электрика!C8+Электрика!C25+Электрика!C28+Электрика!C29+Электрика!C31+Электрика!C32","v":0},{"$f":"УЗЛЫ!#REF!","v":{"$error":"#REF!"}},{"$f":"L191*M191","v":{"$error":"#REF!"}},{"$f":"L191*C140","v":0},{"$f":"L191*D140","v":0},{"$f":"SUM(N191:P191)","v":{"$error":"#REF!"}}]
[null,null,null,null,null,null,null,null,null,"ФОГ розетка",null,null,{"$f":"УЗЛЫ!#REF!","v":{"$error":"#REF!"}},{"$f":"L192*M192","v":{"$error":"#REF!"}},null,null,{"$f":"SUM(N192:P192)","v":{"$error":"#REF!"}}]
[null,null,null,null,null,null,null,null,null,"Средняя цена рамки",null,{"$f":"L191","v":0},{"$f":"УЗЛЫ!#REF!","v":{"$error":"#REF!"}},{"$f":"L193*M193","v":{"$error":"#REF!"}},null,null,{"$f":"SUM(N193:P193)","v":{"$error":"#REF!"}}]
[]
[null,null,null,null,null,null,null,null,null,"Архитектурная подсветка"]
[null,null,null,null,null,null,null,null,null,"Средняя цена розетки/выключателя",null,null,{"$f":"УЗЛЫ!#REF!","v":{"$error":"#REF!"}},{"$f":"L196*M196","v":{"$error":"#REF!"}},{"$f":"L196*C140","v":0},{"$f":"L196*D140","v":0},{"$f":"SUM(N196:P196)","v":{"$error":"#REF!"}}]
[null,null,null,null,null,null,null,null,null,"Средняя цена рамки",null,null,{"$f":"УЗЛЫ!#REF!","v":{"$error":"#REF!"}},{"$f":"L197*M197","v":{"$error":"#REF!"}},null,null,{"$f":"SUM(N197:P197)","v":{"$error":"#REF!"}}]
[]
[null,null,null,null,null,null,null,null,null,"Слаботочка, диммеры, датчики"]
[null,null,null,null,null,null,null,null,null,"Средняя цена слаботочки, датчиков",null,{"$f":"Электрика!C12+Электрика!C13+Электрика!C23+Электрика!C30+Электрика!C35","v":0},{"$f":"УЗЛЫ!#REF!","v":{"$error":"#REF!"}},{"$f":"L200*M200","v":{"$error":"#REF!"}},{"$f":"L200*C140*2","v":0},{"$f":"L200*D140*2","v":0},{"$f":"SUM(N200:P200)","v":{"$error":"#REF!"}}]
[null,null,null,null,null,null,null,null,null,"Средняя цена рамки",null,{"$f":"L200","v":0},{"$f":"УЗЛЫ!#REF!","v":{"$error":"#REF!"}},{"$f":"L201*M201","v":{"$error":"#REF!"}},null,null,{"$f":"SUM(N201:P201)","v":{"$error":"#REF!"}}]
[]
[null,null,null,null,null,null,null,null,null,"Выводы под датчики движения ",null,{"$f":"Электрика!C23","v":0},{"$f":"УЗЛЫ!#REF!","v":{"$error":"#REF!"}},{"$f":"L203*M203","v":{"$error":"#REF!"}},{"$f":"L203*C140*2","v":0},{"$f":"L203*D140*2","v":0},{"$f":"SUM(N203:P203)","v":{"$error":"#REF!"}}]
[null,null,null,null,null,null,null,null,null,"Вывод питания для установки терморегулятора теплого пола",null,null,{"$f":"УЗЛЫ!#REF!","v":{"$error":"#REF!"}},{"$f":"L204*M204","v":{"$error":"#REF!"}},{"$f":"L204*C140*2","v":0},{"$f":"L204*D140*2","v":0},{"$f":"SUM(N204:P204)","v":{"$error":"#REF!"}}]
[]
[null,null,null,null,null,null,null,null,null,"ИТОГО, СУММА ЗА ФИНИШ",null,null,null,{"$f":"SUM(N190:N204)","v":{"$error":"#REF!"}},{"$f":"SUM(O190:O204)","v":0},{"$f":"SUM(P190:P204)","v":0},{"$f":"SUM(N206:P206)","v":{"$error":"#REF!"}}]
[]
[]
[null,null,null,null,null,null,null,null,null,null,null,"коэф.",null,null,null,1]
[null,null,null,null,null,null,null,null,null,"774301 Выключатель 1-кл. в рамку бежевый Valena",null,0.1,{"$f":"УЗЛЫ!#REF!","v":{"$error":"#REF!"}},null,null,{"$f":"L210*M210*$P$209","v":{"$error":"#REF!"}}]
[null,null,null,null,null,null,null,null,null,"774305 Выключатель 2-кл в рамку бежевый Valena",null,0.2,{"$f":"УЗЛЫ!#REF!","v":{"$error":"#REF!"}},null,null,{"$f":"L211*M211*$P$209","v":{"$error":"#REF!"}}]
[null,null,null,null,null,null,null,null,null,"774306 Переключатель 1-кл. в рамку бежевый Valena",null,0.03,{"$f":"УЗЛЫ!#REF!","v":{"$error":"#REF!"}},null,null,{"$error":"#REF!"}]
[null,null,null,null,null,null,null,null,null,"774308 Переключатель 2-кл. на 2 направлен. в рамку бежевый Valena",null,0.05,{"$f":"УЗЛЫ!#REF!","v":{"$error":"#REF!"}},null,null,{"$error":"#REF!"}]
[null,null,null,null,null,null,null,null,null,"774310 Выключатель 1-кл. с подствет., в рамку бежевый Valena",null,0,{"$f":"УЗЛЫ!#REF!","v":{"$error":"#REF!"}},null,null,{"$error":"#REF!"}]
[null,null,null,null,null,null,null,null,null,"774101 Выключатель 1-кл., в рамку бежевый 10А IP44 Valena",null,0,{"$f":"УЗЛЫ!#REF!","v":{"$error":"#REF!"}},null,null,{"$error":"#REF!"}]
[null,null,null,null,null,null,null,null,null,"774307  Переключатель 1-кл. промежут. в рамку бежевый Valena",null,0.02,{"$f":"УЗЛЫ!#REF!","v":{"$error":"#REF!"}},null,null,{"$error":"#REF!"}]
[null,null,null,null,null,null,null,null,null,"774320 Розетка с заземл., в рамку бежевая Valena",null,0.45,{"$f":"УЗЛЫ!#REF!","v":{"$error":"#REF!"}},null,null,{"$error":"#REF!"}]
[null,null,null,null,null,null,null,null,null,"774120 Розетка с заземл., со штор., с крыш., в рамку бежевая Valena",null,0.1,{"$f":"УЗЛЫ!#REF!","v":{"$error":"#REF!"}},null,null,{"$error":"#REF!"}]
[null,null,null,null,null,null,null,null,null,"69833 Розетка с заземл., с/п, серая IP55 Plexo",null,0.05,{"$f":"УЗЛЫ!#REF!","v":{"$error":"#REF!"}},null,null,{"$error":"#REF!"}]
[null,null,null,null,null,null,null,null,null,"Средняя сумма розетки/выключателя +10%",null,null,{"$f":"P220*1.1","v":{"$error":"#REF!"}},null,null,{"$f":"SUM(P210:P219)","v":{"$error":"#REF!"}}]
[]
[null,null,null,null,null,null,null,null,null,"774329 Розетка телевизионная TV звезда в рамку бежевая 1.5дБ  Valena",null,0.4,{"$f":"УЗЛЫ!#REF!","v":{"$error":"#REF!"}},null,null,{"$f":"L222*M222*$P$209","v":{"$error":"#REF!"}}]
[null,null,null,null,null,null,null,null,null,"774130 Розетка комп. RJ45х1 в рамку, кат. 5е бежевая Valena",null,0.5,{"$f":"УЗЛЫ!#REF!","v":{"$error":"#REF!"}},null,null,{"$f":"L223*M223*$P$209","v":{"$error":"#REF!"}}]
[null,null,null,null,null,null,null,null,null,"76554 Розетка компьютерная RJ45 2 модуля категория 5е Mosaic",null,0.1,{"$f":"УЗЛЫ!#REF!","v":{"$error":"#REF!"}},null,null,{"$error":"#REF!"}]
[]
[null,null,null,null,null,null,null,null,null,"Средняя сумма сл/т розетки/выключателя +10%",null,null,{"$f":"P226*1.1","v":{"$error":"#REF!"}},null,null,{"$f":"SUM(P222:P225)","v":{"$error":"#REF!"}}]
[]
[]
[null,null,null,null,null,null,null,null,null,"774351 Рамка 1 пост бежевая Valena",null,0.25,{"$f":"УЗЛЫ!#REF!","v":{"$error":"#REF!"}},null,null,{"$f":"L229*M229*$P$209","v":{"$error":"#REF!"}}]
[null,null,null,null,null,null,null,null,null,"774352 Рамка 2 поста бежевая Valena",null,0.4,{"$f":"УЗЛЫ!#REF!","v":{"$error":"#REF!"}},null,null,{"$f":"L230*M230*$P$209","v":{"$error":"#REF!"}}]
[null,null,null,null,null,null,null,null,null,"774353 Рамка 3 поста бежевая Valena",null,0.2,{"$f":"УЗЛЫ!#REF!","v":{"$error":"#REF!"}},null,null,{"$error":"#REF!"}]
[null,null,null,null,null,null,null,null,null,"774354 Рамка 4 поста бежевая Valena",null,0.05,{"$f":"УЗЛЫ!#REF!","v":{"$error":"#REF!"}},null,null,{"$error":"#REF!"}]
[null,null,null,null,null,null,null,null,null,"774355 Рамка 5 постов бежевая Valena",null,0.1,{"$f":"УЗЛЫ!#REF!","v":{"$error":"#REF!"}},null,null,{"$error":"#REF!"}]
[null,null,null,null,null,null,null,null,null,"Средняя цена рамки +10%",null,null,{"$f":"P234*1.1","v":{"$error":"#REF!"}},null,null,{"$f":"SUM(P229:P233)","v":{"$error":"#REF!"}}]
[]
[]
[]
[null,null,null,null,null,null,null,null,null,"Датчик движения IS2180-2 603717 IP 54 black",null,null,{"$f":"УЗЛЫ!#REF!","v":{"$error":"#REF!"}},null,null,{"$f":"M238*P209","v":{"$error":"#REF!"}}]
[]
[]
[]
["ПНР работы",null,"Бригада","Прораб",null,"Материал"]
["Котельная (двухконтурный настенный котел)","компл.",5250,1000,null,2100,"*гибкая подводка, кабель-канал (метраж по месту), дюбель-гвозди, кабель ВВГнгLS ( часто нужен для подключения насосных групп, метраж по месту)"]
["Котельная (одноконтурный настенный котел)","компл.",7350,1400,null,2100]
["Котельная (два настенных котла)","компл.",9450,1800,null,2100]
["Котельная (напольный котел)","компл.",9450,1800,null,2100]
["Комплексное управление котлом (1 котел)","компл.",2625,525]
["Комплексное управление котлом \n(2 котла/напольный котел)","компл.",7350,1470]
["Комнатный регулятор котла","шт.",1575,315]
["Дополнительно строение подключённое к теплотрассе ",null,null,15000]
["Антифроген \"L\" тара 22 кг",null,null,null,null,10250]
["Вода очищенная 20л",null,null,null,null,300,"приблизительно 180л"]
["Беспроводная GSM -Розетка",null,500,null,null,4700,"цена из интернета (смотрели вместе с С.Литвиненко 04.03.21)"]
["Запуск ХВС ГВС",null,null,3000]
["Установка накладных розеток",null,6000,1200,null,15992,6040,"раньше закупку делали по месту, теперь Узел (со склада)"]
["Транспортные расходы"]
["Доставка Воды",null,null,1000]
[]
[]
["Приточная ветиляция",null,"Бригада","Прораб"]
["Воздуховод бухта 50 м.п. d75 ",null,250,{"$f":"C261*0.2","v":50}]
["Диффузор потолочный приточный 125 мм",null,220,{"$f":"C262*0.2","v":44}]
["Диффузор стеновой приточный",null,250,50]
["Адаптеры",null,800,160]
["Распределительный короб  8-10х диам75мм",null,1600,400]
["Отводы, крепления,комплектующие для полужестких гофр. воздуховодов",null,0,0]
["Приточная установка 400-500м3/ч",null,6000,1200]
["Приточная установка 250-300м3/ч",null,6000,1200]
["Пульт управления",null,500,100]
["Шумоглушители, клапана",null,{"$f":"12000-6000","v":6000},1200]
["Крышной приточный элемент",null,0,6000]
["Расходные материалы",null,0,0]
["Электромонтажные работы (подключение установки, датчиков)",null,4000,800]
["Пусконаладочные работы",null,12000,2400]
["разработка документов для монтажа системы вентиляции",null,0,0]
["Сверление отверстий в стене ",null,2500,500]
["Сверление отверстий в плите",null,2100,420]
["Сверление отверстий в балках",null,1400,280]
["Декоративные короба (выполняются при разводке воздуховодов под потолком 1 этажа)",null,900,180]
["Дополнительный пирог пола (выполняется при разводке воздуховодов в полу 2 этажа) - удорожание по отношению к типовому полу",null,500,100]
[]
[]
[]
[]
[]
[]
[]
[]
[]
[]
[]
[]
[]
[]
[]
[]
[]
[]
[]
[]
[]
[]
[]
[]
[]
[]
[]
[]
[]
[]
[]
[]
[]
[null,null,"Бригада","Прораб",null,"Бригада","Прораб"]
[]
["Монтаж точки канализации",null,{"$f":"F316*$C$2*1.03","v":1297.51675},{"$f":"G316*$C$2*1.08","v":2435.4},null,1229,2200]
["Монтаж вакуумного клапана для канализации",null,316.72500000000002,55.349999999999994,null,300,50]
[]
["Монтаж управляющего модуля ТП",null,976.56874999999991,204.79499999999999,null,{"$f":"1110/1.2","v":925},{"$f":"1110/1.2*0.2","v":185},"расчет из файла Узел сервопривода ТП"]
["Монтаж комплекта сервоприводов, термостатов, датчиков ТП",null,1090.9416666666668,228.78000000000006,null,{"$f":"1240/1.2","v":1033.3333333333335},{"$f":"1240/1.2*0.2","v":206.66666666666671},"https://docs.google.com/spreadsheets/d/1AgEWQGD9Qiy14iA-Q-w-OGWecG0NNZvA16WMKxYLP9s/edit#gid=1325194749"]
[]
["Монтаж котельной 4 тип*",null,10531.106250000001,2103.2999999999997,null,9975,1900]
["Монтаж котельной 3 тип*",null,25337.999999999996,4981.5,null,24000,4500]
["Монтаж котельной 2 тип*",null,34839.75,7748.9999999999991,null,33000,7000]
["Монтаж котельной 1 тип*",null,52787.499999999993,10516.5,null,50000,9500]
["Монтаж дымохода коаксиального с проходом через кровлю",null,12668.999999999998,2789.6400000000003,null,12000,2520]
["Комплексное управление котлом для котельной 3типа",null,2771.3437499999995,442.79999999999995,null,2625,400]
["Комплексное управление котлом для котельной 1 и 2 типа",null,7759.7624999999989,1549.8,null,7350,1400]
["ПНР котельной 4 тип",null,5542.6874999999991,1107,null,5250,1000]
["ПНР котельной 3 тип",null,7759.7624999999989,1549.8,null,7350,1400]
["ПНР котельной 2 тип",null,9976.8374999999996,1992.6,null,9450,1800]
["ПНР котельной 1 тип",null,9976.8374999999996,1992.6,null,9450,1800]
["Монтаж пог/м полипропиленовой трубы",null,126.68999999999998,21.032999999999998,null,120,19]
[]
["Монтаж ПВХ трубы (канализация,песчанная подушка,укладка трубы по уровню)",null,554.26875000000007,110.69999999999999,null,525,100]
[]
["Установка аквастопа с монтажом эл.вилки",null,{"$f":"F337*$C$2*1.03","v":1266.9000000000001},{"$f":"G337*$C$2*1.08","v":221.39999999999998},null,1200,200]
[]
["Закладная гильза",null,1108.5375000000001,221.39999999999998,null,1050,200]
[]
["Газовая внутр. 150 с покраской",null,null,52500]
["Газовая внутр. 200 с покраской",null,null,54500]
["Газовая наруж. 150 с покраской",null,null,68500]
["Газовая наруж. 200 с покраской",null,null,71500]
[]
["Приточный клапан вентиляции",null,null,4000,1000]
["Грибок фанового стояка",null,null,11500,8500]
["Грибок вентиляции (металло-черепица)",null,null,13500,8500]
["Грибок вентиляции (классик-битум)",null,null,13500,9000]
["Грибок вентиляции (цементно-песчанная)",null,null,14500,9500]
["Дымоход",null,null,78000,null,"усредненная стоимость дымохода по расчетам А. Влада (50 мат. + 28 работа)"]
["Покраска дымохода",null,null,1700,null,"из расчета по стандартной расценке и 5м высоты"]
[]
[null,null,null,"Наличие в котельных"]
[null,null,"Цена","Напол. котёл",null,"1к котёл +ТП+ГС","1к котёл + ТП","1к котёл","2к котёл"]
["Монтаж напольного газового котла",null,8000,1]
["Монтаж настенного газового котла",null,3000,null,null,1,1,1]
["Монтаж электрического котла",null,2000,null,null,null,null,null,1]
["Монтаж бойлера косвенного нагрева",null,4000,1,null,1,1,1]
["Электробойлер",null,2000,null,null,null,null,null,1]
["Обвязка напольного газового котла",null,25000,1]
["Обвязка настенного газового котла",null,10000,null,null,1,1,1]
["Обвязка бойлера косвенного нагрева",null,10000,1,null,1,1,1]
["Обвязка электрического котла",null,8000,null,null,null,null,null,1]
["Узел ввода в котельной",null,3000,1,null,1,1,1]
["Гидроаккумулятор",null,5000,1,null,1]
["Узел для тёплого пола",null,7000,1,null,1,1]
[]
[]
[null,null,null,{"$f":"50000+9500","v":59500},null,{"$f":"33000+7000","v":40000},{"$f":"29000+6500","v":35500},{"$f":"24000+4500","v":28500},{"$f":"9975+1900","v":11875}]
["Проверка",null,null,{"$f":"D356*$C356+D357*$C357+D358*$C358+D361*$C361+D362*$C362+D359*$C359+D360*$C360+D363*$C363+D364*$C364+D365*$C365+D366*$C366+D367*$C367","v":62000},null,{"$f":"F356*$C356+F357*$C357+F358*$C358+F361*$C361+F362*$C362+F359*$C359+F360*$C360+F363*$C363+F364*$C364+F365*$C365+F366*$C366+F367*$C367","v":42000},{"$f":"G356*$C356+G357*$C357+G358*$C358+G361*$C361+G362*$C362+G359*$C359+G360*$C360+G363*$C363+G364*$C364+G365*$C365+G366*$C366+G367*$C367","v":37000},{"$f":"H356*$C356+H357*$C357+H358*$C358+H361*$C361+H362*$C362+H359*$C359+H360*$C360+H363*$C363+H364*$C364+H365*$C365+H366*$C366+H367*$C367","v":30000},{"$f":"I356*$C356+I357*$C357+I358*$C358+I361*$C361+I362*$C362+I359*$C359+I360*$C360+I363*$C363+I364*$C364+I365*$C365+I366*$C366+I367*$C367","v":12000}]

{"sheet":"Вентиляция (Валлокс)","index":18,"n_rows":41,"n_cols":14,"rows_kept":41,"cut":false,"hidden":false,"merged":[[41,9,42,10],[26,0,26,4],[26,5,26,6],[27,0,27,6],[32,5,32,6],[34,5,34,6],[37,9,38,10],[17,0,21,0],[22,0,22,6],[25,0,25,4],[25,5,25,6],[6,0,15,0],[0,0,0,6],[1,1,1,6],[2,0,2,6],[3,0,3,6],[5,0,5,6]]}
[null,null,null,null,null,null,null,null,"курс €"]
[{"$f":"TODAY()","v":"2024-02-02"},"Данный сметный расчёт действителен 7 календарных дней. По истечению срока, цены могут быть изменены.",null,null,null,null,null,null,{"$f":"'ОВиВК ТЕСЕ'!I2","v":100}]
["Сметный расчет Вентиляция "]
["Приточная вентиляция ",null,null,null,null,null,null,null,{"$f":"РАБОТЫ!A1","v":"Дата"}]
["Материалы/услуги","Описание","Кол-во","Ед.изм","Мат-ал, руб","Работа, руб ","Итого, руб",null,"Материал","Бригада","Прораб","Итого","Рента","Цены в евро"]
[]
[" Первый этап ","Vallox Out/in",null,"шт",{"$f":"I7/0.6","v":0},null,{"$f":"E7+F7","v":0},null,{"$f":"C7*N7*$I$2","v":0},null,null,{"$f":"SUM(I7:K7)","v":0},{"$f":"IF(G7=0,\"\",(G7-L7)/G7)","v":""}]
[null,"Распределительная коробка 10",null,"шт",{"$f":"I8/0.6","v":0},null,{"$f":"E8+F8","v":0},null,{"$f":"C8*N8*$I$2","v":0},null,null,{"$f":"SUM(I8:K8)","v":0},{"$f":"IF(G8=0,\"\",(G8-L8)/G8)","v":""}]
[null,"Воздуховод BlueSky бухта 50 м.п. d75",null,"бухт",0,null,0,null,0,null,null,0,""]
[null,"Муфта соединительная для воздуховодов  BlueSky",null,"шт",0,null,0,null,0,null,null,0,""]
[null,"Уплотнительное кольцо для воздуховодов BlueSky  ",null,"шт",0,null,0,null,0,null,null,0,""]
[null,"Муфта для диффузора угловая ",null,"шт",0,null,0,null,0,null,null,0,""]
[null,"Глушитель 160 X 1250 mm",null,"шт",{"$f":"I13/0.75","v":0},null,0,null,0,null,null,0,""]
[null,"Металлическая фасонина, утеплитель",null,"шт",{"$f":"I14/0.75","v":0},null,0,null,0,null,null,0,""]
[null,"Угловой элемент",null,"шт",{"$f":"I15/0.7","v":0},null,0,null,0,null,null,0]
[null,"монтажный комплект",null,"шт",{"$f":"I16/0.75","v":0},null,0,null,0,null,null,{"$f":"SUM(I16:K16)","v":0},""]
["Монтаж системы вентиляции 1 этап",null,null,null,null,null,null,null,null,{"$f":"(F17-(F17*40%))","v":0},null,0]
["Второй этап ","Вентиляционная установка Vallox 110 MV",null,"шт",0,null,0,null,0,null,null,0,""]
[null,"Пульт управления  MyVallox Control ",null,"шт",0,null,0,null,0,null,null,0,""]
[null,"Диффузор потолочный приточный",null,"шт",0,null,0,null,0,null,null,0,""]
[null,"Диффузор потолочный отточный 125 мм",null,"шт",0,null,0,null,0,null,null,0,""]
[null,"Стоимость комплекта фильтров для установки  Vallox 110 MV №22 для замены после проведения строительных работ через 2 месяца ",null,"шт",{"$f":"I22/0.7","v":0},null,0,null,0,null,null,0,""]
[]
["Проектирование","разработка документов для монтажа системы вентиляции",null,"Усл.",null,{"$f":"(J24+K24)/0.8","v":0},{"$f":"E24+F24","v":0},null,null,null,null,{"$f":"SUM(J24:K24)","v":0},{"$f":"IF(G24=0,\"\",(G24-L24)/G24)","v":""}]
["Монтаж системы вентиляции 2 этап",null,null,"Усл.",null,null,{"$f":"F25","v":0},null,null,{"$f":"(F25-(F25*40%))","v":0},null,{"$f":"SUM(J25:K25)","v":0},""]
["Итого материал:                                                                                                                                                                                                                                                ",null,null,null,null,{"$f":"SUM(E7:E22)","v":0},null,null,null,null,null,{"$f":"SUM(I7:I25)","v":0},{"$f":"IF(F26=0,\"\",(F26-L26)/F26)","v":""},{"$f":"1-(L26+L27)/(F26+F27)","v":{"$error":"#DIV/0!"}}]
["Работа:                                                                                                                                                                                                                                                        ",null,null,null,null,{"$f":"SUM(F7:F25)","v":0},null,null,null,null,null,{"$f":"SUM(J7:K25)","v":0},{"$f":"IF(F27=0,\"\",(F27-L27)/F27)","v":""}]
["Дополнительно"]
["Материалы/услуги","Описание","Кол-во","Ед.изм","Мат-ал, руб","Работа, руб ","Итого, руб",null,"Материал","Бригада","Прораб","Итого","Рента"]
["Проходные отверстия в плите","Алмазное сверление",0,"шт.",null,{"$f":"IF(C30=0,0,IF(C30<4,9000,IF(C30>3,9000+2300*(C30-3))))","v":0},{"$f":"F30+E30","v":0},null,null,null,{"$f":"IF(C30=0,0,IF(C30<4,6000,IF(C30>3,6000+1700*(C30-3))))","v":0}]
["Подготовительные и накладные расходы","Включают разработку комплекта документов для монтажа, проверку ОТК и приемку каждого этапа работ инженерами технического надзора, соблюдение стандарта компании",1,"Усл.",null,{"$f":"L31+5000","v":22500},{"$f":"F31*C31","v":22500},null,null,{"$f":"C32*3000","v":3000},4000,{"$f":"(5500*2)+6500","v":17500}]
["Транспортные расходы ","Доставка оборудования и материалов на объект",1,"усл.",null,{"$f":"L32/0.8","v":56250},{"$f":"F32","v":56250},null,null,null,null,45000]
["Итого по смете:",null,null,null,null,{"$f":"SUM(F26:G27,G30:G32)","v":78750},null,null,{"$f":"SUM(I7:I25)","v":0},{"$f":"SUM(J7:J25,J30:J32)","v":3000},{"$f":"SUM(K7:K25,K30:K32)","v":4000},{"$f":"SUM(L30:L32,I33:K33)","v":69500},{"$f":"IF(F35=0,\"\",(F35-L33)/F35)","v":0.11746031746031746}]
["Корректировка стоимости (скидка):"]
["Итого по смете со скидкой:",null,null,null,null,{"$f":"F33-G34","v":78750}]
["* При выполнении разводки под потолком необходимо добавить декоративный короб. При выполнении разводки в межэтажном перекрытии необходима дополнительная обрешётка."]
["** ПНР  выполняется по факту готовности объекта",null,null,null,null,null,{"$f":"РАБОТЫ!A1","v":"Дата"}]
[null,null,null,null,null,null,null,null,null,"Коэффициент"]
[]
[null,null,null,null,null,null,null,null,null,"Мат","Раб"]
[null,null,null,null,null,null,null,null,null,1,1]

{"sheet":"Электрика стандарт","index":19,"n_rows":99,"n_cols":16,"rows_kept":99,"cut":false,"hidden":true,"merged":[[79,0,79,8],[86,0,86,7],[66,4,66,5],[66,6,66,7],[67,0,67,8],[68,0,78,0],[68,4,68,5],[68,6,68,7],[69,4,69,5],[69,6,69,7],[62,0,62,8],[63,4,63,5],[63,6,63,7],[65,4,65,5],[65,6,65,7],[53,4,53,5],[53,6,53,7],[55,4,55,5],[55,6,55,7],[59,4,59,5],[59,6,59,7],[54,6,54,7],[54,4,54,5],[50,4,50,5],[50,6,50,7],[51,4,51,5],[51,6,51,7],[52,4,52,5],[52,6,52,7],[25,1,26,1],[30,0,31,0],[39,0,40,0],[48,6,48,7],[49,4,49,5],[49,6,49,7],[32,0,33,0],[8,10,9,10],[8,11,9,11],[8,12,9,12],[8,13,9,13],[8,14,9,14],[7,0,7,8],[8,0,9,0],[8,1,9,1],[8,2,9,2],[8,3,9,3],[8,4,8,5],[8,6,9,6],[8,7,9,7],[8,8,9,8],[0,0,2,8],[3,0,3,8],[4,1,4,8],[5,0,5,8],[6,0,6,8]]}
[]
[]
[]
["Приложение №    к Договору подряда №______________от______________"]
[{"$f":"TODAY()","v":"2024-02-02"},"Данный сметный расчёт действителен 7 календарных дней. По истечению срока, цены могут быть изменены."]
["Сметный расчет Электрика"]
["  В цену входит поставка оборудования и материалов, а также монтажные работы. Все бригады обучены , квалифицированны и работают с инструментом ведущих европейских производителей. Оборудование и материалы сертифицированы и имеют наиболее качественные показатели эксплуатации."]
["Электротехнические работы и материалы**."]
["Наименование работы","Описание","Кол-во","Ед.изм","Стоимость единицы, руб.",null,"Материал, руб.","Работа, руб.","Всего, руб.",null,"Стоим. мат-ла","Стоим. работ бр.","Стоим. работ ПР","Мат-л + работа","Промежут. рента"]
[null,null,null,null,"Материалы","Работа"]
["Электрические точки по купону ","Электроустановочное оборудование не входит",null,"шт.",0,0,{"$f":"E11*C11","v":0},{"$f":"F11*C11","v":0},{"$f":"SUM(G11:H11)","v":0},null,null,null,null,null,{"$f":"IF(G11=0, \"\", (G11-N11)/G11)","v":""}]
["Выводы под розетки","Выводы питащих кабелей розеток кабелем ВВГ(А)нг-LS. *",null,"шт.",1400,1000,0,{"$f":"F12*C12*#REF!","v":{"$error":"#REF!"}},{"$error":"#REF!"},null,{"$f":"$C12*( VLOOKUP(\"Кабель ВВГнг-LS 3х2,5\",#REF!,3,0) + VLOOKUP(\"саморез черн. 3,5*25\",#REF!,3,0)*0.002 + VLOOKUP(\"Подрозетники 10170 с лапками  г/у\",#REF!,3,0)/10 + VLOOKUP(\"Гофрошланг D16 с зондом\",#REF!,3,0) + VLOOKUP(\"Клипсы для гофры D16\",#REF!,3,0) )*10\n*IF($N$92>0,1.5,1)","v":{"$error":"#REF!"}},{"$f":"$C12* VLOOKUP(\"Электрическая точка (сечение до 6 мм2) в дереве\",#REF!, 3,0)","v":{"$error":"#REF!"}},{"$f":"$C12* VLOOKUP(\"Электрическая точка (сечение до 6 мм2) в дереве\",#REF!, 4,0)","v":{"$error":"#REF!"}},{"$f":"SUM(K12:M12)","v":{"$error":"#REF!"}},{"$f":"IF(I12=0, \"\", (I12-N12)/I12)","v":{"$error":"#REF!"}}]
["Выводы под розетки в пределах одного подключения ","2,3,4 розетки в блоках имеющие одну групповую нагрузку",null,"шт.",355,500,0,{"$f":"F13*C13*#REF!","v":{"$error":"#REF!"}},{"$error":"#REF!"},null,{"$f":"$C13* (VLOOKUP(\"Кабель ВВГнг-LS 3х2,5\",#REF!,3,0)*1 + VLOOKUP(\"саморез черн. 3,5*25\",#REF!,3,0)*0.002*1 + VLOOKUP(\"Подрозетники 10170 с лапками  г/у\",#REF!,3,0) + VLOOKUP(\"Гофрошланг D16 с зондом\",#REF!,3,0)*1 + VLOOKUP(\"Клипсы для гофры D16\",#REF!,3,0)*1 )","v":{"$error":"#REF!"}},{"$f":"$C13* VLOOKUP(\"Электрическая точка в пределах одного подключения\",#REF!, 3,0)","v":{"$error":"#REF!"}},{"$f":"$C13* VLOOKUP(\"Электрическая точка в пределах одного подключения\",#REF!, 4,0)","v":{"$error":"#REF!"}},{"$error":"#REF!"},{"$error":"#REF!"}]
["силовые выводы в пределах дома ","Сечение токопроводящих жил свыше 2,5 мм. Вывод электрокотла, электроплита, электропечь в сауну и т.д. ",null,"шт.",6105,1400,0,{"$f":"F14*C14*#REF!","v":{"$error":"#REF!"}},{"$error":"#REF!"},null,{"$f":"$C14* (VLOOKUP(\"Кабель ВВГ нг-LS 5x6\",#REF!,3,0) + VLOOKUP(\"саморез черн. 3,5*25\",#REF!,3,0)*0.002 + VLOOKUP(\"Подрозетники 10170 с лапками  г/у\",#REF!,3,0)/10 + VLOOKUP(\"Гофрошланг D32 c зондом\",#REF!,3,0) + VLOOKUP(\"Клипсы для гофры D32\",#REF!,3,0) )*10\n*IF($N$92>0,1.5,1)","v":{"$error":"#REF!"}},{"$f":"$C14* VLOOKUP(\"Электрическая точка (свыше 6 мм2) в дереве\",#REF!, 3,0)","v":{"$error":"#REF!"}},{"$f":"$C14* VLOOKUP(\"Электрическая точка (свыше 6 мм2) в дереве\",#REF!, 4,0)","v":{"$error":"#REF!"}},{"$error":"#REF!"},{"$error":"#REF!"}]
["Выводы слаботочных систем"," TV, int, audio, UTP. ",null,"шт.",1400,1000,0,{"$f":"F15*C15*#REF!","v":{"$error":"#REF!"}},{"$error":"#REF!"},null,{"$f":"$C15* (VLOOKUP(\"Кабель SAT 703B+CU/CU (75 Ом) 100 м белый \",#REF!,3,0) + VLOOKUP(\"саморез черн. 3,5*25\",#REF!,3,0)*0.002 + VLOOKUP(\"Подрозетники 10170 с лапками  г/у\",#REF!,3,0)/14 + VLOOKUP(\"Гофрошланг D16 с зондом\",#REF!,3,0) + VLOOKUP(\"Клипсы для гофры D16\",#REF!,3,0) )*14\n*IF($N$92>0,1.5,1)","v":{"$error":"#REF!"}},{"$f":"$C15* VLOOKUP(\"Электрическая точка (сечение до 6 мм2) в дереве\",#REF!, 3,0)","v":{"$error":"#REF!"}},{"$f":"$C15* VLOOKUP(\"Электрическая точка (сечение до 6 мм2) в дереве\",#REF!, 4,0)","v":{"$error":"#REF!"}},{"$error":"#REF!"},{"$error":"#REF!"}]
["Выводы слаботочных систем на фасад ","TV антенна, int, audio, UTP. ",null,"шт.",1400,1000,0,{"$f":"F16*C16*#REF!","v":{"$error":"#REF!"}},{"$error":"#REF!"},null,{"$f":"$C16* (VLOOKUP(\"Кабель SAT 703B+CU/CU (75 Ом) 100 м белый \",#REF!,3,0) + VLOOKUP(\"саморез черн. 3,5*25\",#REF!,3,0)*0.002 + VLOOKUP(\"Подрозетники 10170 с лапками  г/у\",#REF!,3,0)/16 + VLOOKUP(\"Гофрошланг D16 с зондом\",#REF!,3,0) + VLOOKUP(\"Клипсы для гофры D16\",#REF!,3,0) )*16\n*IF($N$92>0,1.5,1)","v":{"$error":"#REF!"}},{"$f":"$C16* VLOOKUP(\"Электрическая точка (сечение до 6 мм2) в дереве\",#REF!, 3,0)","v":{"$error":"#REF!"}},{"$f":"$C16* VLOOKUP(\"Электрическая точка (сечение до 6 мм2) в дереве\",#REF!, 4,0)","v":{"$error":"#REF!"}},{"$error":"#REF!"},{"$error":"#REF!"}]
["Выводы силовые на улицу","Сечение токопроводящих жил свыше 2,5 мм. Выводы для подключения потребителей электроэнергии на участке (баня, гараж, электропривод ворот, скважина и т.д.). ",null,"шт.",8635,1000,0,{"$f":"F17*C17*#REF!","v":{"$error":"#REF!"}},{"$error":"#REF!"},null,{"$f":"$C17* (VLOOKUP(\"Кабель ВВГ нг-LS 5x6\",#REF!,3,0) + VLOOKUP(\"саморез черн. 3,5*25\",#REF!,3,0)*0.002 + VLOOKUP(\"Подрозетники 10170 с лапками  г/у\",#REF!,3,0)/16 + VLOOKUP(\"Гофрошланг D32 c зондом\",#REF!,3,0) + VLOOKUP(\"Клипсы для гофры D32\",#REF!,3,0))*16*IF($N$92>0,1.5,1)","v":{"$error":"#REF!"}},{"$f":"$C17* VLOOKUP(\"Электрическая точка (свыше 6 мм2) в дереве\",#REF!, 3,0)","v":{"$error":"#REF!"}},{"$f":"$C17* VLOOKUP(\"Электрическая точка (свыше 6 мм2) в дереве\",#REF!, 4,0)","v":{"$error":"#REF!"}},{"$error":"#REF!"},{"$error":"#REF!"}]
["Прочие выводы стандартного сечения в пределах дома и на фасад","Сечение токопроводящих жил до 2,5 мм. Выводы для подключения потребителей электроэнергии на участке и внутри строения (септик, вытяжка, вентиляторы, ландшафтное осв., насосная гр., и т.д.). ",null,"шт.",1400,1000,0,{"$f":"F18*C18*#REF!","v":{"$error":"#REF!"}},{"$error":"#REF!"},null,{"$f":"$C18* (VLOOKUP(\"Кабель ВВГнг-LS 3х2,5\",#REF!,3,0) + VLOOKUP(\"саморез черн. 3,5*25\",#REF!,3,0)*0.002 + VLOOKUP(\"Подрозетники 10170 с лапками  г/у\",#REF!,3,0)/16 + VLOOKUP(\"Гофрошланг D16 с зондом\",#REF!,3,0) + VLOOKUP(\"Клипсы для гофры D16\",#REF!,3,0))*16*IF($N$92>0,1.5,1)","v":{"$error":"#REF!"}},{"$f":"$C18* VLOOKUP(\"Электрическая точка (сечение до 6 мм2) в дереве\",#REF!, 3,0)","v":{"$error":"#REF!"}},{"$f":"$C18* VLOOKUP(\"Электрическая точка (сечение до 6 мм2) в дереве\",#REF!, 4,0)","v":{"$error":"#REF!"}},{"$error":"#REF!"},{"$error":"#REF!"}]
["Выводы под осветительные приборы","Выводы под потолочные осветительные приборы (включая патрон с лампой). ",null,"шт.",1400,1000,0,{"$f":"F19*C19*#REF!","v":{"$error":"#REF!"}},{"$error":"#REF!"},null,{"$f":"$C19* (VLOOKUP(\"Кабель ВВГ нг-LS 3x1,5\",#REF!,3,0)*18 + VLOOKUP(\"саморез черн. 3,5*25\",#REF!,3,0)*0.002*18 + VLOOKUP(\"Патрон Е-27 керамический\",#REF!,3,0) + VLOOKUP(\"Лампа ЛОН 60 Вт Е-27\",#REF!,3,0) + VLOOKUP(\"Гофрошланг D16 с зондом\",#REF!,3,0)*18 + VLOOKUP(\"Клипсы для гофры D16\",#REF!,3,0)*18 )","v":{"$error":"#REF!"}},{"$f":"$C19* VLOOKUP(\"Электрическая точка (сечение до 6 мм2) в дереве\",#REF!, 3,0)","v":{"$error":"#REF!"}},{"$f":"$C19* VLOOKUP(\"Электрическая точка (сечение до 6 мм2) в дереве\",#REF!, 4,0)","v":{"$error":"#REF!"}},{"$error":"#REF!"},{"$error":"#REF!"}]
["Вывод под осветительные приборы 2го подключения","Выводы под потолочные осветительные приборы в одной линии включения (включая патрон с лампой). ",null,"шт.",465,500,0,{"$f":"F20*C20*#REF!","v":{"$error":"#REF!"}},{"$error":"#REF!"},null,{"$f":"$C20* (VLOOKUP(\"Кабель ВВГ нг-LS 3x1,5\",#REF!,3,0)*5 + VLOOKUP(\"саморез черн. 3,5*25\",#REF!,3,0)*0.002*5 + VLOOKUP(\"Патрон Е-27 керамический\",#REF!,3,0) + VLOOKUP(\"Лампа ЛОН 60 Вт Е-27\",#REF!,3,0) + VLOOKUP(\"Гофрошланг D16 с зондом\",#REF!,3,0)*5 + VLOOKUP(\"Клипсы для гофры D16\",#REF!,3,0)*5 )","v":{"$error":"#REF!"}},{"$f":"$C20* VLOOKUP(\"Световая электрическая точка в пределах одного подключения\",#REF!, 3,0)","v":{"$error":"#REF!"}},{"$f":"$C20* VLOOKUP(\"Световая электрическая точка в пределах одного подключения\",#REF!, 4,0)","v":{"$error":"#REF!"}},{"$error":"#REF!"},{"$error":"#REF!"}]
["Выводы подсветки, бра","Выводы под настенные осветительные приборы (включая патрон с лампой). ",null,"шт.",1400,1000,0,{"$f":"F21*C21*#REF!","v":{"$error":"#REF!"}},{"$error":"#REF!"},null,{"$f":"$C21* (VLOOKUP(\"Кабель ВВГ нг-LS 3x1,5\",#REF!,3,0) + VLOOKUP(\"саморез черн. 3,5*25\",#REF!,3,0)*0.002 + VLOOKUP(\"Патрон Е-27 керамический\",#REF!,3,0)/24 + VLOOKUP(\"Лампа ЛОН 60 Вт Е-27\",#REF!,3,0) + VLOOKUP(\"Гофрошланг D16 с зондом\",#REF!,3,0) + VLOOKUP(\"Клипсы для гофры D16\",#REF!,3,0) )*24 * IF($N$92>0,1.5,1)","v":{"$error":"#REF!"}},{"$f":"$C21* VLOOKUP(\"Электрическая точка (сечение до 6 мм2) в дереве\",#REF!, 3,0)","v":{"$error":"#REF!"}},{"$f":"$C21* VLOOKUP(\"Электрическая точка (сечение до 6 мм2) в дереве\",#REF!, 4,0)","v":{"$error":"#REF!"}},{"$error":"#REF!"},{"$error":"#REF!"}]
["Выводы под датчики движения, управление освещением","Выводы организации управления освещением. ",null,"шт.",1400,1000,0,{"$f":"F22*C22*#REF!","v":{"$error":"#REF!"}},{"$error":"#REF!"},null,{"$f":"$C22* (VLOOKUP(\"Кабель ВВГ нг-LS 3x1,5\",#REF!,3,0) + VLOOKUP(\"саморез черн. 3,5*25\",#REF!,3,0)*0.002 + VLOOKUP(\"Подрозетники 10170 с лапками  г/у\",#REF!,3,0)/16 + VLOOKUP(\"Гофрошланг D16 с зондом\",#REF!,3,0) + VLOOKUP(\"Клипсы для гофры D16\",#REF!,3,0))*16 * IF($N$92>0,1.5,1)","v":{"$error":"#REF!"}},{"$f":"$C22* VLOOKUP(\"Электрическая точка (сечение до 6 мм2) в дереве\",#REF!, 3,0)","v":{"$error":"#REF!"}},{"$f":"$C22* VLOOKUP(\"Электрическая точка (сечение до 6 мм2) в дереве\",#REF!, 4,0)","v":{"$error":"#REF!"}},{"$error":"#REF!"},{"$error":"#REF!"}]
["Выводы под рольставни","Выводы питания электрических штор, маркиз и т.д. ",null,"шт.",1400,1000,0,{"$f":"F23*C23*#REF!","v":{"$error":"#REF!"}},{"$error":"#REF!"},null,{"$f":"$C23* (VLOOKUP(\"Кабель ВВГ нг-LS 3x1,5\",#REF!,3,0)*17 + VLOOKUP(\"саморез черн. 3,5*25\",#REF!,3,0)*0.002*17 + VLOOKUP(\"Подрозетники 10170 с лапками  г/у\",#REF!,3,0) + VLOOKUP(\"Гофрошланг D16 с зондом\",#REF!,3,0)*17 + VLOOKUP(\"Клипсы для гофры D16\",#REF!,3,0)*17 )","v":{"$error":"#REF!"}},{"$f":"$C23* VLOOKUP(\"Электрическая точка (сечение до 6 мм2) в дереве\",#REF!, 3,0)","v":{"$error":"#REF!"}},{"$f":"$C23* VLOOKUP(\"Электрическая точка (сечение до 6 мм2) в дереве\",#REF!, 4,0)","v":{"$error":"#REF!"}},{"$error":"#REF!"},{"$error":"#REF!"}]
["Выводы управления рольставней","Выводы блоков управления электрических штор, маркиз и т.д. ",null,"шт.",1400,1000,0,{"$f":"F24*C24*#REF!","v":{"$error":"#REF!"}},{"$error":"#REF!"},null,{"$f":"$C24* (VLOOKUP(\"Кабель ВВГ нг-LS 3x1,5\",#REF!,3,0)*8 + VLOOKUP(\"саморез черн. 3,5*25\",#REF!,3,0)*0.002*8 + VLOOKUP(\"Подрозетники 10170 с лапками  г/у\",#REF!,3,0) + VLOOKUP(\"Гофрошланг D16 с зондом\",#REF!,3,0)*8 + VLOOKUP(\"Клипсы для гофры D16\",#REF!,3,0)*8 )","v":{"$error":"#REF!"}},{"$f":"$C24* VLOOKUP(\"Электрическая точка (сечение до 6 мм2) в дереве\",#REF!, 3,0)","v":{"$error":"#REF!"}},{"$f":"$C24* VLOOKUP(\"Электрическая точка (сечение до 6 мм2) в дереве\",#REF!, 4,0)","v":{"$error":"#REF!"}},{"$error":"#REF!"},{"$error":"#REF!"}]
["Рольставни на солнечной батарее (Velux)","Комплект автономной рольставни на мансардное окно (пульт+аккумулятор)",null,"Компл",57000,9500,0,{"$f":"F25*C25","v":0},0,null,{"$f":"46200*1.03*C25","v":0},{"$f":"3000*C25","v":0},{"$f":"600*C25","v":0},0,""]
["Выводы питания обогрева водостоков","Система обогрева водостоков позволит исключить обледенение водосточной системы дома, предовращая ее повреждение.",null,"шт.",1400,1000,0,{"$f":"F26*C26*#REF!","v":{"$error":"#REF!"}},{"$error":"#REF!"},null,{"$f":"$C26* (VLOOKUP(\"Кабель ВВГнг-LS 3х2,5\",#REF!,3,0) + VLOOKUP(\"саморез черн. 3,5*25\",#REF!,3,0)*0.002 + VLOOKUP(\"Подрозетники 10170 с лапками  г/у\",#REF!,3,0)/24 + VLOOKUP(\"Гофрошланг D16 с зондом\",#REF!,3,0) + VLOOKUP(\"Клипсы для гофры D16\",#REF!,3,0) )*24 * IF($N$92>0,1.5,1)","v":{"$error":"#REF!"}},{"$f":"$C26* VLOOKUP(\"Электрическая точка (сечение до 6 мм2) в дереве\",#REF!, 3,0)","v":{"$error":"#REF!"}},{"$f":"$C26* VLOOKUP(\"Электрическая точка (сечение до 6 мм2) в дереве\",#REF!, 4,0)","v":{"$error":"#REF!"}},{"$error":"#REF!"},{"$error":"#REF!"}]
["Система обогрева водостоков ",null,null,"м.",1400,850,0,{"$f":"F27*C27*#REF!","v":{"$error":"#REF!"}},{"$error":"#REF!"},null,{"$f":"$C27* VLOOKUP(\"Кабель саморег. ICE-GUARD 18  DEVI\",#REF!,3,0)","v":{"$error":"#REF!"}},{"$f":"$C27* VLOOKUP(\"Обогрев водостоков\",#REF!, 3,0)","v":{"$error":"#REF!"}},{"$f":"$C27* VLOOKUP(\"Обогрев водостоков\",#REF!, 4,0)","v":{"$error":"#REF!"}},{"$error":"#REF!"},{"$error":"#REF!"}]
["Выводы под выключатели","Выводы организации управления освещением. ",null,"шт.",1400,1000,0,{"$f":"F28*C28*#REF!","v":{"$error":"#REF!"}},{"$error":"#REF!"},null,{"$f":"$C28* (VLOOKUP(\"Кабель ВВГнг-LS 4x1,5\",#REF!,3,0)*13 + VLOOKUP(\"саморез черн. 3,5*25\",#REF!,3,0)*0.002*13 + VLOOKUP(\"Подрозетники 10170 с лапками  г/у\",#REF!,3,0) + VLOOKUP(\"Гофрошланг D16 с зондом\",#REF!,3,0)*13 + VLOOKUP(\"Клипсы для гофры D16\",#REF!,3,0)*13 )","v":{"$error":"#REF!"}},{"$f":"$C28* VLOOKUP(\"Электрическая точка (сечение до 6 мм2) в дереве\",#REF!, 3,0)","v":{"$error":"#REF!"}},{"$f":"$C28* VLOOKUP(\"Электрическая точка (сечение до 6 мм2) в дереве\",#REF!, 4,0)","v":{"$error":"#REF!"}},{"$error":"#REF!"},{"$error":"#REF!"}]
["Выводы под переключатель ответный","Выводы организации управления освещением. ",null,"шт.",4180,2000,0,{"$f":"F29*C29*#REF!","v":{"$error":"#REF!"}},{"$error":"#REF!"},null,{"$f":"$C29* (VLOOKUP(\"Кабель ВВГнг-LS 4x1,5\",#REF!,3,0)*26 + VLOOKUP(\"саморез черн. 3,5*25\",#REF!,3,0)*0.002*26 + VLOOKUP(\"Подрозетники 10170 с лапками  г/у\",#REF!,3,0) + VLOOKUP(\"Гофрошланг D16 с зондом\",#REF!,3,0)*26 + VLOOKUP(\"Клипсы для гофры D16\",#REF!,3,0)*26 )","v":{"$error":"#REF!"}},{"$f":"$C29* VLOOKUP(\"Электрическая точка (сечение до 6 мм2) в дереве\",#REF!, 3,0)*2","v":{"$error":"#REF!"}},{"$f":"$C29* VLOOKUP(\"Электрическая точка (сечение до 6 мм2) в дереве\",#REF!, 4,0)*2","v":{"$error":"#REF!"}},{"$error":"#REF!"},{"$error":"#REF!"}]
["Выводы под диммеры","Выводы организации управления освещением. ",null,"шт.",1400,1000,0,{"$f":"F30*C30*#REF!","v":{"$error":"#REF!"}},{"$error":"#REF!"},null,{"$f":"$C30* (VLOOKUP(\"Кабель ВВГ нг-LS 3x1,5\",#REF!,3,0)*10 + VLOOKUP(\"саморез черн. 3,5*25\",#REF!,3,0)*0.002*10 + VLOOKUP(\"Подрозетники 10170 с лапками  г/у\",#REF!,3,0) + VLOOKUP(\"Гофрошланг D16 с зондом\",#REF!,3,0)*10 + VLOOKUP(\"Клипсы для гофры D16\",#REF!,3,0)*10 )","v":{"$error":"#REF!"}},{"$f":"$C30* VLOOKUP(\"Электрическая точка (сечение до 6 мм2) в дереве\",#REF!, 3,0)","v":{"$error":"#REF!"}},{"$f":"$C30* VLOOKUP(\"Электрическая точка (сечение до 6 мм2) в дереве\",#REF!, 4,0)","v":{"$error":"#REF!"}},{"$error":"#REF!"},{"$error":"#REF!"}]
["Вывод мастер-ключа","Вывод управления питания только систем освещения дома. ",null,"шт.",1400,1500,0,{"$f":"F31*C31*#REF!","v":{"$error":"#REF!"}},{"$error":"#REF!"},null,{"$f":"$C31* (VLOOKUP(\"Кабель ВВГ нг-LS 5*2,5\",#REF!,3,0)*15 + VLOOKUP(\"саморез черн. 3,5*25\",#REF!,3,0)*0.002*15 + VLOOKUP(\"Подрозетники 10170 с лапками  г/у\",#REF!,3,0) + VLOOKUP(\"Гофрошланг D32 c зондом\",#REF!,3,0)*15 + VLOOKUP(\"Клипсы для гофры D32\",#REF!,3,0)*15 )","v":{"$error":"#REF!"}},{"$f":"$C31* VLOOKUP(\"Электрическая точка (сечение до 6 мм2) в дереве\",#REF!, 3,0)","v":{"$error":"#REF!"}},{"$f":"$C31* VLOOKUP(\"Электрическая точка (сечение до 6 мм2) в дереве\",#REF!, 4,0)","v":{"$error":"#REF!"}},{"$error":"#REF!"},{"$error":"#REF!"}]
[null,"Вывод управления питания всех систем  дома. ",null,"шт.",1400,1700,0,{"$f":"F32*C32*#REF!","v":{"$error":"#REF!"}},{"$error":"#REF!"},null,{"$f":"$C32* (VLOOKUP(\"Кабель ВВГ нг-LS 5*2,5\",#REF!,3,0)*15 + VLOOKUP(\"саморез черн. 3,5*25\",#REF!,3,0)*0.002*15 + VLOOKUP(\"Подрозетники 10170 с лапками  г/у\",#REF!,3,0) + VLOOKUP(\"Гофрошланг D32 c зондом\",#REF!,3,0)*15 + VLOOKUP(\"Клипсы для гофры D32\",#REF!,3,0)*15 )","v":{"$error":"#REF!"}},{"$f":"$C32* VLOOKUP(\"Электрическая точка (сечение до 6 мм2) в дереве\",#REF!, 3,0)","v":{"$error":"#REF!"}},{"$f":"$C32* VLOOKUP(\"Электрическая точка (сечение до 6 мм2) в дереве\",#REF!, 4,0)","v":{"$error":"#REF!"}},{"$error":"#REF!"},{"$error":"#REF!"}]
["Выводы под генератор","Резервный источник электропитания дома с автовключением",null,"шт.",24000,5400,0,{"$f":"F33*C33","v":0},0,null,{"$f":"$C33* (VLOOKUP(\"Кабель ВВГ нг-LS 5x10\",#REF!,3,0)*30 + VLOOKUP(\"саморез черн. 3,5*25\",#REF!,3,0)*0.002*30 + VLOOKUP(\"Подрозетники 10170 с лапками  г/у\",#REF!,3,0) + VLOOKUP(\"Гофрошланг D32 c зондом\",#REF!,3,0)*30 + VLOOKUP(\"Клипсы для гофры D32\",#REF!,3,0)*30 )*2","v":{"$error":"#REF!"}},{"$f":"$C33* VLOOKUP(\"Электрическая точка (свыше 6 мм2) в дереве\",#REF!, 3,0)*2","v":{"$error":"#REF!"}},{"$f":"$C33* VLOOKUP(\"Электрическая точка (свыше 6 мм2) в дереве\",#REF!, 4,0)*2","v":{"$error":"#REF!"}},{"$error":"#REF!"},""]
[null,"Резервный источник электропитания дома. ",null,"шт.",12000,3200,0,{"$f":"F34*C34*#REF!","v":{"$error":"#REF!"}},{"$error":"#REF!"},null,{"$f":"$C34* (VLOOKUP(\"Кабель ВВГ нг-LS 5x10\",#REF!,3,0)*30 + VLOOKUP(\"саморез черн. 3,5*25\",#REF!,3,0)*0.002*30 + VLOOKUP(\"Подрозетники 10170 с лапками  г/у\",#REF!,3,0) + VLOOKUP(\"Гофрошланг D32 c зондом\",#REF!,3,0)*30 + VLOOKUP(\"Клипсы для гофры D32\",#REF!,3,0)*30 )","v":{"$error":"#REF!"}},{"$f":"$C34* VLOOKUP(\"Электрическая точка (свыше 6 мм2) в дереве\",#REF!, 3,0)","v":{"$error":"#REF!"}},{"$f":"$C34* VLOOKUP(\"Электрическая точка (свыше 6 мм2) в дереве\",#REF!, 4,0)","v":{"$error":"#REF!"}},{"$error":"#REF!"},{"$error":"#REF!"}]
["Вывод HDMI","Слаботочный видеовывод. ",null,"шт.",6105,1200,0,{"$f":"F35*C35*#REF!","v":{"$error":"#REF!"}},{"$error":"#REF!"},null,{"$f":"$C35* (3000 + VLOOKUP(\"саморез черн. 3,5*25\",#REF!,3,0)*0.002*24 + VLOOKUP(\"Гофрошланг D16 с зондом\",#REF!,3,0)*24 + VLOOKUP(\"Клипсы для гофры D16\",#REF!,3,0)*24 )","v":{"$error":"#REF!"}},{"$f":"$C35* VLOOKUP(\"Электрическая точка (сечение до 6 мм2) в дереве\",#REF!, 3,0)","v":{"$error":"#REF!"}},{"$f":"$C35* VLOOKUP(\"Электрическая точка (сечение до 6 мм2) в дереве\",#REF!, 4,0)","v":{"$error":"#REF!"}},{"$error":"#REF!"},{"$error":"#REF!"}]
["Комплект выводов для видеодомофона","Выводы питания и управления вызывной и приемной панели, видеоглазка. ",null,"шт.",10150,2400,0,{"$f":"F36*C36*#REF!","v":{"$error":"#REF!"}},{"$error":"#REF!"},null,{"$f":"$C36* (VLOOKUP(\"Кабель ВВГ нг-LS 3x1,5\",#REF!,3,0)*15 + VLOOKUP(\"кабель КВК-2п 2x0,75мм² (уличный)\",#REF!,3,0)*15 + VLOOKUP(\"провод ШВВП 2х0,75\",#REF!,3,0)*15*2 + VLOOKUP(\"саморез черн. 3,5*25\",#REF!,3,0)*0.002*15*4 + VLOOKUP(\"Подрозетники 10170 с лапками  г/у\",#REF!,3,0)*4 + VLOOKUP(\"Гофрошланг D16 с зондом\",#REF!,3,0)*15*4 + VLOOKUP(\"Клипсы для гофры D16\",#REF!,3,0)*15*4 )","v":{"$error":"#REF!"}},{"$f":"$C36* VLOOKUP(\"Электрическая точка (сечение до 6 мм2) в дереве\",#REF!, 3,0)*4","v":{"$error":"#REF!"}},{"$f":"$C36* VLOOKUP(\"Электрическая точка (сечение до 6 мм2) в дереве\",#REF!, 4,0)*4","v":{"$error":"#REF!"}},{"$error":"#REF!"},{"$error":"#REF!"}]
["Комплект выводов для отопительного конвектора","Выводы питания и управления отопительного внутрипольного конвектора. ",null,"шт.",4300,2000,0,{"$f":"F37*C37*#REF!","v":{"$error":"#REF!"}},{"$error":"#REF!"},null,{"$f":"$C37* (VLOOKUP(\"Кабель ВВГ нг-LS 3x1,5\",#REF!,3,0) + VLOOKUP(\"Кабель UTP 4р. cat 5t PVC \",#REF!,3,0) + VLOOKUP(\"саморез черн. 3,5*25\",#REF!,3,0)*0.002*2 + VLOOKUP(\"Гофрошланг D16 с зондом\",#REF!,3,0)*2 + VLOOKUP(\"Клипсы для гофры D16\",#REF!,3,0)*2 )*15","v":{"$error":"#REF!"}},{"$f":"$C37* VLOOKUP(\"Электрическая точка (сечение до 6 мм2) в дереве\",#REF!, 3,0)*2","v":{"$error":"#REF!"}},{"$f":"$C37* VLOOKUP(\"Электрическая точка (сечение до 6 мм2) в дереве\",#REF!, 4,0)*2","v":{"$error":"#REF!"}},{"$error":"#REF!"},{"$error":"#REF!"}]
["Вывод питания контура электрического теплого пола","Вывод питания для установки терморегулятора теплого пола. ",null,"шт.",2090,1000,0,{"$f":"F38*C38*#REF!","v":{"$error":"#REF!"}},{"$error":"#REF!"},null,{"$f":"$C38* (VLOOKUP(\"Кабель ВВГ нг-LS 3x1,5\",#REF!,3,0)*18 + VLOOKUP(\"саморез черн. 3,5*25\",#REF!,3,0)*0.002*18 + VLOOKUP(\"Подрозетники 10170 с лапками  г/у\",#REF!,3,0) + VLOOKUP(\"Гофрошланг D16 с зондом\",#REF!,3,0)*18 + VLOOKUP(\"Клипсы для гофры D16\",#REF!,3,0)*18 )","v":{"$error":"#REF!"}},{"$f":"$C38* VLOOKUP(\"Электрическая точка (сечение до 6 мм2) в дереве\",#REF!, 3,0)","v":{"$error":"#REF!"}},{"$f":"$C38* VLOOKUP(\"Электрическая точка (сечение до 6 мм2) в дереве\",#REF!, 4,0)","v":{"$error":"#REF!"}},{"$error":"#REF!"},{"$error":"#REF!"}]
["Устройство электрического теплого пола","Проводной электрический теплый пол",null,"м.",3835,750,0,{"$f":"F39*C39*#REF!","v":{"$error":"#REF!"}},{"$error":"#REF!"},null,{"$f":"$C39* (VLOOKUP(\"140F0451 Devimat DTIF-150 Минимат двухжильный 600Вт 0,45x8м (4 кв.м.)\",#REF!,3,0)*0.15 + VLOOKUP(\"140F1091 Devi Датчик пола на проводе 3,0 м , 15 кОм\",#REF!,3,0)*0.12 + VLOOKUP(\"140F1249 Devi Deviflex 18T Кабель двухжильный 1720 / 1880 Вт 105 м\",#REF!,3,0)*0.025 )","v":{"$error":"#REF!"}},{"$f":"$C39* VLOOKUP(\"Теплый пол\",#REF!, 3,0)","v":{"$error":"#REF!"}},{"$f":"$C39* VLOOKUP(\"Теплый пол\",#REF!, 4,0)","v":{"$error":"#REF!"}},{"$error":"#REF!"},{"$error":"#REF!"}]
["Вывод под стабилизатор","Устройство выравнивания перепадов напряжения (около щита). ",null,"шт.",6150,1400,0,{"$f":"F40*C40*#REF!","v":{"$error":"#REF!"}},{"$error":"#REF!"},null,{"$f":"$C40* (VLOOKUP(\"Кабель ВВГ нг-LS 5x10\",#REF!,3,0)*10 + VLOOKUP(\"саморез черн. 3,5*25\",#REF!,3,0)*0.002*10 + VLOOKUP(\"Подрозетники 10170 с лапками  г/у\",#REF!,3,0) + VLOOKUP(\"Гофрошланг D32 c зондом\",#REF!,3,0)*10 + VLOOKUP(\"Клипсы для гофры D32\",#REF!,3,0)*10 )","v":{"$error":"#REF!"}},{"$f":"$C40* VLOOKUP(\"Электрическая точка (свыше 6 мм2) в дереве\",#REF!, 3,0)","v":{"$error":"#REF!"}},{"$f":"$C40* VLOOKUP(\"Электрическая точка (свыше 6 мм2) в дереве\",#REF!, 4,0)","v":{"$error":"#REF!"}},{"$error":"#REF!"},{"$error":"#REF!"}]
[null,"Устройство выравнивания перепадов напряжения (под лестницей). ",null,"шт.",13500,2400,0,{"$f":"F41*C41*#REF!","v":{"$error":"#REF!"}},{"$error":"#REF!"},null,{"$f":"$C41* (VLOOKUP(\"Кабель ВВГ нг-LS 5x10\",#REF!,3,0)*40 + VLOOKUP(\"саморез черн. 3,5*25\",#REF!,3,0)*0.002*40 + VLOOKUP(\"Подрозетники 10170 с лапками  г/у\",#REF!,3,0) + VLOOKUP(\"Гофрошланг D32 c зондом\",#REF!,3,0)*40 + VLOOKUP(\"Клипсы для гофры D32\",#REF!,3,0)*40 )","v":{"$error":"#REF!"}},{"$f":"$C41* VLOOKUP(\"Электрическая точка (свыше 6 мм2) в дереве\",#REF!, 3,0)","v":{"$error":"#REF!"}},{"$f":"$C41* VLOOKUP(\"Электрическая точка (свыше 6 мм2) в дереве\",#REF!, 4,0)","v":{"$error":"#REF!"}},{"$error":"#REF!"},{"$error":"#REF!"}]
["Вывод под инвертор ","Источник бесперебойного питания для системы отопления. ",null,"шт.",2300,2000,0,{"$f":"F42*C42*#REF!","v":{"$error":"#REF!"}},{"$error":"#REF!"},null,{"$f":"$C42* (VLOOKUP(\"Кабель ВВГ нг-LS 5*2,5\",#REF!,3,0)*15 + VLOOKUP(\"саморез черн. 3,5*25\",#REF!,3,0)*0.002*15 + VLOOKUP(\"Подрозетники 10170 с лапками  г/у\",#REF!,3,0) + VLOOKUP(\"Гофрошланг D32 c зондом\",#REF!,3,0)*15 + VLOOKUP(\"Клипсы для гофры D32\",#REF!,3,0)*15 )","v":{"$error":"#REF!"}},{"$f":"$C42* VLOOKUP(\"Электрическая точка (свыше 6 мм2) в дереве\",#REF!, 3,0)","v":{"$error":"#REF!"}},{"$f":"$C42* VLOOKUP(\"Электрическая точка (свыше 6 мм2) в дереве\",#REF!, 4,0)","v":{"$error":"#REF!"}},{"$error":"#REF!"},{"$error":"#REF!"}]
["Устройство кабель-каналов ","Для прокладки выводов кабелей открытой проводки",null,"м.",240,200,0,{"$f":"F43*C43*#REF!","v":{"$error":"#REF!"}},{"$error":"#REF!"},null,{"$f":"$C43* (VLOOKUP(\"Кабель-канал 25х16 белый 2 метра Элекор\",#REF!,3,0) + VLOOKUP(\"саморез черн. 3,5*25\",#REF!,3,0)*0.002 )","v":{"$error":"#REF!"}},{"$f":"$C43* VLOOKUP(\"Прокладка в кабель-канале за 1м\",#REF!, 3,0)","v":{"$error":"#REF!"}},{"$f":"$C43* VLOOKUP(\"Прокладка в кабель-канале за 1м\",#REF!, 4,0)","v":{"$error":"#REF!"}},{"$error":"#REF!"},{"$error":"#REF!"}]
["Штробление под выводы розеток","Под штукатурку",null,"шт.",null,550,0,{"$f":"F44*C44*#REF!","v":{"$error":"#REF!"}},{"$error":"#REF!"},null,null,{"$f":"$C44* VLOOKUP(\"Штробление свыше метра за точку\",#REF!, 3,0)","v":{"$error":"#REF!"}},{"$f":"$C44* VLOOKUP(\"Штробление свыше метра за точку\",#REF!, 4,0)","v":{"$error":"#REF!"}},{"$error":"#REF!"},{"$error":"#REF!"}]
["Штробление под выводы выключателей","Под штукатурку",null,"шт.",null,550,0,{"$f":"F45*C45*#REF!","v":{"$error":"#REF!"}},{"$error":"#REF!"},null,null,{"$f":"$C45* VLOOKUP(\"Штробление свыше метра за точку\",#REF!, 3,0)","v":{"$error":"#REF!"}},{"$f":"$C45* VLOOKUP(\"Штробление свыше метра за точку\",#REF!, 4,0)","v":{"$error":"#REF!"}},{"$error":"#REF!"},{"$error":"#REF!"}]
["Штробление проходов перекрытий","Под штукатурку",null,"шт.",null,3100,0,{"$f":"F46*C46*#REF!","v":{"$error":"#REF!"}},{"$error":"#REF!"},null,null,{"$f":"$C46* VLOOKUP(\"Штробление свыше метра за точку\",#REF!, 3,0)*6","v":{"$error":"#REF!"}},{"$f":"$C46* VLOOKUP(\"Штробление свыше метра за точку\",#REF!, 4,0)*6","v":{"$error":"#REF!"}},{"$error":"#REF!"},{"$error":"#REF!"}]
["Штробление стен (2х2)","Под штукатурку",null,"м.",null,750,0,{"$f":"F47*C47*#REF!","v":{"$error":"#REF!"}},{"$error":"#REF!"},null,null,{"$f":"$C47* VLOOKUP(\"Штробление свыше метра за точку\",#REF!, 3,0)*1.5","v":{"$error":"#REF!"}},{"$f":"$C47* VLOOKUP(\"Штробление свыше метра за точку\",#REF!, 4,0)*1.5","v":{"$error":"#REF!"}},{"$error":"#REF!"},{"$error":"#REF!"}]
["Восстановление бруса","Декоративное восстановление проходных отверстий",null,"шт.",null,2000,null,{"$f":"F48*C48","v":0},0,null,null,{"$f":"$C48* VLOOKUP(\"Восстановление деревянных конструкций 1 пост\",#REF!, 3,0)","v":{"$error":"#REF!"}},{"$f":"$C48* VLOOKUP(\"Восстановление деревянных конструкций 1 пост\",#REF!, 4,0)","v":{"$error":"#REF!"}},{"$error":"#REF!"},""]
["Декоративная подготовка бревна","резная выборка декоративной площадки для устойчивой установки розеток и выключателей в круглом бревне ",null,"Компл",{"$f":"C12+C13+C15+C24+C28+C29+C30+C31+C38","v":0},450,{"$f":"F49*E49*#REF!","v":{"$error":"#REF!"}},null,{"$f":"G49*C49","v":{"$error":"#REF!"}},null,null,{"$f":"(C11+C12+C13+C15+C16+C22+C24+C28+C29)* C49*VLOOKUP(\"Подготовка 1 поста в кругляке\",#REF!, 3,0)","v":{"$error":"#REF!"}},{"$f":"(C11+C12+C13+C15+C16+C22+C24+C28+C29)* C49*VLOOKUP(\"Подготовка 1 поста в кругляке\",#REF!, 4,0)","v":{"$error":"#REF!"}},{"$error":"#REF!"},{"$error":"#REF!"}]
["Комплект Архитектурной подсветки для СП -265","В стоимость комплекта входит разводка кабельных линий( кабель ВВГ нг LS ) в кол-ве __ вывода( включая патрон с лампой). Две зоны освещения с отдельным управлением.*Светильники в стоимость не входят. ",null,"Компл",95600,null,{"$f":"C50*E50*#REF!","v":{"$error":"#REF!"}},null,{"$f":"C50*E50","v":0},null,{"$f":"$C50* ( (VLOOKUP(\"Кабель ВВГ нг-LS 3x1,5\",#REF!,3,0)*18 + VLOOKUP(\"саморез черн. 3,5*25\",#REF!,3,0)*0.002*18 + VLOOKUP(\"Патрон Е-27 керамический\",#REF!,3,0) + VLOOKUP(\"Лампа ЛОН 60 Вт Е-27\",#REF!,3,0) + VLOOKUP(\"Гофрошланг D16 с зондом\",#REF!,3,0)*18 + VLOOKUP(\"Клипсы для гофры D16\",#REF!,3,0)*18 )*39 +  (VLOOKUP(\"Кабель ВВГнг-LS 4x1,5\",#REF!,3,0)*13 + VLOOKUP(\"саморез черн. 3,5*25\",#REF!,3,0)*0.002*13 + VLOOKUP(\"Подрозетники 10170 с лапками  г/у\",#REF!,3,0) + VLOOKUP(\"Гофрошланг D16 с зондом\",#REF!,3,0)*13 + VLOOKUP(\"Клипсы для гофры D16\",#REF!,3,0)*13 )*2)","v":{"$error":"#REF!"}},{"$f":"$C50* VLOOKUP(\"Электрическая точка (сечение до 6 мм2) в дереве\",#REF!, 3,0)*(39+2)","v":{"$error":"#REF!"}},{"$f":"$C50* VLOOKUP(\"Электрическая точка (сечение до 6 мм2) в дереве\",#REF!, 4,0)*(39+2)","v":{"$error":"#REF!"}},{"$error":"#REF!"},""]
["Комплект Архитектурной подсветки для СП -185","В стоимость комплекта входит разводка кабельных линий( кабель ВВГ нг LS ) в кол-ве __ вывода( включая патрон с лампой). Две зоны освещения с отдельным управлением.*Светильники в стоимость не входят. ",null,"Компл",76847,null,{"$f":"C51*E51*#REF!","v":{"$error":"#REF!"}},null,{"$f":"C51*E51","v":0},null,{"$f":"$C51* ( (VLOOKUP(\"Кабель ВВГ нг-LS 3x1,5\",#REF!,3,0)*18 + VLOOKUP(\"саморез черн. 3,5*25\",#REF!,3,0)*0.002*18 + VLOOKUP(\"Патрон Е-27 керамический\",#REF!,3,0) + VLOOKUP(\"Лампа ЛОН 60 Вт Е-27\",#REF!,3,0) + VLOOKUP(\"Гофрошланг D16 с зондом\",#REF!,3,0)*18 + VLOOKUP(\"Клипсы для гофры D16\",#REF!,3,0)*18 )*31 +  (VLOOKUP(\"Кабель ВВГнг-LS 4x1,5\",#REF!,3,0)*13 + VLOOKUP(\"саморез черн. 3,5*25\",#REF!,3,0)*0.002*13 + VLOOKUP(\"Подрозетники 10170 с лапками  г/у\",#REF!,3,0) + VLOOKUP(\"Гофрошланг D16 с зондом\",#REF!,3,0)*13 + VLOOKUP(\"Клипсы для гофры D16\",#REF!,3,0)*13 )*2)","v":{"$error":"#REF!"}},{"$f":"$C51* VLOOKUP(\"Электрическая точка (сечение до 6 мм2) в дереве\",#REF!, 3,0)*(31+2)","v":{"$error":"#REF!"}},{"$f":"$C51* VLOOKUP(\"Электрическая точка (сечение до 6 мм2) в дереве\",#REF!, 4,0)*(31+2)","v":{"$error":"#REF!"}},{"$error":"#REF!"},""]
["Комплект Архитектурной подсветки для КД-225","В стоимость комплекта входит разводка кабельных линий( кабель ВВГ нг LS ) в кол-ве __ вывода( включая патрон с лампой). Две зоны освещения с отдельным управлением.*Светильники в стоимость не входят. ",null,"Компл",76848,null,{"$f":"C52*E52*#REF!","v":{"$error":"#REF!"}},null,{"$f":"C52*E52","v":0},null,{"$f":"$C52* ( (VLOOKUP(\"Кабель ВВГ нг-LS 3x1,5\",#REF!,3,0)*18 + VLOOKUP(\"саморез черн. 3,5*25\",#REF!,3,0)*0.002*18 + VLOOKUP(\"Патрон Е-27 керамический\",#REF!,3,0) + VLOOKUP(\"Лампа ЛОН 60 Вт Е-27\",#REF!,3,0) + VLOOKUP(\"Гофрошланг D16 с зондом\",#REF!,3,0)*18 + VLOOKUP(\"Клипсы для гофры D16\",#REF!,3,0)*18 )*31 +  (VLOOKUP(\"Кабель ВВГнг-LS 4x1,5\",#REF!,3,0)*13 + VLOOKUP(\"саморез черн. 3,5*25\",#REF!,3,0)*0.002*13 + VLOOKUP(\"Подрозетники 10170 с лапками  г/у\",#REF!,3,0) + VLOOKUP(\"Гофрошланг D16 с зондом\",#REF!,3,0)*13 + VLOOKUP(\"Клипсы для гофры D16\",#REF!,3,0)*13 )*2)","v":{"$error":"#REF!"}},{"$f":"$C52* VLOOKUP(\"Электрическая точка (сечение до 6 мм2) в дереве\",#REF!, 3,0)*(31+2)","v":{"$error":"#REF!"}},{"$f":"$C52* VLOOKUP(\"Электрическая точка (сечение до 6 мм2) в дереве\",#REF!, 4,0)*(31+2)","v":{"$error":"#REF!"}},{"$error":"#REF!"},""]
["Комплект Архитектурной подсветки для КВ-205","В стоимость комплекта входит разводка кабельных линий( кабель ВВГ нг LS ) в кол-ве __ вывода( включая патрон с лампой). Две зоны освещения с отдельным управлением.*Светильники в стоимость не входят. ",null,"Компл",76849,null,{"$f":"C53*E53*#REF!","v":{"$error":"#REF!"}},null,{"$f":"C53*E53","v":0},null,{"$f":"$C53* ( (VLOOKUP(\"Кабель ВВГ нг-LS 3x1,5\",#REF!,3,0)*18 + VLOOKUP(\"саморез черн. 3,5*25\",#REF!,3,0)*0.002*18 + VLOOKUP(\"Патрон Е-27 керамический\",#REF!,3,0) + VLOOKUP(\"Лампа ЛОН 60 Вт Е-27\",#REF!,3,0) + VLOOKUP(\"Гофрошланг D16 с зондом\",#REF!,3,0)*18 + VLOOKUP(\"Клипсы для гофры D16\",#REF!,3,0)*18 )*31 +  (VLOOKUP(\"Кабель ВВГнг-LS 4x1,5\",#REF!,3,0)*13 + VLOOKUP(\"саморез черн. 3,5*25\",#REF!,3,0)*0.002*13 + VLOOKUP(\"Подрозетники 10170 с лапками  г/у\",#REF!,3,0) + VLOOKUP(\"Гофрошланг D16 с зондом\",#REF!,3,0)*13 + VLOOKUP(\"Клипсы для гофры D16\",#REF!,3,0)*13 )*2)","v":{"$error":"#REF!"}},{"$f":"$C53* VLOOKUP(\"Электрическая точка (сечение до 6 мм2) в дереве\",#REF!, 3,0)*(31+2)","v":{"$error":"#REF!"}},{"$f":"$C53* VLOOKUP(\"Электрическая точка (сечение до 6 мм2) в дереве\",#REF!, 4,0)*(31+2)","v":{"$error":"#REF!"}},{"$error":"#REF!"},""]
["Комплект Архитектурной подсветки для СП -237 ","В стоимость комплекта входит разводка кабельных линий( кабель ВВГ нг LS ) в кол-ве 31 вывода( включая патрон с лампой). Две зоны освещения с отдельным управлением.*Светильники в стоимость не входят. ",null,"Компл",76850,null,{"$f":"C54*E54*#REF!","v":{"$error":"#REF!"}},null,{"$f":"C54*E54","v":0},null,{"$f":"$C54* ( (VLOOKUP(\"Кабель ВВГ нг-LS 3x1,5\",#REF!,3,0)*18 + VLOOKUP(\"саморез черн. 3,5*25\",#REF!,3,0)*0.002*18 + VLOOKUP(\"Патрон Е-27 керамический\",#REF!,3,0) + VLOOKUP(\"Лампа ЛОН 60 Вт Е-27\",#REF!,3,0) + VLOOKUP(\"Гофрошланг D16 с зондом\",#REF!,3,0)*18 + VLOOKUP(\"Клипсы для гофры D16\",#REF!,3,0)*18 )*31 +  (VLOOKUP(\"Кабель ВВГнг-LS 4x1,5\",#REF!,3,0)*13 + VLOOKUP(\"саморез черн. 3,5*25\",#REF!,3,0)*0.002*13 + VLOOKUP(\"Подрозетники 10170 с лапками  г/у\",#REF!,3,0) + VLOOKUP(\"Гофрошланг D16 с зондом\",#REF!,3,0)*13 + VLOOKUP(\"Клипсы для гофры D16\",#REF!,3,0)*13 )*2)","v":{"$error":"#REF!"}},{"$f":"$C54* VLOOKUP(\"Электрическая точка (сечение до 6 мм2) в дереве\",#REF!, 3,0)*(31+2)","v":{"$error":"#REF!"}},{"$f":"$C54* VLOOKUP(\"Электрическая точка (сечение до 6 мм2) в дереве\",#REF!, 4,0)*(31+2)","v":{"$error":"#REF!"}},{"$error":"#REF!"},""]
["Молниезащита (площадь дома до 250м2)","Защита дома от воздействия молнии. Молниеприемник, молниеотвод, заземлитель, комплектующие. Покраска в цвет кровли",null,"Компл",165000,null,{"$f":"E55*C55","v":0},null,{"$f":"G55","v":0},null,{"$f":"$C55* (VLOOKUP(\"Молниезащита\",#REF!,3,0) )","v":{"$error":"#REF!"}},null,{"$f":"$C55* VLOOKUP(\"Молниезащита\",#REF!, 4,0)","v":{"$error":"#REF!"}},{"$error":"#REF!"},""]
["Заземление \"Ezetek\"","В стоимость входят все работы и материалы по устройству заземления модульно-штыревого с углублением 10,5м, а также разводка КУП внутри дома согласно проекта электрики",1,"Компл",34500,null,{"$f":"E56*C56","v":34500},null,{"$f":"G56","v":34500},null,{"$f":"$C56* (VLOOKUP(\"Комплект заземления\",#REF!,3,0) + VLOOKUP(\"Сжим У870 М HEGEL\",#REF!,3,0) + VLOOKUP(\"коробка распаечная 190х140х70\",#REF!,3,0)*2 + VLOOKUP(\"Шина  8/1\",#REF!,3,0)*2 + VLOOKUP(\"Кабель ПВ1 2,5 ж/з\",#REF!,3,0)*70 + VLOOKUP(\"Кабель ПВ3 6 ж/з\",#REF!,3,0)*60 + VLOOKUP(\"Кабель ПВ3 16 ж/з\",#REF!,3,0)*15 )","v":{"$error":"#REF!"}},{"$f":"$C56* ( VLOOKUP(\"Заземление\",#REF!, 3,0) + VLOOKUP(\"Земляные работы (прокладка кабеля в земле)\",#REF!, 3,0)*4\n+VLOOKUP(\"КУП\",#REF!, 3,0)*2+ VLOOKUP(\"Электрическая точка (сечение до 6 мм2) в дереве\",#REF!, 3,0)*4 + VLOOKUP(\"Дополнительное заземление (газ. котел, розетки от КУП)\",#REF!, 3,0)*4 )","v":{"$error":"#REF!"}},{"$f":"$C56* ( VLOOKUP(\"Заземление\",#REF!, 4,0) + VLOOKUP(\"Земляные работы (прокладка кабеля в земле)\",#REF!, 4,0)*4\n+VLOOKUP(\"КУП\",#REF!, 4,0)*2+ VLOOKUP(\"Электрическая точка (сечение до 6 мм2) в дереве\",#REF!, 4,0)*4 + VLOOKUP(\"Дополнительное заземление (газ. котел, розетки от КУП)\",#REF!, 4,0)*4 )","v":{"$error":"#REF!"}},{"$error":"#REF!"},{"$error":"#REF!"}]
["Лючок впольный двойной","Лючок для встраиваемых в пол розеток на два поста",null,"шт.",2750,1500,{"$f":"E57*C57","v":0},{"$f":"F57*C57","v":0},{"$f":"H57+G57","v":0},null,{"$f":"$C57* (VLOOKUP(\"М9022. Коробка 70122 BOX-2 для люка 70022 пластиковая (Экопласт)\",#REF!,3,0) + VLOOKUP(\"М9021. Люк 70022 LUK/2 на 2 поста 45х45мм пластиковый (Экопласт)\",#REF!,3,0) )","v":{"$error":"#REF!"}},{"$f":"$C57* ( VLOOKUP(\"Установка люка в полу\",#REF!, 3,0) )","v":{"$error":"#REF!"}},{"$f":"$C57* ( VLOOKUP(\"Установка люка в полу\",#REF!, 4,0) )","v":{"$error":"#REF!"}},{"$error":"#REF!"},""]
["Лючок впольный четверной","Лючок для встраиваемых в пол розеток на четыре поста",null,"шт.",4600,1600,{"$f":"E58*C58","v":0},{"$f":"F58*C58","v":0},{"$f":"H58+G58","v":0},null,{"$f":"$C58* (VLOOKUP(\"М9035. Люк 70040 LUK/4 на 4 поста 45х45мм пластиковый (Экопласт)\",#REF!,3,0) )","v":{"$error":"#REF!"}},{"$f":"$C58* ( VLOOKUP(\"Установка люка в полу\",#REF!, 3,0) )","v":{"$error":"#REF!"}},{"$f":"$C58* ( VLOOKUP(\"Установка люка в полу\",#REF!, 4,0) )","v":{"$error":"#REF!"}},{"$error":"#REF!"},""]
["Лючок тройной","Лючок для встраиваемых в пол розеток на три поста",null,"шт.",2600,1800,{"$f":"E59*C59","v":0},{"$f":"F59*C59","v":0},{"$f":"H59+G59","v":0}]
["Устройство КУП","Разводка коробок уравнивания потенциалов внутри дома во влажных помещениях дома",null,"Компл",8100,null,{"$f":"E60*C60*#REF!","v":{"$error":"#REF!"}},null,{"$f":"G60","v":{"$error":"#REF!"}},null,{"$f":"$C60* (VLOOKUP(\"коробка распаечная 190х140х70\",#REF!,3,0) + VLOOKUP(\"Шина  8/1\",#REF!,3,0) + VLOOKUP(\"Кабель ПВ1 2,5 ж/з\",#REF!,3,0)*15 + VLOOKUP(\"Кабель ПВ3 6 ж/з\",#REF!,3,0)*26 + VLOOKUP(\"Кабель ПВ3 16 ж/з\",#REF!,3,0)*15 )","v":{"$error":"#REF!"}},{"$f":"$C60* VLOOKUP(\"КУП\",#REF!, 3,0)","v":{"$error":"#REF!"}},{"$f":"$C60* VLOOKUP(\"КУП\",#REF!, 4,0)","v":{"$error":"#REF!"}},{"$f":"SUM(K60:M60)","v":{"$error":"#REF!"}},{"$f":"IF(I60=0, \"\", (I60-N60)/I60)","v":{"$error":"#REF!"}}]
["Подвод питающего кабеля от столба к дому в земле"," Кабель ВБбШв 4х16, сигнальная лента согласно ПУЭ",null,"м.",760,1100,{"$f":"E61*C61","v":0},{"$f":"F61*C61*#REF!","v":{"$error":"#REF!"}},{"$f":"SUM(G61:H61)","v":{"$error":"#REF!"}},null,{"$f":"$C61* (VLOOKUP(\"Кабель ВБбШв 4х16\",#REF!,3,0) ) +\n IF(C61>0,VLOOKUP(\"Сигнальная лента Осторожно кабель 150 мм(100м)\",#REF!,3,0),0)","v":{"$error":"#REF!"}},{"$f":"$C61* (VLOOKUP(\"Земляные работы (прокладка кабеля в земле)\",#REF!, 3,0) + VLOOKUP(\"Землянные работы \",#REF!,3,0)*0.3)","v":{"$error":"#REF!"}},{"$f":"$C61* (VLOOKUP(\"Земляные работы (прокладка кабеля в земле)\",#REF!, 4,0) + VLOOKUP(\"Землянные работы \",#REF!,4,0)*0.3)","v":{"$error":"#REF!"}},{"$f":"SUM(K61:M61)","v":{"$error":"#REF!"}},{"$f":"IF(I61=0, \"\", (I61-N61)/I61)","v":{"$error":"#REF!"}}]
["Подвод питающего кабеля от столба к дому, по столбу и дому к ЩР ","Кабель СИП 4х16",null,"м",760,400,{"$f":"E62*C62","v":0},{"$f":"F62*C62*#REF!","v":{"$error":"#REF!"}},{"$f":"SUM(G62:H62)","v":{"$error":"#REF!"}},null,{"$f":"$C62*60","v":0},{"$f":"$C62* VLOOKUP(\"Земляные работы (прокладка кабеля в земле)\",#REF!, 3,0)*0.7","v":{"$error":"#REF!"}},{"$f":"$C62* VLOOKUP(\"Земляные работы (прокладка кабеля в земле)\",#REF!, 4,0)*0.7","v":{"$error":"#REF!"}},{"$f":"SUM(K62:M62)","v":{"$error":"#REF!"}},{"$f":"IF(I62=0, \"\", (I62-N62)/I62)","v":{"$error":"#REF!"}}]
["Распределительный щит"]
["Распределительный щит. Тип защитных устройств  класса А","Распределительный щит , соответсвующий  высоким требованиям по обеспечению безопасности (технологичность сверх норм ПУЭ), высококачественная автоматика Legrand, серии DX3, тип защитных устройств А (с детекцией импульсных токов утечки), со степенью отключающей способности не менее 6кА. Защитное отключение: на перегрузку и КЗ - все кабельные линии, ток утечки - согласно ПУЭ.Установка ФОГ-ленты",null,"Компл",{"$f":"(C11+C12+C18*6+C19+C21+C22+C23+C26+C28+C36+C37+C38+C40+C42+C41)*700+(C34*7650)+(C33*10750)+(C54*5000)+(C53*5000)+(C52*5000)+(C51*5000)+(C50*5000)+(C14+C17+C24+C31)*6100+C32*9500+25000+(G67*0.5)","v":25000},null,{"$f":"C64*E64*#REF!","v":{"$error":"#REF!"}},null,{"$f":"G64","v":{"$error":"#REF!"}},null,{"$f":"$C64* VLOOKUP(\"ИТОГО, СУММА ЗА ЩР\",#REF!,12,0)","v":{"$error":"#REF!"}},{"$f":"$C64* VLOOKUP(\"ИТОГО, СУММА ЗА ЩР\",#REF!,13,0)","v":{"$error":"#REF!"}},{"$f":"$C64* VLOOKUP(\"ИТОГО, СУММА ЗА ЩР\",#REF!,14,0)","v":{"$error":"#REF!"}},{"$f":"SUM(K64:M64)","v":{"$error":"#REF!"}},{"$f":"IF(I64=0, \"\", (I64-N64)/I64)","v":{"$error":"#REF!"}}]
["Прокладка вводного кабеля по дому","силами и материалами заказчика, метраж определяется по месту",null,"м",null,null,0,0,0]
["Подключение вводного кабеля в щит","Только работа",null,"усл.",2750,null,{"$f":"E66*C66","v":0},null,{"$f":"G66","v":0},null,null,{"$f":"$C66* VLOOKUP(\"Подключение вводного кабеля\",#REF!, 3,0)","v":{"$error":"#REF!"}},{"$f":"$C66* VLOOKUP(\"Подключение вводного кабеля\",#REF!, 4,0)","v":{"$error":"#REF!"}},{"$f":"SUM(K66:M66)","v":{"$error":"#REF!"}},{"$f":"IF(I66=0, \"\", (I66-N66)/I66)","v":""}]
["УЗИП","УЗИП для защиты электрических линий коттеджей (класс  I и II)",null,"Компл",26050,null,{"$f":"E67*C67","v":0},null,{"$f":"G67","v":0},null,{"$f":"$C67* VLOOKUP(\"603953 Разрядник В+С 4П\",#REF!,3,0)","v":{"$error":"#REF!"}},{"$f":"$C67* VLOOKUP(\"Электрическая точка (свыше 6 мм2) в дереве\",#REF!, 3,0)","v":{"$error":"#REF!"}},{"$f":"$C67* VLOOKUP(\"Электрическая точка (свыше 6 мм2) в дереве\",#REF!, 4,0)","v":{"$error":"#REF!"}},{"$f":"SUM(K67:M67)","v":{"$error":"#REF!"}},{"$f":"IF(I67=0, \"\", (I67-N67)/I67)","v":""}]
["Конечное оборудование"]
["Установка конечного оборудования","Поставка и установка конечного сертифицированного оборудования марки ABB, серии______________, цвет механизмов ____________ Установка ФОГ-пластин",null,"Компл",{"$f":"((C11+C12+C13+C24+C28+C29+C31+C32)*1015+(C54*1200)+(C15+C30+C22+C35)*2200+C38*9600)*1.5","v":0},null,{"$f":"C69*E69*#REF!","v":{"$error":"#REF!"}},null,{"$f":"G69","v":{"$error":"#REF!"}},null,{"$f":"$C69* VLOOKUP(\"ИТОГО, СУММА ЗА ФИНИШ\",#REF!,12,0)*1.5","v":{"$error":"#REF!"}},{"$f":"$C69* VLOOKUP(\"ИТОГО, СУММА ЗА ФИНИШ\",#REF!,13,0)","v":{"$error":"#REF!"}},{"$f":"$C69* VLOOKUP(\"ИТОГО, СУММА ЗА ФИНИШ\",#REF!,14,0)","v":{"$error":"#REF!"}},{"$f":"SUM(K69:M69)","v":{"$error":"#REF!"}},{"$f":"IF(I69=0, \"\", (I69-N69)/I69)","v":{"$error":"#REF!"}}]
[null,"Поставка и установка конечного сертифицированного оборудования марки Legrand, серии Valena, цвет механизмов - слоновая кость. Установка ФОГ-пластин",null,"Компл",{"$f":"(C11+C12+C13+C24+C28+C29+C31+C32)*1015+(C54*1200)+(C15+C30+C22+C35)*2200+C38*9600","v":0},null,{"$f":"C70*E70*#REF!","v":{"$error":"#REF!"}},null,{"$f":"G70","v":{"$error":"#REF!"}},null,{"$f":"$C70* VLOOKUP(\"ИТОГО, СУММА ЗА ФИНИШ\",#REF!,12,0)","v":{"$error":"#REF!"}},{"$f":"$C70* VLOOKUP(\"ИТОГО, СУММА ЗА ФИНИШ\",#REF!,13,0)","v":{"$error":"#REF!"}},{"$f":"$C70* VLOOKUP(\"ИТОГО, СУММА ЗА ФИНИШ\",#REF!,14,0)","v":{"$error":"#REF!"}},{"$error":"#REF!"},{"$error":"#REF!"}]
[null,"Стабилизаторы ТМ Volter серии Etalon. СНПТО Etalon-7",null,"шт.",62450,3000,{"$f":"E71*C71","v":0},{"$f":"F71*C71","v":0},{"$f":"SUM(G71:H71)","v":0},null,{"$f":"$C71* VLOOKUP(\"Стабилизатор СНПТО-7 Etalon\",#REF!,3,0)","v":{"$error":"#REF!"}},{"$f":"$C71* VLOOKUP(\"Установка стабилизатора, инвертора\",#REF!, 3,0)","v":{"$error":"#REF!"}},{"$f":"$C71* VLOOKUP(\"Установка стабилизатора, инвертора\",#REF!, 4,0)","v":{"$error":"#REF!"}},{"$error":"#REF!"},""]
[null,"Стабилизаторы ТМ Volter серии Etalon. СНПТО Etalon-9",null,"шт.",73950,3000,0,0,0,null,{"$f":"$C72* VLOOKUP(\"Стабилизатор СНПТО-9 Etalon\",#REF!,3,0)","v":{"$error":"#REF!"}},{"$f":"$C72* VLOOKUP(\"Установка стабилизатора, инвертора\",#REF!, 3,0)","v":{"$error":"#REF!"}},{"$f":"$C72* VLOOKUP(\"Установка стабилизатора, инвертора\",#REF!, 4,0)","v":{"$error":"#REF!"}},{"$error":"#REF!"},""]
[null,"Стабилизаторы ТМ Volter серии Etalon. СНПТО Etalon-11",null,"шт.",79850,3000,0,0,0,null,{"$f":"$C73* VLOOKUP(\"Стабилизатор СНПТО-11 Etalon\",#REF!,3,0)","v":{"$error":"#REF!"}},{"$f":"$C73* VLOOKUP(\"Установка стабилизатора, инвертора\",#REF!, 3,0)","v":{"$error":"#REF!"}},{"$f":"$C73* VLOOKUP(\"Установка стабилизатора, инвертора\",#REF!, 4,0)","v":{"$error":"#REF!"}},{"$error":"#REF!"},""]
[null,"Стабилизаторы ТМ Volter серии Etalon. СНПТО Etalon-14",null,"шт.",86970,3000,0,0,0,null,{"$f":"$C74* VLOOKUP(\"Стабилизатор СНПТО-14 Etalon\",#REF!,3,0)","v":{"$error":"#REF!"}},{"$f":"$C74* VLOOKUP(\"Установка стабилизатора, инвертора\",#REF!, 3,0)","v":{"$error":"#REF!"}},{"$f":"$C74* VLOOKUP(\"Установка стабилизатора, инвертора\",#REF!, 4,0)","v":{"$error":"#REF!"}},{"$error":"#REF!"},""]
[null,"Стабилизаторы ТМ Volter серии Etalon. СНПТО - 18",null,"шт.",148740,3000,0,0,0,null,{"$f":"$C75* VLOOKUP(\"Стабилизатор СНПТО-18 Etalon\",#REF!,3,0)","v":{"$error":"#REF!"}},{"$f":"$C75* VLOOKUP(\"Установка стабилизатора, инвертора\",#REF!, 3,0)","v":{"$error":"#REF!"}},{"$f":"$C75* VLOOKUP(\"Установка стабилизатора, инвертора\",#REF!, 4,0)","v":{"$error":"#REF!"}},{"$error":"#REF!"},""]
[null,"Стабилизаторы ТМ Volter серии Etalon. СНПТО - 22",null,"шт.",159800,3000,0,0,0,null,{"$f":"$C76* VLOOKUP(\"Стабилизатор СНПТО-22 Etalon\",#REF!,3,0)","v":{"$error":"#REF!"}},{"$f":"$C76* VLOOKUP(\"Установка стабилизатора, инвертора\",#REF!, 3,0)","v":{"$error":"#REF!"}},{"$f":"$C76* VLOOKUP(\"Установка стабилизатора, инвертора\",#REF!, 4,0)","v":{"$error":"#REF!"}},{"$error":"#REF!"},""]
[null,"Стабилизаторы ТМ Volter серии Etalon. СНПТО - 27",null,"шт.",188350,3000,0,0,0,null,{"$f":"$C77* VLOOKUP(\"Стабилизатор СНПТО-27 Etalon\",#REF!,3,0)","v":{"$error":"#REF!"}},{"$f":"$C77* VLOOKUP(\"Установка стабилизатора, инвертора\",#REF!, 3,0)","v":{"$error":"#REF!"}},{"$f":"$C77* VLOOKUP(\"Установка стабилизатора, инвертора\",#REF!, 4,0)","v":{"$error":"#REF!"}},{"$error":"#REF!"},""]
[null,"Стойка на 3 стабилизаторов (Для 3-ех фазного напряжения на вводе)",null,"шт.",7500,null,0,0,0,null,{"$f":"$C78* VLOOKUP(\"Стойка 9-14\",#REF!,3,0)","v":{"$error":"#REF!"}},null,null,{"$error":"#REF!"},""]
[null,"Стойка на 1 стабилизатора (Для 1-о фазного напряжения на вводе)",null,"шт.",3200,null,0,0,0,null,{"$f":"$C79* VLOOKUP(\"Стойка 18-27\",#REF!,3,0)","v":{"$error":"#REF!"}},null,null,{"$error":"#REF!"},""]
["Дополнительно"]
["Выезд группы технического надзора","В нашей компании работает группа высококвалифицированных специалистов технического надзора, которые постоянно посещают строительные площадки как с плановыми(принятие этапа), так и с внеплановыми (административные стандарты) проверками. ",null,"усл.",null,null,null,null,"Бесплатно"]
["Вывоз мусора","Вывоз строительных отходов и мусора, произведенного в процессе монтажных работ",1,"усл.",null,2000,null,{"$f":"F82*C82","v":2000},{"$f":"H82","v":2000},null,null,null,{"$f":"1500*ROUNDUP(I87/1000000,0)","v":{"$error":"#REF!"}}]
["Личный кабинет"," Личный кабинет - это онлайн сервис, позволяющий следить за ходом строительства, видеть этапы работ, фотографии со строительной площадки и отчёты технического надзора. Кроме этого вы легко найдете в своем личном кабинете контакты всех исполнителей и менеджеров. ",null,"усл.",null,null,null,null,"Бесплатно",null,{"$f":"IF(SUM(N11:N62)>0,3800,0) + IF(N70>0,3800,0) + 3800*ROUNDDOWN(I87/1000000,0)","v":{"$error":"#REF!"}},null,null,null,null,"выезды ИТН"]
["Подготовительные и накладные расходы","Включают составление проектной рабочей документации, подготовку журнала работ, проверку ОТК и приемку каждого этапа работ инженерами технического надзора.",1,"Усл.",null,null,null,{"$f":"ROUNDUP(SUM(I69:I79,I64:I67,I12:I62)*0.03,-3)+6000","v":{"$error":"#REF!"}},{"$f":"H84","v":{"$error":"#REF!"}}]
["Аренда биотуалета","Аренда туалетных кабин на время проведения работ",1,null,null,null,0,0,"Бесплатно",null,null,null,null,{"$f":"5000*ROUNDDOWN(I87/400000,0)","v":{"$error":"#REF!"}}]
["Транспортные расходы","Доставка оборудования и материалов на объект",1,"усл.",10000,null,null,{"$f":"ROUNDUP(SUM(I70:I79,I64:I67,I12:I62)*0.015,-3)","v":{"$error":"#REF!"}},{"$f":"H86","v":{"$error":"#REF!"}},null,null,null,{"$f":"1000*ROUNDUP(I87/500000,0)","v":{"$error":"#REF!"}},{"$f":"3000+2000*ROUNDDOWN(I87/400000,0)","v":{"$error":"#REF!"}}]
["Итого по смете:",null,null,null,null,null,null,null,{"$f":"SUM(I11:I86)","v":{"$error":"#REF!"}},null,{"$f":"SUM(K11:K86)","v":{"$error":"#REF!"}},{"$f":"SUM(L11:L86) +IF(N89=1,SUM(L11:L43,L54:L60)*0.1,0) +IF(N90=1,SUM(L11:L43,L54:L60)*0.15,0) +IF(N91=1,SUM(L11:L43,L54:L60)*0.07,0)","v":{"$error":"#REF!"}},{"$f":"SUM(M11:M86) +IF(N89=1,SUM(M11:M43,M54:M60)*0.1,0) +IF(N90=1,SUM(M11:M43,M54:M60)*0.15,0) +IF(N91=1,SUM(M11:M43,M54:M60)*0.07,0)","v":{"$error":"#REF!"}},{"$f":"SUM(K87:M87,N82:N86)","v":{"$error":"#REF!"}},{"$f":"IF(I87=0, \"\", (I87-N87)/I87)","v":{"$error":"#REF!"}}]
[]
["*Кабель прокладывется в самозатухающей ПВХ гофре",null,null,null,null,null,null,null,null,null,null,null,"Дом кирпичный",0]
["**Во все подрозетники монтируется ФОГ-пластина, блокирующая любое воспламенение. Монтаж производится при установке конечного оборудования",null,null,null,null,null,null,null,null,null,null,null,"Дом бетонный",0]
["Заказчик:",null,null,null,null,null,null,null,null,null,null,null,"Дом кирпично-деревянный",0]
[null,null,null,null,null,null,null,null,null,null,null,null,"Дом свыше 300м2, либо с цокольным этажом",0]
[null,null,null,null,null,null,null,null,null,null,null,null,"(поставить 1)"]
["Подрядчик:"]
[]
[]
[null,null,null,null,null,null,null,null,"Справочно, в разбивке по этапам:"]
[null,null,null,null,null,null,null,"Скрытые",{"$f":"I87-I99","v":{"$error":"#REF!"}},null,{"$f":"K87-K99","v":{"$error":"#REF!"}},{"$f":"L87-L99","v":{"$error":"#REF!"}},{"$f":"M87-M99","v":{"$error":"#REF!"}},{"$f":"N87-N99","v":{"$error":"#REF!"}},{"$f":"IF(I98=0, \"\", (I98-N98)/I98)","v":{"$error":"#REF!"}}]
[null,null,null,null,null,null,null,"Финиш",{"$f":"SUM(I69:I79)","v":{"$error":"#REF!"}},null,{"$f":"SUM(K69:K79)","v":{"$error":"#REF!"}},{"$f":"SUM(L69:L79)","v":{"$error":"#REF!"}},{"$f":"SUM(M69:M79)","v":{"$error":"#REF!"}},{"$f":"SUM(N69:N79)","v":{"$error":"#REF!"}},{"$error":"#REF!"}]

{"sheet":"Отмостка","index":20,"n_rows":62,"n_cols":9,"rows_kept":62,"cut":false,"hidden":true,"merged":[[18,5,18,8],[0,1,0,7],[1,1,1,7],[2,5,2,8],[3,5,13,8],[14,5,14,7],[19,5,29,8],[30,5,30,7],[34,5,34,8],[35,5,45,8],[46,5,46,7]]}
[null,"Коммерческое предложжение - \"Отмостка\""]
[null,"Коммерческое предложжение - \"Отмостка\""]
[null,null,null,null,null,"Вариант 1"]
[null,null,null,null,null,"1.Снятие верхнего слоя почвы и уплотнение основания                                                                                                                                                          2.Песчанная подсыпка с уплотнением (песок речной).                                                                                                 3.Укладка гидроизоляционной ПВХ менбраны \"Planter\" с заводом на фундамент                                                             5.Засыпка щебнем известняковым 150мм (фракция 5-20) с расклинцовкой (уплотнение)                                                                       "]
[]
[]
[]
[]
[]
[]
[]
[]
[]
[]
[null,null,null,null,null,"Итого: ",null,null,"2500 руб."]
[]
[]
[]
[null,null,null,null,null,"Вариант 2"]
[null,null,null,null,null,"1.Снятие верхнего слоя почвы и уплотнение основания                                                                                                                                                                                                      2.Песчанная подсыпка с уплотнением (песок речной).                                                                                                                              3.Укладка полиэтиленновой пленки (150 мкм)                                                                                                       4.Установка армирующей сварной сетки  100х100х4                           5.Заливка бетоном макри В-15 (120мм)                                           6.Герметизация шва между отмосткой и цоколем (гернитовый шнур ПРП-40 Л 15, герметик полиуретановый ПУ-25)                                                                                                        "]
[]
[]
[]
[]
[]
[]
[]
[]
[]
[]
[null,null,null,null,null,"Итого: ",null,null,"2800 руб."]
[]
[]
[]
[null,null,null,null,null,"Вариант 3"]
[null,null,null,null,null,"1.Снятие верхнего слоя почвы и уплотнение основания                                                                                                                                                        3.Песчанная подсыпка с уплотнением (15-20 см, песок речной).                                                                                                                        4.Укладка геотекстиля.                                                             5.Засыпка щебенем известняковым 10см (фракция 5-20 мм) с расклинцовкой                                                                                                                                        6.Укладка гидроизоляционной ПВХ мембраны \"Planter\"  под бетон                                                                                                                                        8.Установка армирующей сварной сетки 100х100х5                             9.Заливка бетоном макри В-15 (150мм)                                          10.Герметизация шва между отмосткой и фундаментом (гернитовый шнур ПРП-40 Л 15, герметик полиуретановый ПУ-25)                                                                                                                                                   "]
[]
[]
[]
[]
[]
[]
[]
[]
[]
[]
[null,null,null,null,null,"Итого: ",null,null,"3500 руб."]
[]
["*Варианты монтажа ливневой системы водоотвода:"]
["1. Организация отвода дождевой воды от водосточных труб с кровли осуществляется"]
["установкой, совместно с укладкой брусчатки на бетонную отмостку, лотков поверхностного  "]
["водоотвода полимерные 1000х100",null,null,null,null,null,null,null,"1900руб."]
["водоотвода полимербетонные 1000х100",null,null,null,null,null,null,null,"2800руб."]
["водоотвода бетонные 1000х100",null,null,null,null,null,null,null,"2750руб."]
["2. Организация отвода дождевой воды от водосточных труб с кровли осуществляется"]
["установкой точечных дождеприемников под водосточными трубами с выводами в дренажную"]
["систему вокруг дома (при глубине дренажа 1,2-1,4 м).",null,null,null,null,null,null,null,"4850руб."]
["3. Организация отвода дождевой воды от водосточных труб с кровли осуществляется  "]
["установкой точечных дождеприемников под водосточными трубами с выводами в ливненую  "]
["канализационную систему, не объединеную с дренажной системой."]
["(при глубине дренажа 2,0-3,0 м).",null,null,null,null,null,null,null,"4850руб."]
["1 метр погонный прокладки трубы ПВХ",null,null,null,null,null,null,null,"1200руб."]

{"sheet":"Ворота","index":21,"n_rows":88,"n_cols":15,"rows_kept":88,"cut":false,"hidden":true,"merged":[[78,0,78,6],[80,0,80,8],[10,0,17,0],[18,0,25,0],[67,0,67,8],[68,0,69,0],[68,1,69,1],[68,2,69,2],[68,3,69,3],[68,4,68,5],[68,6,69,6],[68,7,69,7],[68,8,69,8],[8,10,9,10],[8,11,9,11],[8,12,9,12],[8,13,9,13],[8,14,9,14],[7,0,7,8],[8,0,9,0],[8,1,9,1],[8,2,9,2],[8,3,9,3],[8,4,8,5],[8,6,9,6],[8,7,9,7],[8,8,9,8],[0,0,2,8],[3,0,3,8],[4,1,4,8],[5,0,5,8],[6,0,6,8]]}
[]
[]
[]
["Приложение №    к Договору подряда №    ______________от_____________"]
[{"$f":"TODAY()","v":"2024-02-02"},"Данный сметный расчёт действителен 7 календарных дней. По истечению срока, цены могут быть изменены."]
["Сметный расчет Ворота"]
["  В цену входит поставка оборудования и материалов, а также монтажные работы. Все бригады обучены , квалифицированны и работают с инструментом ведущих европейских производителей. Оборудование и материалы сертифицированы и имеют наиболее качественные показатели эксплуатации."]
["Гаражные ворота"]
["Материалы/услуги","Описание","Кол-во","Ед.изм","Стоимость единицы, руб",null,"Материал, руб","Работа, руб ","Всего, руб",null,"Стоим. мат-ла","Стоим. работ бр.","Стоим. работ ПР","Мат-л + работа","Промежут. рента"]
[null,null,null,null,"материалы","работа"]
[null,null,null,"компл",93945,48000,{"$f":"E11*C11","v":0},{"$f":"F11*C11","v":0},{"$f":"G11+H11","v":0}]
[null,null,null,"компл",101271,48000,0,0,0]
[null,null,null,"компл",103053,48000,0,0,0]
[null,null,null,"компл",117309,48000,0,0,0]
[null,null,null,"компл",99885,48000,0,0,0]
[null,null,null,"компл",107211,48000,0,0,0]
[null,null,null,"компл",108993,48000,0,0,0]
[null,null,null,"компл",123249,48000,0,0,0]
[null,null,null,"компл",130139,52000,0,0,0]
[null,null,null,"компл",137465,52000,0,0,0,null,null,null,null,null,{"$f":"IF(I20=0, \"\", (I20-N20)/I20)","v":""}]
[null,null,null,"компл",146969,52000,0,0,0]
[null,null,null,"компл",163700,52000,0,0,0]
[null,null,null,"компл",144791,52000,0,0,0,null,null,null,null,null,{"$f":"IF(I23=0, \"\", (I23-N23)/I23)","v":""}]
[null,null,null,"компл",152117,52000,0,0,0,null,null,null,null,null,{"$f":"IF(I24=0, \"\", (I24-N24)/I24)","v":""}]
[null,null,null,"компл",161621,52000,0,0,0,null,null,null,null,null,{"$f":"IF(I25=0, \"\", (I25-N25)/I25)","v":""}]
[null,null,null,"компл",178253,52000,0,0,0,null,null,null,null,null,{"$f":"IF(I26=0, \"\", (I26-N26)/I26)","v":""}]
[null,null,null,"шт.",null,null,0,0,0]
[null,null,null,"шт.",null,null,0,0,0]
[null,null,null,"шт.",null,null,0,0,0]
[null,null,null,"шт.",null,null,0,0,0]
[null,null,null,"шт.",27925,5000,0,0,0,null,{"$f":"$C31* VLOOKUP(\"0010008952 Protherm Скат 9К 9кВт котел электрический настенный/одноконтурный\",#REF!, 3, 0)","v":{"$error":"#REF!"}},{"$f":"$C31* VLOOKUP(\"Монтаж электрического котла\",#REF!,3,0)*0.85","v":{"$error":"#REF!"}},{"$f":"$C31* VLOOKUP(\"Монтаж электрического котла\",#REF!,3,0)*0.15","v":{"$error":"#REF!"}},{"$f":"SUM(K31:M31)","v":{"$error":"#REF!"}},{"$f":"IF(I31=0, \"\", (I31-N31)/I31)","v":""}]
[null,null,null,"шт.",31150,5000,0,0,0,null,{"$f":"$C32* VLOOKUP(\"0010008953 Котел электрический Скат 12KR 13 12 кВт 380 В\",#REF!, 3, 0)","v":{"$error":"#REF!"}},{"$f":"$C32* VLOOKUP(\"Монтаж электрического котла\",#REF!,3,0)*0.85","v":{"$error":"#REF!"}},{"$f":"$C32* VLOOKUP(\"Монтаж электрического котла\",#REF!,3,0)*0.15","v":{"$error":"#REF!"}},{"$error":"#REF!"},""]
[null,null,null,"шт.",31416,5000,0,0,0,null,{"$f":"$C33* VLOOKUP(\"0010008954 Protherm Скат 14К 14кВт котел электрический настенный/одноконтурный\",#REF!, 3, 0)","v":{"$error":"#REF!"}},{"$f":"$C33* VLOOKUP(\"Монтаж электрического котла\",#REF!,3,0)*0.85","v":{"$error":"#REF!"}},{"$f":"$C33* VLOOKUP(\"Монтаж электрического котла\",#REF!,3,0)*0.15","v":{"$error":"#REF!"}},{"$error":"#REF!"},""]
[null,null,null,"шт.",34906,5000,0,0,0,null,{"$f":"$C34* VLOOKUP(\"0010008955 Protherm Скат 18К 18кВт котел электрический настенный/одноконтурный\",#REF!, 3, 0)","v":{"$error":"#REF!"}},{"$f":"$C34* VLOOKUP(\"Монтаж электрического котла\",#REF!,3,0)*0.85","v":{"$error":"#REF!"}},{"$f":"$C34* VLOOKUP(\"Монтаж электрического котла\",#REF!,3,0)*0.15","v":{"$error":"#REF!"}},{"$error":"#REF!"},""]
[null,null,null,"шт.",41887,5000,0,0,0,null,{"$f":"$C35* VLOOKUP(\"0010008956 Protherm Скат 21К  21кВт котел электрический настенный/одноконтурный\",#REF!, 3, 0)","v":{"$error":"#REF!"}},{"$f":"$C35* VLOOKUP(\"Монтаж электрического котла\",#REF!,3,0)*0.85","v":{"$error":"#REF!"}},{"$f":"$C35* VLOOKUP(\"Монтаж электрического котла\",#REF!,3,0)*0.15","v":{"$error":"#REF!"}},{"$error":"#REF!"},""]
[null,null,null,"шт.",35528,7000,0,0,0,null,{"$f":"$C36* VLOOKUP(\"0010015943 Vaillant Водонагреватель VIH R 120/6 B\",#REF!, 3, 0)","v":{"$error":"#REF!"}},{"$f":"$C36* VLOOKUP(\"Монтаж бойлера косвенного нагрева\",#REF!,3,0)*0.85","v":{"$error":"#REF!"}},{"$f":"$C36* VLOOKUP(\"Монтаж бойлера косвенного нагрева\",#REF!,3,0)*0.15","v":{"$error":"#REF!"}},{"$error":"#REF!"},""]
[null,null,null,"шт.",37858,7000,0,0,0,null,{"$f":"$C37* VLOOKUP(\"0010015944 Vaillant Ёмкостный водонагреватель uniSTOR VIH R 150/6 В, 150 л\",#REF!, 3, 0)","v":{"$error":"#REF!"}},{"$f":"$C37* VLOOKUP(\"Монтаж бойлера косвенного нагрева\",#REF!,3,0)*0.85","v":{"$error":"#REF!"}},{"$f":"$C37* VLOOKUP(\"Монтаж бойлера косвенного нагрева\",#REF!,3,0)*0.15","v":{"$error":"#REF!"}},{"$error":"#REF!"},""]
[null,null,null,"шт.",39460,7000,0,0,0,null,{"$f":"$C38* VLOOKUP(\"0010015945 Бойлер uniSTOR VIN R 200/6 BR\",#REF!, 3, 0)","v":{"$error":"#REF!"}},{"$f":"$C38* VLOOKUP(\"Монтаж бойлера косвенного нагрева\",#REF!,3,0)*0.85","v":{"$error":"#REF!"}},{"$f":"$C38* VLOOKUP(\"Монтаж бойлера косвенного нагрева\",#REF!,3,0)*0.15","v":{"$error":"#REF!"}},{"$error":"#REF!"},""]
[null,null,null,"шт.",73260,7000,0,0,0,null,{"$f":"$C39* VLOOKUP(\"0010003077 Емкостный водонагреваетль косвенного нагрева uniSTOR VIH R 300\",#REF!, 3, 0)","v":{"$error":"#REF!"}},{"$f":"$C39* VLOOKUP(\"Монтаж бойлера косвенного нагрева\",#REF!,3,0)*0.85","v":{"$error":"#REF!"}},{"$f":"$C39* VLOOKUP(\"Монтаж бойлера косвенного нагрева\",#REF!,3,0)*0.15","v":{"$error":"#REF!"}},{"$error":"#REF!"},""]
[null,null,null,"шт.",49560,11000,0,0,0,null,{"$f":"$C40* VLOOKUP(\"0020028666 Дополнительный нагреватель 6 кВт, 380В\",#REF!, 3, 0)","v":{"$error":"#REF!"}},{"$f":"$C40*5000","v":0},{"$f":"$C40*1000","v":0},{"$error":"#REF!"},""]
[null,null,null,"шт.",12520,6500,0,0,0,null,{"$f":"$C41* VLOOKUP(\"Электрический накопительный водонагреватель Heatronic 100 ELECTROLUX\",#REF!, 3, 0)","v":{"$error":"#REF!"}},{"$f":"$C41*2000","v":0},{"$f":"$C41*500","v":0},{"$error":"#REF!"},""]
[null,null,null,"компл.",14440,14000,0,0,0,null,{"$f":"$C42* ( VLOOKUP(\"_ОПЦИЯ! Узел обвязки эл. водонагревателя Electrolux Heatronic EWH 100\",#REF!, 3,0) + VLOOKUP(\"_Узел подключения к ХВС и ГВС\",#REF!, 3,0) - VLOOKUP(\"Электрический накопительный водонагреватель Heatronic 100 ELECTROLUX\",#REF!, 3,0) )","v":{"$error":"#REF!"}},{"$f":"$C42* VLOOKUP(\"Обвязка электрического котла\",#REF!,3,0)*0.85","v":{"$error":"#REF!"}},{"$f":"$C42* VLOOKUP(\"Обвязка электрического котла\",#REF!,3,0)*0.15","v":{"$error":"#REF!"}},{"$error":"#REF!"},""]
[null,null,null,"шт.",4300,2800,{"$f":"E43*C43","v":0},0,{"$f":"G43+H43","v":0},null,{"$f":"$C43* VLOOKUP(\"Комнатный регулятор температуры VRT 250\",#REF!, 3, 0)","v":{"$error":"#REF!"}},{"$f":"$C43* VLOOKUP(\"Комнатный регулятор\",#REF!,3,0)","v":{"$error":"#REF!"}},null,{"$error":"#REF!"},""]
[null,null,null,"шт.",15100,9000,0,0,0,null,{"$f":"$C44* VLOOKUP(\"0020108146 Автоматический регулятор отопления calorMATIC 370\",#REF!, 3, 0)","v":{"$error":"#REF!"}},{"$f":"$C44* VLOOKUP(\"Комнатный регулятор\",#REF!,3,0)","v":{"$error":"#REF!"}},null,{"$error":"#REF!"},""]
[null,null,null,"шт.",21500,11000,0,0,0,null,{"$f":"$C45* VLOOKUP(\"0020108132  Vaillant Регулятор VRC 470\",#REF!, 3, 0)","v":{"$error":"#REF!"}},{"$f":"$C45* VLOOKUP(\"Комнатный регулятор\",#REF!,3,0)","v":{"$error":"#REF!"}},null,{"$error":"#REF!"},""]
[null,null,null,"шт.",39750,18000,0,0,0,null,{"$f":"$C46* VLOOKUP(\"0020092430 Автоматический регулятор отопления CalorMATIC 630/3\",#REF!, 3, 0)","v":{"$error":"#REF!"}},{"$f":"$C46* VLOOKUP(\"Комплексное управление котлом для котельной 1 и 2 типа\",#REF!,3,0)","v":{"$error":"#REF!"}},{"$f":"$C46* VLOOKUP(\"Комплексное управление котлом для котельной 1 и 2 типа\",#REF!,4,0)","v":{"$error":"#REF!"}},{"$error":"#REF!"},""]
[null,null,null,"шт.",7100,4900,0,0,0,null,{"$f":"$C47*5500","v":0},{"$f":"$C47* VLOOKUP(\"Установка аквастопа с монтажом эл.вилки\",#REF!,3,0)","v":{"$error":"#REF!"}},{"$f":"$C47* VLOOKUP(\"Установка аквастопа с монтажом эл.вилки\",#REF!,4,0)","v":{"$error":"#REF!"}},{"$error":"#REF!"},""]
[null,null,null,"компл.",81000,58000,0,0,0,null,{"$f":"C48* ( VLOOKUP(\"_Узел подключения Vaillant turbo TEC plus VU 36 кВт (одноконтурный)\",#REF!, 3,0) + VLOOKUP(\"_Узел обвязки, фильтр, слив, трубы\",#REF!, 3,0) + VLOOKUP(\"_Узел подключения к коллекторной системе отопления\",#REF!, 3,0) + VLOOKUP(\"_Узел подпитки\",#REF!, 3,0) + VLOOKUP(\"_Узел расширительного бака NG (отопление)\",#REF!, 3,0) - VLOOKUP(\"0010003993/0010015258 Настенный котел VU INIT 362/5-H турбо одноконтурный 36 кВт\",#REF!, 3, 0))*1.1","v":{"$error":"#REF!"}},{"$f":"$C48* VLOOKUP(\"Обвязка настенного газового котла\",#REF!,3,0)*1.35*0.85","v":{"$error":"#REF!"}},{"$f":"$C48* VLOOKUP(\"Обвязка настенного газового котла\",#REF!,3,0)*1.35*0.15","v":{"$error":"#REF!"}},{"$error":"#REF!"},""]
[null,null,null,"компл.",62520,48000,0,0,0,null,{"$f":"$C49* ( VLOOKUP(\"_Узел подключения Vaillant turbo TEC plus VU 36 кВт (одноконтурный)\",#REF!, 3,0) + VLOOKUP(\"_Узел обвязки, фильтр, слив, трубы\",#REF!, 3,0) + VLOOKUP(\"_Узел подключения к коллекторной системе отопления\",#REF!, 3,0) + VLOOKUP(\"_Узел подпитки\",#REF!, 3,0) + VLOOKUP(\"_Узел расширительного бака NG (отопление)\",#REF!, 3,0) - VLOOKUP(\"0010003993/0010015258 Настенный котел VU INIT 362/5-H турбо одноконтурный 36 кВт\",#REF!, 3, 0))","v":{"$error":"#REF!"}},{"$f":"$C49* VLOOKUP(\"Обвязка настенного газового котла\",#REF!,3,0)*0.85","v":{"$error":"#REF!"}},{"$f":"$C49* VLOOKUP(\"Обвязка настенного газового котла\",#REF!,3,0)*0.15","v":{"$error":"#REF!"}},{"$error":"#REF!"},""]
[null,null,null,"компл.",0,0,0,0,0,null,{"$f":"$C50* ( VLOOKUP(\"_Узел подключения Vaillant turbo TEC plus VU 36 кВт (одноконтурный)\",#REF!, 3,0) + VLOOKUP(\"_Узел обвязки, фильтр, слив, трубы\",#REF!, 3,0) + VLOOKUP(\"_Узел подключения к коллекторной системе отопления\",#REF!, 3,0) + VLOOKUP(\"_Узел подпитки\",#REF!, 3,0) + VLOOKUP(\"_Узел расширительного бака NG (отопление)\",#REF!, 3,0) - VLOOKUP(\"0010003993/0010015258 Настенный котел VU INIT 362/5-H турбо одноконтурный 36 кВт\",#REF!, 3, 0))*0.1","v":{"$error":"#REF!"}},{"$f":"$C50* VLOOKUP(\"Обвязка настенного газового котла\",#REF!,3,0)*0.35*0.85","v":{"$error":"#REF!"}},{"$f":"$C50* VLOOKUP(\"Обвязка настенного газового котла\",#REF!,3,0)*0.35*0.15","v":{"$error":"#REF!"}},{"$error":"#REF!"},""]
[null,null,null,"компл.",null,null,0,{"$f":"F51*C51*N25","v":0},0,null,null,null,null,null,""]
[null,null,null,"компл.",null,null,0,{"$f":"F52*C52*N26","v":0},0,null,null,null,null,null,""]
[null,null,null,"компл.",73280,58000,0,{"$f":"F53*C53","v":0},0,null,{"$f":"$C53* (VLOOKUP(\"_Узел обвязки бойлера Vaillant 300л  БЕЗ ЦИРКУЛЯЦИИ\",#REF!, 3,0) + VLOOKUP(\"_Узел подключения к ХВС и ГВС\",#REF!, 3,0) - VLOOKUP(\"0010003077 Емкостный водонагреваетль косвенного нагрева uniSTOR VIH R 300\",#REF!, 3, 0) )*1.1","v":{"$error":"#REF!"}},{"$f":"$C53* VLOOKUP(\"Обвязка бойлера косвенного нагрева\",#REF!,3,0)*1.35*0.85","v":{"$error":"#REF!"}},{"$f":"$C53* VLOOKUP(\"Обвязка бойлера косвенного нагрева\",#REF!,3,0)*1.35*0.15","v":{"$error":"#REF!"}},{"$f":"SUM(K53:M53)","v":{"$error":"#REF!"}},""]
[null,null,null,"компл.",54880,48000,0,0,0,null,{"$f":"$C54* (VLOOKUP(\"_Узел обвязки бойлера Vaillant 300л  БЕЗ ЦИРКУЛЯЦИИ\",#REF!, 3,0) + VLOOKUP(\"_Узел подключения к ХВС и ГВС\",#REF!, 3,0) - VLOOKUP(\"0010003077 Емкостный водонагреваетль косвенного нагрева uniSTOR VIH R 300\",#REF!, 3, 0) )","v":{"$error":"#REF!"}},{"$f":"$C54* VLOOKUP(\"Обвязка бойлера косвенного нагрева\",#REF!,3,0)*0.85","v":{"$error":"#REF!"}},{"$f":"$C54* VLOOKUP(\"Обвязка бойлера косвенного нагрева\",#REF!,3,0)*0.15","v":{"$error":"#REF!"}},{"$error":"#REF!"},""]
[null,null,null,"компл.",26800,18000,0,0,0,null,{"$f":"$C55* VLOOKUP(\"Узел подключения бойлера косвенного нагрвева к электрическому котлу\",#REF!, 3, 0)","v":{"$error":"#REF!"}},{"$f":"$C55* VLOOKUP(\"Обвязка электрического котла\",#REF!,3,0)*0.85","v":{"$error":"#REF!"}},{"$f":"$C55* VLOOKUP(\"Обвязка электрического котла\",#REF!,3,0)*0.15","v":{"$error":"#REF!"}},{"$error":"#REF!"},""]
[null,null,null,"компл.",42680,38000,0,0,0,null,{"$f":"$C56* ( VLOOKUP(\"_ОПЦИЯ! Узел обвязки котла Protherm Скат KR  300415\",#REF!, 3,0) + VLOOKUP(\"_Узел обвязки, фильтр, слив, трубы\",#REF!, 3,0) + VLOOKUP(\"_Узел подключения к коллекторной системе отопления\",#REF!, 3,0) + VLOOKUP(\"_Узел подпитки\",#REF!, 3,0) + VLOOKUP(\"_Узел расширительного бака NG (отопление)\",#REF!, 3,0) - VLOOKUP(\"0010008953 Котел электрический Скат 12KR 13 12 кВт 380 В\",#REF!, 3, 0) )","v":{"$error":"#REF!"}},{"$f":"$C56* VLOOKUP(\"Обвязка электрического котла\",#REF!,3,0)*0.85","v":{"$error":"#REF!"}},{"$f":"$C56* VLOOKUP(\"Обвязка электрического котла\",#REF!,3,0)*0.15","v":{"$error":"#REF!"}},{"$error":"#REF!"},""]
[null,null,null,"компл.",195000,98000,0,0,0,null,{"$f":"$C57* (VLOOKUP(\"_Узел подключения КАСКАДА Vaillant turbo TEC plus VU 36 кВт (одноконтурный)\",#REF!, 3,0) + VLOOKUP(\"_Узел обвязки, фильтры, слив, трубы для КАСКАДА\",#REF!, 3,0) + VLOOKUP(\"_Узел подключения к коллекторной системе отопления\",#REF!, 3,0) + VLOOKUP(\"_Узел подпитки\",#REF!, 3,0) + VLOOKUP(\"_Узел расширительного бака NG (отопление)\",#REF!, 3,0) + VLOOKUP(\"_Узел подключения распределительной гребенки\",#REF!, 3,0) )*0.7","v":{"$error":"#REF!"}},{"$f":"$C57* ( VLOOKUP(\"Обвязка настенного газового котла\",#REF!,3,0)*2+ VLOOKUP(\"Обвязка бойлера косвенного нагрева\",#REF!,3,0) )*0.85*0.7","v":{"$error":"#REF!"}},{"$f":"$C57* ( VLOOKUP(\"Обвязка настенного газового котла\",#REF!,3,0)*2+ VLOOKUP(\"Обвязка бойлера косвенного нагрева\",#REF!,3,0) )*0.15*0.7","v":{"$error":"#REF!"}},{"$error":"#REF!"},""]
[null,null,null,"компл.",53000,69000,0,0,0,null,{"$f":"$C58* (VLOOKUP(\"_Узел подключения КАСКАДА Vaillant turbo TEC plus VU 36 кВт (одноконтурный)\",#REF!, 3,0) + VLOOKUP(\"_Узел обвязки, фильтры, слив, трубы для КАСКАДА\",#REF!, 3,0) + VLOOKUP(\"_Узел подключения к коллекторной системе отопления\",#REF!, 3,0) + VLOOKUP(\"_Узел подпитки\",#REF!, 3,0) + VLOOKUP(\"_Узел расширительного бака NG (отопление)\",#REF!, 3,0) + VLOOKUP(\"_Узел подключения распределительной гребенки\",#REF!, 3,0) )*0.3","v":{"$error":"#REF!"}},{"$f":"$C58* ( VLOOKUP(\"Обвязка настенного газового котла\",#REF!,3,0)*2+ VLOOKUP(\"Обвязка бойлера косвенного нагрева\",#REF!,3,0) )*0.85*0.3","v":{"$error":"#REF!"}},{"$f":"$C58* ( VLOOKUP(\"Обвязка настенного газового котла\",#REF!,3,0)*2+ VLOOKUP(\"Обвязка бойлера косвенного нагрева\",#REF!,3,0) )*0.15*0.3","v":{"$error":"#REF!"}},{"$error":"#REF!"},""]
[null,null,null,"компл.",19750,9000,0,0,0,null,{"$f":"$C59* VLOOKUP(\"_ОПЦИЯ!Узел обвязки циркуляции ГВС\",#REF!,3,0)","v":{"$error":"#REF!"}},{"$f":"$C59*2500","v":0},{"$f":"$C59*500","v":0},{"$error":"#REF!"},""]
[null,null,null,"компл.",21480,7000,0,0,0,null,{"$f":"$C60* ( VLOOKUP(\"_Узел ввода воды с поливом \",#REF!,3,0) - VLOOKUP(\"98300072 Кабель саморег. DPH-10 4 м, 40 Вт\",#REF!, 3,0) - VLOOKUP(\"19805366 Муфта для кабеля в трубу\",#REF!, 3,0) - VLOOKUP(\"Тройник ВР, латунь1 \",#REF!, 3,0) )","v":{"$error":"#REF!"}},{"$f":"$C60*2800","v":0},{"$f":"$C60*700","v":0},{"$error":"#REF!"},""]
[null,null,null,"компл.",12050,5500,0,0,0,null,{"$f":"$C61* VLOOKUP(\"ОПЦИЯ! Подключение гидроаккумулятора с реле давления\",#REF!,3,0)","v":{"$error":"#REF!"}},{"$f":"$C61*1500","v":0},{"$f":"$C61*300","v":0},{"$error":"#REF!"},""]
[null,null,null,"компл.",14080,3500,0,0,0,null,{"$f":"$C62* ( VLOOKUP(\"98300072 Кабель саморег. DPH-10 4 м, 40 Вт\",#REF!, 3,0) + VLOOKUP(\"19805366 Муфта для кабеля в трубу\",#REF!, 3,0) + VLOOKUP(\"Тройник ВР, латунь1 \",#REF!, 3,0) )","v":{"$error":"#REF!"}},{"$f":"$C62*840","v":0},{"$f":"$C62*136","v":0},{"$error":"#REF!"},""]
[null,null,null,"компл.",44000,24000,0,0,0,null,{"$f":"$C63* (VLOOKUP(\"_ОПЦИЯ! Узел системы Теплый пол с насосной группой Meibes Thermix  (термостатический привод смесителя)\",#REF!,3,0) + VLOOKUP(\"_ОПЦИЯ!  Узел подключения насосной группы MK с термостатом для теплых полов\",#REF!,3,0)*T134)","v":{"$error":"#REF!"}},{"$f":"$C63*6000","v":0},{"$f":"$C63*1000","v":0},{"$error":"#REF!"},""]
[null,null,null,"шт.",9750,1750,0,0,0,null,{"$f":"$C64* VLOOKUP(\"Стабилизатор АРС 1000\",#REF!, 3, 0)","v":{"$error":"#REF!"}},{"$f":"$C64*1121","v":0},{"$f":"$C64*196","v":0},{"$error":"#REF!"},""]
[null,null,null,"компл.",12800,5000,0,0,0,null,{"$f":"$C65* VLOOKUP(\"0020053226 Комплект для перенастройки котлов на  сжиженный пропан/бутан для 32,36кВт\",#REF!, 3, 0)","v":{"$error":"#REF!"}},{"$f":"$C65*2500","v":0},{"$f":"$C65*500","v":0},{"$error":"#REF!"},""]
["Итого материал:                                                                                                                                                                                                                                                              ",null,null,null,null,null,null,null,{"$f":"SUM(G11:G26)","v":0},null,null,null,null,{"$f":"SUM(K23:K65)","v":{"$error":"#REF!"}}]
["Работа:                                                                                                                                                                                                                                                                              ",null,null,null,null,null,null,null,{"$f":"SUM(H11:H26)","v":0},null,null,null,null,{"$f":"SUM(L23:M65)","v":{"$error":"#REF!"}}]
["Дополнительно"]
["Материалы/услуги","Описание","Кол-во","Ед.изм","Стоимость единицы, руб",null,"Материал, руб","Работа, руб ","Всего, руб"]
[null,null,null,null,"материалы","работа"]
["Личный кабинет"," Личный кабинет - это онлайн сервис, позволяющий следить за ходом строительства, видеть этапы работ, фотографии со строительной площадки и отчёты технического надзора. Кроме этого вы легко найдете в своем личном кабинете контакты всех исполнителей и менеджеров.",null,"Усл.",null,null,null,null,0]
["Пуско-наладочные работы","Работы по вводу системы ОВВК в эксплуатацию. *При условии покупки котельной.",null,"Усл.",null,null,null,null,0]
["Проходные отверстия в плите",null,null,"шт.",0,10000,{"$f":"E73*C73","v":0},{"$f":"F73*C73","v":0},{"$f":"H73+G73","v":0}]
["Вывоз мусора","После окончания работ, вывозится весь строительный мусор который образовался в процессе работы.",1,"Усл.",null,2000,0,1000,{"$f":"H74*C74","v":1000}]
["Подготовительные работы","Включают разработку проектной рабочей документации, аренду биотуалета и приемку каждого этапа работ инженерами технического надзора.",1,"Усл.",null,null,0,{"$f":"ROUNDUP((I66+I67)*0.035,-2)","v":0},{"$f":"H75*C75","v":0},null,null,{"$f":"1500*ROUNDUP((I66+I67)/1000000,0)","v":0},{"$f":"500*ROUNDUP((I66+I67)/1000000,0)","v":0}]
["Транспортные расходы","Доставка оборудования и материалов на объект",1,"усл.",10000,null,0,{"$f":"ROUNDUP((I66+I67)*0.005+5500,-3)","v":6000},{"$f":"H76*C76","v":6000},null,{"$f":"3800 + 3800*ROUNDDOWN((I66+I67)/1000000,0)","v":3800}]
["Доставка бытовки на объект","Если есть такая необходимость, мы предоставляем бытовку для проживания на объекте строителей. После окончания работ, бытовка вывозится.",null,"км от мкад",5000,100,0,null,{"$f":"IF(C77>=1,E77+(F77*C77),0)","v":0}]
["Скидка :"]
["Итого по смете:",null,null,null,null,null,null,null,{"$f":"I66+I67+I74+I72+I75+I76+I77-I78+I73","v":7000},null,{"$f":"SUM(K11:K65,K75:K77)","v":{"$error":"#REF!"}},{"$f":"SUM(L23:L65,L75:L77)","v":{"$error":"#REF!"}},{"$f":"SUM(M23:M65,M75:M77)","v":{"$error":"#REF!"}},{"$f":"SUM(K79:M79,N75:N77)","v":{"$error":"#REF!"}},{"$f":"1-N79/I79","v":{"$error":"#REF!"}}]
[]
["Техническое обслуживание не предусмотрено сметой"]
[]
["Не учтены материалы по пуско-наладке системы (выносится в отдельный договор по факту готовности объекта) "]
[]
[]
["Заказчик:"]
[]
["Подрядчик:"]